BEGIN:VCALENDAR
VERSION:2.0
PRODID:-//Ottawa Rowing Club - ECPv6.15.20//NONSGML v1.0//EN
CALSCALE:GREGORIAN
METHOD:PUBLISH
X-WR-CALNAME:Ottawa Rowing Club
X-ORIGINAL-URL:https://ottawarowingclub.com
X-WR-CALDESC:Events for Ottawa Rowing Club
REFRESH-INTERVAL;VALUE=DURATION:PT1H
X-Robots-Tag:noindex
X-PUBLISHED-TTL:PT1H
BEGIN:VTIMEZONE
TZID:America/New_York
BEGIN:DAYLIGHT
TZOFFSETFROM:-0500
TZOFFSETTO:-0400
TZNAME:EDT
DTSTART:20250309T070000
END:DAYLIGHT
BEGIN:STANDARD
TZOFFSETFROM:-0400
TZOFFSETTO:-0500
TZNAME:EST
DTSTART:20251102T060000
END:STANDARD
BEGIN:DAYLIGHT
TZOFFSETFROM:-0500
TZOFFSETTO:-0400
TZNAME:EDT
DTSTART:20260308T070000
END:DAYLIGHT
BEGIN:STANDARD
TZOFFSETFROM:-0400
TZOFFSETTO:-0500
TZNAME:EST
DTSTART:20261101T060000
END:STANDARD
BEGIN:DAYLIGHT
TZOFFSETFROM:-0500
TZOFFSETTO:-0400
TZNAME:EDT
DTSTART:20270314T070000
END:DAYLIGHT
BEGIN:STANDARD
TZOFFSETFROM:-0400
TZOFFSETTO:-0500
TZNAME:EST
DTSTART:20271107T060000
END:STANDARD
END:VTIMEZONE
BEGIN:VEVENT
DTSTART;TZID=America/New_York:20261001T050000
DTEND;TZID=America/New_York:20261001T070000
DTSTAMP:20260420T105529
CREATED:20260115T205402Z
LAST-MODIFIED:20260420T144434Z
UID:10000643-1790830800-1790838000@ottawarowingclub.com
SUMMARY:Seniors
DESCRIPTION:
URL:https://ottawarowingclub.com/event/seniors-121/
CATEGORIES:Senior and University
END:VEVENT
BEGIN:VEVENT
DTSTART;TZID=America/New_York:20261001T073000
DTEND;TZID=America/New_York:20261001T093000
DTSTAMP:20260420T105529
CREATED:20260416T152841Z
LAST-MODIFIED:20260420T142921Z
UID:10001695-1790839800-1790847000@ottawarowingclub.com
SUMMARY:Daylight Masters
DESCRIPTION:
URL:https://ottawarowingclub.com/event/daylight-masters-60/
CATEGORIES:Masters
END:VEVENT
BEGIN:VEVENT
DTSTART;TZID=America/New_York:20261001T161500
DTEND;TZID=America/New_York:20261001T183000
DTSTAMP:20260420T105529
CREATED:20260414T215310Z
LAST-MODIFIED:20260420T143327Z
UID:10001615-1790871300-1790879400@ottawarowingclub.com
SUMMARY:Junior Crew
DESCRIPTION:
URL:https://ottawarowingclub.com/event/junior-crew-80/
CATEGORIES:Junior
END:VEVENT
BEGIN:VEVENT
DTSTART;TZID=America/New_York:20261001T163000
DTEND;TZID=America/New_York:20261001T183000
DTSTAMP:20260420T105529
CREATED:20260414T215310Z
LAST-MODIFIED:20260420T143327Z
UID:10001614-1790872200-1790879400@ottawarowingclub.com
SUMMARY:Junior Development
DESCRIPTION:
URL:https://ottawarowingclub.com/event/junior-development-61/
CATEGORIES:Junior
END:VEVENT
BEGIN:VEVENT
DTSTART;TZID=America/New_York:20261001T180000
DTEND;TZID=America/New_York:20261001T200000
DTSTAMP:20260420T105529
CREATED:20260206T133758Z
LAST-MODIFIED:20260419T224307Z
UID:10001128-1790877600-1790884800@ottawarowingclub.com
SUMMARY:Club + Development
DESCRIPTION:
URL:https://ottawarowingclub.com/event/club-development-24/
CATEGORIES:Club Rowing
END:VEVENT
BEGIN:VEVENT
DTSTART;TZID=America/New_York:20261002T050000
DTEND;TZID=America/New_York:20261002T070000
DTSTAMP:20260420T105529
CREATED:20260115T205402Z
LAST-MODIFIED:20260420T144434Z
UID:10000644-1790917200-1790924400@ottawarowingclub.com
SUMMARY:Seniors
DESCRIPTION:
URL:https://ottawarowingclub.com/event/seniors-122/
CATEGORIES:Senior and University
END:VEVENT
BEGIN:VEVENT
DTSTART;TZID=America/New_York:20261002T161500
DTEND;TZID=America/New_York:20261002T183000
DTSTAMP:20260420T105529
CREATED:20260414T215310Z
LAST-MODIFIED:20260420T143327Z
UID:10001616-1790957700-1790965800@ottawarowingclub.com
SUMMARY:Junior Performance
DESCRIPTION:
URL:https://ottawarowingclub.com/event/junior-performance-94/
CATEGORIES:Junior
END:VEVENT
BEGIN:VEVENT
DTSTART;VALUE=DATE:20261003
DTEND;VALUE=DATE:20261005
DTSTAMP:20260420T105529
CREATED:20260115T204858Z
LAST-MODIFIED:20260417T192644Z
UID:10000485-1790985600-1791158399@ottawarowingclub.com
SUMMARY:Head of the Trent
DESCRIPTION:
URL:https://ottawarowingclub.com/event/head-of-the-trent/
CATEGORIES:Regattas
END:VEVENT
BEGIN:VEVENT
DTSTART;TZID=America/New_York:20261003T060000
DTEND;TZID=America/New_York:20261003T080000
DTSTAMP:20260420T105529
CREATED:20260115T205403Z
LAST-MODIFIED:20260420T144434Z
UID:10000645-1791007200-1791014400@ottawarowingclub.com
SUMMARY:Seniors
DESCRIPTION:
URL:https://ottawarowingclub.com/event/seniors-123/
CATEGORIES:Senior and University
END:VEVENT
BEGIN:VEVENT
DTSTART;TZID=America/New_York:20261003T063000
DTEND;TZID=America/New_York:20261003T103000
DTSTAMP:20260420T105529
CREATED:20260414T215310Z
LAST-MODIFIED:20260420T143327Z
UID:10001618-1791009000-1791023400@ottawarowingclub.com
SUMMARY:Junior Performance
DESCRIPTION:
URL:https://ottawarowingclub.com/event/junior-performance-95/
CATEGORIES:Junior
END:VEVENT
BEGIN:VEVENT
DTSTART;TZID=America/New_York:20261003T063000
DTEND;TZID=America/New_York:20261003T103000
DTSTAMP:20260420T105529
CREATED:20260414T215310Z
LAST-MODIFIED:20260420T143327Z
UID:10001617-1791009000-1791023400@ottawarowingclub.com
SUMMARY:Junior Crew
DESCRIPTION:
URL:https://ottawarowingclub.com/event/junior-crew-81/
CATEGORIES:Junior
END:VEVENT
BEGIN:VEVENT
DTSTART;TZID=America/New_York:20261003T080000
DTEND;TZID=America/New_York:20261003T100000
DTSTAMP:20260420T105529
CREATED:20260215T171000Z
LAST-MODIFIED:20260420T142921Z
UID:10001303-1791014400-1791021600@ottawarowingclub.com
SUMMARY:Masters
DESCRIPTION:
URL:https://ottawarowingclub.com/event/masters-60/
CATEGORIES:Masters
END:VEVENT
BEGIN:VEVENT
DTSTART;TZID=America/New_York:20261004T080000
DTEND;TZID=America/New_York:20261004T100000
DTSTAMP:20260420T105529
CREATED:20260206T133758Z
LAST-MODIFIED:20260419T224307Z
UID:10001129-1791100800-1791108000@ottawarowingclub.com
SUMMARY:Club
DESCRIPTION:
URL:https://ottawarowingclub.com/event/club-41/
CATEGORIES:Club Rowing
END:VEVENT
BEGIN:VEVENT
DTSTART;TZID=America/New_York:20261005T050000
DTEND;TZID=America/New_York:20261005T070000
DTSTAMP:20260420T105529
CREATED:20260115T205403Z
LAST-MODIFIED:20260420T144435Z
UID:10000646-1791176400-1791183600@ottawarowingclub.com
SUMMARY:Seniors
DESCRIPTION:
URL:https://ottawarowingclub.com/event/seniors-124/
CATEGORIES:Senior and University
END:VEVENT
BEGIN:VEVENT
DTSTART;TZID=America/New_York:20261005T161500
DTEND;TZID=America/New_York:20261005T183000
DTSTAMP:20260420T105529
CREATED:20260414T215311Z
LAST-MODIFIED:20260420T143328Z
UID:10001619-1791216900-1791225000@ottawarowingclub.com
SUMMARY:Junior Crew
DESCRIPTION:
URL:https://ottawarowingclub.com/event/junior-crew-82/
CATEGORIES:Junior
END:VEVENT
BEGIN:VEVENT
DTSTART;TZID=America/New_York:20261005T161500
DTEND;TZID=America/New_York:20261005T183000
DTSTAMP:20260420T105529
CREATED:20260414T215324Z
LAST-MODIFIED:20260420T143327Z
UID:10001620-1791216900-1791225000@ottawarowingclub.com
SUMMARY:Junior Performance
DESCRIPTION:
URL:https://ottawarowingclub.com/event/junior-performance-96/
CATEGORIES:Junior
END:VEVENT
BEGIN:VEVENT
DTSTART;TZID=America/New_York:20261005T163000
DTEND;TZID=America/New_York:20261005T183000
DTSTAMP:20260420T105529
CREATED:20260414T215324Z
LAST-MODIFIED:20260420T143327Z
UID:10001621-1791217800-1791225000@ottawarowingclub.com
SUMMARY:Junior Development
DESCRIPTION:
URL:https://ottawarowingclub.com/event/junior-development-62/
CATEGORIES:Junior
END:VEVENT
BEGIN:VEVENT
DTSTART;TZID=America/New_York:20261005T181500
DTEND;TZID=America/New_York:20261005T201500
DTSTAMP:20260420T105529
CREATED:20260215T171000Z
LAST-MODIFIED:20260420T142921Z
UID:10001304-1791224100-1791231300@ottawarowingclub.com
SUMMARY:Masters
DESCRIPTION:
URL:https://ottawarowingclub.com/event/masters-61/
CATEGORIES:Masters
END:VEVENT
BEGIN:VEVENT
DTSTART;TZID=America/New_York:20261006T050000
DTEND;TZID=America/New_York:20261006T070000
DTSTAMP:20260420T105529
CREATED:20260115T205403Z
LAST-MODIFIED:20260420T144435Z
UID:10000647-1791262800-1791270000@ottawarowingclub.com
SUMMARY:Seniors
DESCRIPTION:
URL:https://ottawarowingclub.com/event/seniors-125/
CATEGORIES:Senior and University
END:VEVENT
BEGIN:VEVENT
DTSTART;TZID=America/New_York:20261006T161500
DTEND;TZID=America/New_York:20261006T183000
DTSTAMP:20260420T105529
CREATED:20260414T215324Z
LAST-MODIFIED:20260420T143328Z
UID:10001622-1791303300-1791311400@ottawarowingclub.com
SUMMARY:Junior Crew
DESCRIPTION:
URL:https://ottawarowingclub.com/event/junior-crew-83/
CATEGORIES:Junior
END:VEVENT
BEGIN:VEVENT
DTSTART;TZID=America/New_York:20261006T161500
DTEND;TZID=America/New_York:20261006T183000
DTSTAMP:20260420T105529
CREATED:20260414T215325Z
LAST-MODIFIED:20260420T143328Z
UID:10001623-1791303300-1791311400@ottawarowingclub.com
SUMMARY:Junior Performance
DESCRIPTION:
URL:https://ottawarowingclub.com/event/junior-performance-97/
CATEGORIES:Junior
END:VEVENT
BEGIN:VEVENT
DTSTART;TZID=America/New_York:20261006T180000
DTEND;TZID=America/New_York:20261006T200000
DTSTAMP:20260420T105529
CREATED:20260206T133759Z
LAST-MODIFIED:20260419T224308Z
UID:10001130-1791309600-1791316800@ottawarowingclub.com
SUMMARY:Club
DESCRIPTION:
URL:https://ottawarowingclub.com/event/club-42/
CATEGORIES:Club Rowing
END:VEVENT
BEGIN:VEVENT
DTSTART;TZID=America/New_York:20261007T050000
DTEND;TZID=America/New_York:20261007T070000
DTSTAMP:20260420T105529
CREATED:20260115T205403Z
LAST-MODIFIED:20260420T144435Z
UID:10000648-1791349200-1791356400@ottawarowingclub.com
SUMMARY:Seniors
DESCRIPTION:
URL:https://ottawarowingclub.com/event/seniors-126/
CATEGORIES:Senior and University
END:VEVENT
BEGIN:VEVENT
DTSTART;TZID=America/New_York:20261007T161500
DTEND;TZID=America/New_York:20261007T183000
DTSTAMP:20260420T105529
CREATED:20260414T215325Z
LAST-MODIFIED:20260420T143341Z
UID:10001624-1791389700-1791397800@ottawarowingclub.com
SUMMARY:Junior Performance
DESCRIPTION:
URL:https://ottawarowingclub.com/event/junior-performance-98/
CATEGORIES:Junior
END:VEVENT
BEGIN:VEVENT
DTSTART;TZID=America/New_York:20261007T163000
DTEND;TZID=America/New_York:20261007T183000
DTSTAMP:20260420T105529
CREATED:20260414T215325Z
LAST-MODIFIED:20260420T143341Z
UID:10001625-1791390600-1791397800@ottawarowingclub.com
SUMMARY:Junior Development
DESCRIPTION:
URL:https://ottawarowingclub.com/event/junior-development-63/
CATEGORIES:Junior
END:VEVENT
BEGIN:VEVENT
DTSTART;TZID=America/New_York:20261007T181500
DTEND;TZID=America/New_York:20261007T201500
DTSTAMP:20260420T105529
CREATED:20260215T171017Z
LAST-MODIFIED:20260420T142921Z
UID:10001307-1791396900-1791404100@ottawarowingclub.com
SUMMARY:Masters
DESCRIPTION:
URL:https://ottawarowingclub.com/event/masters-62/
CATEGORIES:Masters
END:VEVENT
BEGIN:VEVENT
DTSTART;TZID=America/New_York:20261008T050000
DTEND;TZID=America/New_York:20261008T070000
DTSTAMP:20260420T105529
CREATED:20260115T205403Z
LAST-MODIFIED:20260420T144447Z
UID:10000649-1791435600-1791442800@ottawarowingclub.com
SUMMARY:Seniors
DESCRIPTION:
URL:https://ottawarowingclub.com/event/seniors-127/
CATEGORIES:Senior and University
END:VEVENT
BEGIN:VEVENT
DTSTART;TZID=America/New_York:20261008T161500
DTEND;TZID=America/New_York:20261008T183000
DTSTAMP:20260420T105529
CREATED:20260414T215325Z
LAST-MODIFIED:20260420T143341Z
UID:10001627-1791476100-1791484200@ottawarowingclub.com
SUMMARY:Junior Crew
DESCRIPTION:
URL:https://ottawarowingclub.com/event/junior-crew-84/
CATEGORIES:Junior
END:VEVENT
BEGIN:VEVENT
DTSTART;TZID=America/New_York:20261008T163000
DTEND;TZID=America/New_York:20261008T183000
DTSTAMP:20260420T105529
CREATED:20260414T215325Z
LAST-MODIFIED:20260420T143341Z
UID:10001626-1791477000-1791484200@ottawarowingclub.com
SUMMARY:Junior Development
DESCRIPTION:
URL:https://ottawarowingclub.com/event/junior-development-64/
CATEGORIES:Junior
END:VEVENT
BEGIN:VEVENT
DTSTART;TZID=America/New_York:20261008T180000
DTEND;TZID=America/New_York:20261008T200000
DTSTAMP:20260420T105529
CREATED:20260206T133759Z
LAST-MODIFIED:20260419T224308Z
UID:10001131-1791482400-1791489600@ottawarowingclub.com
SUMMARY:Club
DESCRIPTION:
URL:https://ottawarowingclub.com/event/club-43/
CATEGORIES:Club Rowing
END:VEVENT
END:VCALENDAR