BEGIN:VCALENDAR
VERSION:2.0
PRODID:-//Ottawa Rowing Club - ECPv6.15.20//NONSGML v1.0//EN
CALSCALE:GREGORIAN
METHOD:PUBLISH
X-WR-CALNAME:Ottawa Rowing Club
X-ORIGINAL-URL:https://ottawarowingclub.com
X-WR-CALDESC:Events for Ottawa Rowing Club
REFRESH-INTERVAL;VALUE=DURATION:PT1H
X-Robots-Tag:noindex
X-PUBLISHED-TTL:PT1H
BEGIN:VTIMEZONE
TZID:America/New_York
BEGIN:DAYLIGHT
TZOFFSETFROM:-0500
TZOFFSETTO:-0400
TZNAME:EDT
DTSTART:20250309T070000
END:DAYLIGHT
BEGIN:STANDARD
TZOFFSETFROM:-0400
TZOFFSETTO:-0500
TZNAME:EST
DTSTART:20251102T060000
END:STANDARD
BEGIN:DAYLIGHT
TZOFFSETFROM:-0500
TZOFFSETTO:-0400
TZNAME:EDT
DTSTART:20260308T070000
END:DAYLIGHT
BEGIN:STANDARD
TZOFFSETFROM:-0400
TZOFFSETTO:-0500
TZNAME:EST
DTSTART:20261101T060000
END:STANDARD
BEGIN:DAYLIGHT
TZOFFSETFROM:-0500
TZOFFSETTO:-0400
TZNAME:EDT
DTSTART:20270314T070000
END:DAYLIGHT
BEGIN:STANDARD
TZOFFSETFROM:-0400
TZOFFSETTO:-0500
TZNAME:EST
DTSTART:20271107T060000
END:STANDARD
END:VTIMEZONE
BEGIN:VEVENT
DTSTART;TZID=America/New_York:20260901T050000
DTEND;TZID=America/New_York:20260901T070000
DTSTAMP:20260420T180243
CREATED:20260115T205318Z
LAST-MODIFIED:20260420T212837Z
UID:10000618-1788238800-1788246000@ottawarowingclub.com
SUMMARY:Seniors
DESCRIPTION:
URL:https://ottawarowingclub.com/event/seniors-96/
CATEGORIES:Senior and University
END:VEVENT
BEGIN:VEVENT
DTSTART;TZID=America/New_York:20260901T073000
DTEND;TZID=America/New_York:20260901T093000
DTSTAMP:20260420T180243
CREATED:20260416T152759Z
LAST-MODIFIED:20260420T214324Z
UID:10001686-1788247800-1788255000@ottawarowingclub.com
SUMMARY:Daylight Masters
DESCRIPTION:
URL:https://ottawarowingclub.com/event/daylight-masters-51/
CATEGORIES:Masters
END:VEVENT
BEGIN:VEVENT
DTSTART;TZID=America/New_York:20260901T180000
DTEND;TZID=America/New_York:20260901T200000
DTSTAMP:20260420T180243
CREATED:20260206T133743Z
LAST-MODIFIED:20260419T224254Z
UID:10001115-1788285600-1788292800@ottawarowingclub.com
SUMMARY:Club + Development
DESCRIPTION:
URL:https://ottawarowingclub.com/event/club-development-15/
CATEGORIES:Club Rowing
END:VEVENT
BEGIN:VEVENT
DTSTART;TZID=America/New_York:20260902T050000
DTEND;TZID=America/New_York:20260902T070000
DTSTAMP:20260420T180243
CREATED:20260115T205318Z
LAST-MODIFIED:20260420T212851Z
UID:10000619-1788325200-1788332400@ottawarowingclub.com
SUMMARY:Seniors
DESCRIPTION:
URL:https://ottawarowingclub.com/event/seniors-97/
CATEGORIES:Senior and University
END:VEVENT
BEGIN:VEVENT
DTSTART;TZID=America/New_York:20260902T181500
DTEND;TZID=America/New_York:20260902T201500
DTSTAMP:20260420T180243
CREATED:20260215T170900Z
LAST-MODIFIED:20260420T214338Z
UID:10001273-1788372900-1788380100@ottawarowingclub.com
SUMMARY:Masters
DESCRIPTION:
URL:https://ottawarowingclub.com/event/masters-48/
CATEGORIES:Masters
END:VEVENT
BEGIN:VEVENT
DTSTART;TZID=America/New_York:20260903T050000
DTEND;TZID=America/New_York:20260903T070000
DTSTAMP:20260420T180243
CREATED:20260115T205318Z
LAST-MODIFIED:20260420T212851Z
UID:10000620-1788411600-1788418800@ottawarowingclub.com
SUMMARY:Seniors
DESCRIPTION:
URL:https://ottawarowingclub.com/event/seniors-98/
CATEGORIES:Senior and University
END:VEVENT
BEGIN:VEVENT
DTSTART;TZID=America/New_York:20260903T073000
DTEND;TZID=America/New_York:20260903T093000
DTSTAMP:20260420T180243
CREATED:20260416T152813Z
LAST-MODIFIED:20260420T214338Z
UID:10001687-1788420600-1788427800@ottawarowingclub.com
SUMMARY:Daylight Masters
DESCRIPTION:
URL:https://ottawarowingclub.com/event/daylight-masters-52/
CATEGORIES:Masters
END:VEVENT
BEGIN:VEVENT
DTSTART;TZID=America/New_York:20260903T180000
DTEND;TZID=America/New_York:20260903T200000
DTSTAMP:20260420T180243
CREATED:20260206T133743Z
LAST-MODIFIED:20260419T224254Z
UID:10001116-1788458400-1788465600@ottawarowingclub.com
SUMMARY:Club + Development
DESCRIPTION:
URL:https://ottawarowingclub.com/event/club-development-16/
CATEGORIES:Club Rowing
END:VEVENT
BEGIN:VEVENT
DTSTART;VALUE=DATE:20260904
DTEND;VALUE=DATE:20260905
DTSTAMP:20260420T180243
CREATED:20260115T205220Z
LAST-MODIFIED:20260417T184200Z
UID:10000581-1788480000-1788566399@ottawarowingclub.com
SUMMARY:Set-up: Russel RG
DESCRIPTION:
URL:https://ottawarowingclub.com/event/set-up-russel-rg/
CATEGORIES:Weddings and Private Events
END:VEVENT
BEGIN:VEVENT
DTSTART;TZID=America/New_York:20260904T050000
DTEND;TZID=America/New_York:20260904T070000
DTSTAMP:20260420T180243
CREATED:20260115T205319Z
LAST-MODIFIED:20260420T212851Z
UID:10000621-1788498000-1788505200@ottawarowingclub.com
SUMMARY:Seniors
DESCRIPTION:
URL:https://ottawarowingclub.com/event/seniors-99/
CATEGORIES:Senior and University
END:VEVENT
BEGIN:VEVENT
DTSTART;VALUE=DATE:20260905
DTEND;VALUE=DATE:20260906
DTSTAMP:20260420T180244
CREATED:20260115T205220Z
LAST-MODIFIED:20260417T184200Z
UID:10000580-1788566400-1788652799@ottawarowingclub.com
SUMMARY:Wedding: Russel RG
DESCRIPTION:
URL:https://ottawarowingclub.com/event/wedding-russel-rg/
CATEGORIES:Weddings and Private Events
END:VEVENT
BEGIN:VEVENT
DTSTART;TZID=America/New_York:20260905T060000
DTEND;TZID=America/New_York:20260905T080000
DTSTAMP:20260420T180244
CREATED:20260115T205319Z
LAST-MODIFIED:20260420T212851Z
UID:10000622-1788588000-1788595200@ottawarowingclub.com
SUMMARY:Seniors
DESCRIPTION:
URL:https://ottawarowingclub.com/event/seniors-100/
CATEGORIES:Senior and University
END:VEVENT
BEGIN:VEVENT
DTSTART;TZID=America/New_York:20260905T080000
DTEND;TZID=America/New_York:20260905T100000
DTSTAMP:20260420T180244
CREATED:20260215T170918Z
LAST-MODIFIED:20260420T214338Z
UID:10001276-1788595200-1788602400@ottawarowingclub.com
SUMMARY:Masters
DESCRIPTION:
URL:https://ottawarowingclub.com/event/masters-49/
CATEGORIES:Masters
END:VEVENT
BEGIN:VEVENT
DTSTART;TZID=America/New_York:20260906T080000
DTEND;TZID=America/New_York:20260906T100000
DTSTAMP:20260420T180244
CREATED:20260206T133743Z
LAST-MODIFIED:20260419T224254Z
UID:10001117-1788681600-1788688800@ottawarowingclub.com
SUMMARY:Club
DESCRIPTION:
URL:https://ottawarowingclub.com/event/club-37/
CATEGORIES:Club Rowing
END:VEVENT
BEGIN:VEVENT
DTSTART;TZID=America/New_York:20260908T050000
DTEND;TZID=America/New_York:20260908T070000
DTSTAMP:20260420T180244
CREATED:20260115T205332Z
LAST-MODIFIED:20260420T212851Z
UID:10000623-1788843600-1788850800@ottawarowingclub.com
SUMMARY:Seniors
DESCRIPTION:
URL:https://ottawarowingclub.com/event/seniors-101/
CATEGORIES:Senior and University
END:VEVENT
BEGIN:VEVENT
DTSTART;TZID=America/New_York:20260908T073000
DTEND;TZID=America/New_York:20260908T093000
DTSTAMP:20260420T180244
CREATED:20260416T152813Z
LAST-MODIFIED:20260420T214338Z
UID:10001688-1788852600-1788859800@ottawarowingclub.com
SUMMARY:Daylight Masters
DESCRIPTION:
URL:https://ottawarowingclub.com/event/daylight-masters-53/
CATEGORIES:Masters
END:VEVENT
BEGIN:VEVENT
DTSTART;TZID=America/New_York:20260908T180000
DTEND;TZID=America/New_York:20260908T200000
DTSTAMP:20260420T180244
CREATED:20260206T133744Z
LAST-MODIFIED:20260419T224254Z
UID:10001118-1788890400-1788897600@ottawarowingclub.com
SUMMARY:Club + Development
DESCRIPTION:
URL:https://ottawarowingclub.com/event/club-development-17/
CATEGORIES:Club Rowing
END:VEVENT
BEGIN:VEVENT
DTSTART;TZID=America/New_York:20260909T050000
DTEND;TZID=America/New_York:20260909T070000
DTSTAMP:20260420T180244
CREATED:20260115T205332Z
LAST-MODIFIED:20260420T212851Z
UID:10000624-1788930000-1788937200@ottawarowingclub.com
SUMMARY:Seniors
DESCRIPTION:
URL:https://ottawarowingclub.com/event/seniors-102/
CATEGORIES:Senior and University
END:VEVENT
BEGIN:VEVENT
DTSTART;TZID=America/New_York:20260909T181500
DTEND;TZID=America/New_York:20260909T201500
DTSTAMP:20260420T180244
CREATED:20260215T170918Z
LAST-MODIFIED:20260420T214338Z
UID:10001279-1788977700-1788984900@ottawarowingclub.com
SUMMARY:Masters
DESCRIPTION:
URL:https://ottawarowingclub.com/event/masters-50/
CATEGORIES:Masters
END:VEVENT
BEGIN:VEVENT
DTSTART;TZID=America/New_York:20260910T050000
DTEND;TZID=America/New_York:20260910T070000
DTSTAMP:20260420T180244
CREATED:20260115T205332Z
LAST-MODIFIED:20260420T212851Z
UID:10000625-1789016400-1789023600@ottawarowingclub.com
SUMMARY:Seniors
DESCRIPTION:
URL:https://ottawarowingclub.com/event/seniors-103/
CATEGORIES:Senior and University
END:VEVENT
BEGIN:VEVENT
DTSTART;TZID=America/New_York:20260910T073000
DTEND;TZID=America/New_York:20260910T093000
DTSTAMP:20260420T180244
CREATED:20260416T152813Z
LAST-MODIFIED:20260420T214338Z
UID:10001689-1789025400-1789032600@ottawarowingclub.com
SUMMARY:Daylight Masters
DESCRIPTION:
URL:https://ottawarowingclub.com/event/daylight-masters-54/
CATEGORIES:Masters
END:VEVENT
BEGIN:VEVENT
DTSTART;TZID=America/New_York:20260910T180000
DTEND;TZID=America/New_York:20260910T200000
DTSTAMP:20260420T180244
CREATED:20260206T133744Z
LAST-MODIFIED:20260419T224254Z
UID:10001119-1789063200-1789070400@ottawarowingclub.com
SUMMARY:Club + Development
DESCRIPTION:
URL:https://ottawarowingclub.com/event/club-development-18/
CATEGORIES:Club Rowing
END:VEVENT
BEGIN:VEVENT
DTSTART;VALUE=DATE:20260911
DTEND;VALUE=DATE:20260912
DTSTAMP:20260420T180244
CREATED:20260319T022648Z
LAST-MODIFIED:20260417T184200Z
UID:10001345-1789084800-1789171199@ottawarowingclub.com
SUMMARY:Set-up: Michelle and Geoff
DESCRIPTION:
URL:https://ottawarowingclub.com/event/set-up-michelle-and-geoff/
CATEGORIES:Weddings and Private Events
END:VEVENT
BEGIN:VEVENT
DTSTART;TZID=America/New_York:20260911T050000
DTEND;TZID=America/New_York:20260911T070000
DTSTAMP:20260420T180244
CREATED:20260115T205332Z
LAST-MODIFIED:20260420T212851Z
UID:10000626-1789102800-1789110000@ottawarowingclub.com
SUMMARY:Seniors
DESCRIPTION:
URL:https://ottawarowingclub.com/event/seniors-104/
CATEGORIES:Senior and University
END:VEVENT
BEGIN:VEVENT
DTSTART;VALUE=DATE:20260912
DTEND;VALUE=DATE:20260913
DTSTAMP:20260420T180244
CREATED:20260319T022648Z
LAST-MODIFIED:20260417T184200Z
UID:10001344-1789171200-1789257599@ottawarowingclub.com
SUMMARY:Wedding: Michelle and Geoff
DESCRIPTION:
URL:https://ottawarowingclub.com/event/wedding-michelle-and-geoff/
CATEGORIES:Weddings and Private Events
END:VEVENT
BEGIN:VEVENT
DTSTART;TZID=America/New_York:20260912T060000
DTEND;TZID=America/New_York:20260912T080000
DTSTAMP:20260420T180244
CREATED:20260115T205333Z
LAST-MODIFIED:20260420T212851Z
UID:10000627-1789192800-1789200000@ottawarowingclub.com
SUMMARY:Seniors
DESCRIPTION:
URL:https://ottawarowingclub.com/event/seniors-105/
CATEGORIES:Senior and University
END:VEVENT
BEGIN:VEVENT
DTSTART;TZID=America/New_York:20260912T080000
DTEND;TZID=America/New_York:20260912T100000
DTSTAMP:20260420T180244
CREATED:20260215T170919Z
LAST-MODIFIED:20260420T214338Z
UID:10001282-1789200000-1789207200@ottawarowingclub.com
SUMMARY:Masters
DESCRIPTION:
URL:https://ottawarowingclub.com/event/masters-51/
CATEGORIES:Masters
END:VEVENT
BEGIN:VEVENT
DTSTART;VALUE=DATE:20260913
DTEND;VALUE=DATE:20260914
DTSTAMP:20260420T180244
CREATED:20260319T025642Z
LAST-MODIFIED:20260417T192644Z
UID:10001346-1789257600-1789343999@ottawarowingclub.com
SUMMARY:Head of the Madawaska
DESCRIPTION:
URL:https://ottawarowingclub.com/event/head-of-the-madawaska/
CATEGORIES:Regattas
END:VEVENT
BEGIN:VEVENT
DTSTART;TZID=America/New_York:20260913T080000
DTEND;TZID=America/New_York:20260913T100000
DTSTAMP:20260420T180244
CREATED:20260206T133744Z
LAST-MODIFIED:20260419T224254Z
UID:10001120-1789286400-1789293600@ottawarowingclub.com
SUMMARY:Club
DESCRIPTION:
URL:https://ottawarowingclub.com/event/club-38/
CATEGORIES:Club Rowing
END:VEVENT
BEGIN:VEVENT
DTSTART;TZID=America/New_York:20260914T050000
DTEND;TZID=America/New_York:20260914T070000
DTSTAMP:20260420T180244
CREATED:20260115T205333Z
LAST-MODIFIED:20260420T212851Z
UID:10000628-1789362000-1789369200@ottawarowingclub.com
SUMMARY:Seniors
DESCRIPTION:
URL:https://ottawarowingclub.com/event/seniors-106/
CATEGORIES:Senior and University
END:VEVENT
END:VCALENDAR