BEGIN:VCALENDAR
VERSION:2.0
PRODID:-//Ottawa Rowing Club - ECPv6.15.20//NONSGML v1.0//EN
CALSCALE:GREGORIAN
METHOD:PUBLISH
X-ORIGINAL-URL:https://ottawarowingclub.com
X-WR-CALDESC:Events for Ottawa Rowing Club
REFRESH-INTERVAL;VALUE=DURATION:PT1H
X-Robots-Tag:noindex
X-PUBLISHED-TTL:PT1H
BEGIN:VTIMEZONE
TZID:America/New_York
BEGIN:DAYLIGHT
TZOFFSETFROM:-0500
TZOFFSETTO:-0400
TZNAME:EDT
DTSTART:20250309T070000
END:DAYLIGHT
BEGIN:STANDARD
TZOFFSETFROM:-0400
TZOFFSETTO:-0500
TZNAME:EST
DTSTART:20251102T060000
END:STANDARD
BEGIN:DAYLIGHT
TZOFFSETFROM:-0500
TZOFFSETTO:-0400
TZNAME:EDT
DTSTART:20260308T070000
END:DAYLIGHT
BEGIN:STANDARD
TZOFFSETFROM:-0400
TZOFFSETTO:-0500
TZNAME:EST
DTSTART:20261101T060000
END:STANDARD
BEGIN:DAYLIGHT
TZOFFSETFROM:-0500
TZOFFSETTO:-0400
TZNAME:EDT
DTSTART:20270314T070000
END:DAYLIGHT
BEGIN:STANDARD
TZOFFSETFROM:-0400
TZOFFSETTO:-0500
TZNAME:EST
DTSTART:20271107T060000
END:STANDARD
END:VTIMEZONE
BEGIN:VEVENT
DTSTART;TZID=America/New_York:20260801T060000
DTEND;TZID=America/New_York:20260801T080000
DTSTAMP:20260420T004633
CREATED:20260115T205249Z
LAST-MODIFIED:20260420T035915Z
UID:10000598-1785564000-1785571200@ottawarowingclub.com
SUMMARY:Seniors
DESCRIPTION:
URL:https://ottawarowingclub.com/event/seniors-76/
CATEGORIES:Senior and University
END:VEVENT
BEGIN:VEVENT
DTSTART;TZID=America/New_York:20260801T063000
DTEND;TZID=America/New_York:20260801T103000
DTSTAMP:20260420T004633
CREATED:20260414T215040Z
LAST-MODIFIED:20260420T043040Z
UID:10001529-1785565800-1785580200@ottawarowingclub.com
SUMMARY:Junior Crew
DESCRIPTION:
URL:https://ottawarowingclub.com/event/junior-crew-50/
CATEGORIES:Junior
END:VEVENT
BEGIN:VEVENT
DTSTART;TZID=America/New_York:20260801T063000
DTEND;TZID=America/New_York:20260801T103000
DTSTAMP:20260420T004633
CREATED:20260414T215054Z
LAST-MODIFIED:20260420T043040Z
UID:10001530-1785565800-1785580200@ottawarowingclub.com
SUMMARY:Junior Performance
DESCRIPTION:
URL:https://ottawarowingclub.com/event/junior-performance-61/
CATEGORIES:Junior
END:VEVENT
BEGIN:VEVENT
DTSTART;TZID=America/New_York:20260801T080000
DTEND;TZID=America/New_York:20260801T100000
DTSTAMP:20260420T004633
CREATED:20260215T170822Z
LAST-MODIFIED:20260420T044251Z
UID:10001250-1785571200-1785578400@ottawarowingclub.com
SUMMARY:Masters
DESCRIPTION:
URL:https://ottawarowingclub.com/event/masters-37/
CATEGORIES:Masters
END:VEVENT
BEGIN:VEVENT
DTSTART;VALUE=DATE:20260802
DTEND;VALUE=DATE:20260810
DTSTAMP:20260420T004633
CREATED:20260115T204858Z
LAST-MODIFIED:20260417T192643Z
UID:10000483-1785628800-1786319999@ottawarowingclub.com
SUMMARY:Royal Canadian Henley Regatta
DESCRIPTION:
URL:https://ottawarowingclub.com/event/royal-canadian-henley-regatta/
CATEGORIES:Regattas
END:VEVENT
BEGIN:VEVENT
DTSTART;TZID=America/New_York:20260802T080000
DTEND;TZID=America/New_York:20260802T100000
DTSTAMP:20260420T004633
CREATED:20260206T133714Z
LAST-MODIFIED:20260419T224227Z
UID:10001102-1785657600-1785664800@ottawarowingclub.com
SUMMARY:Club
DESCRIPTION:
URL:https://ottawarowingclub.com/event/club-26/
CATEGORIES:Club Rowing
END:VEVENT
BEGIN:VEVENT
DTSTART;TZID=America/New_York:20260803T083000
DTEND;TZID=America/New_York:20260803T103000
DTSTAMP:20260420T004633
CREATED:20260414T215054Z
LAST-MODIFIED:20260420T043040Z
UID:10001531-1785745800-1785753000@ottawarowingclub.com
SUMMARY:Junior Development
DESCRIPTION:
URL:https://ottawarowingclub.com/event/junior-development-39/
CATEGORIES:Junior
END:VEVENT
BEGIN:VEVENT
DTSTART;TZID=America/New_York:20260803T083000
DTEND;TZID=America/New_York:20260803T103000
DTSTAMP:20260420T004633
CREATED:20260414T215055Z
LAST-MODIFIED:20260420T043040Z
UID:10001532-1785745800-1785753000@ottawarowingclub.com
SUMMARY:Junior Crew
DESCRIPTION:
URL:https://ottawarowingclub.com/event/junior-crew-51/
CATEGORIES:Junior
END:VEVENT
BEGIN:VEVENT
DTSTART;TZID=America/New_York:20260804T083000
DTEND;TZID=America/New_York:20260804T103000
DTSTAMP:20260420T004633
CREATED:20260414T215055Z
LAST-MODIFIED:20260420T043053Z
UID:10001533-1785832200-1785839400@ottawarowingclub.com
SUMMARY:Junior Crew
DESCRIPTION:
URL:https://ottawarowingclub.com/event/junior-crew-52/
CATEGORIES:Junior
END:VEVENT
BEGIN:VEVENT
DTSTART;TZID=America/New_York:20260804T180000
DTEND;TZID=America/New_York:20260804T200000
DTSTAMP:20260420T004633
CREATED:20260206T133714Z
LAST-MODIFIED:20260419T224227Z
UID:10001103-1785866400-1785873600@ottawarowingclub.com
SUMMARY:Club
DESCRIPTION:
URL:https://ottawarowingclub.com/event/club-27/
CATEGORIES:Club Rowing
END:VEVENT
BEGIN:VEVENT
DTSTART;TZID=America/New_York:20260805T083000
DTEND;TZID=America/New_York:20260805T103000
DTSTAMP:20260420T004633
CREATED:20260414T215055Z
LAST-MODIFIED:20260420T043053Z
UID:10001535-1785918600-1785925800@ottawarowingclub.com
SUMMARY:Junior Development
DESCRIPTION:
URL:https://ottawarowingclub.com/event/junior-development-40/
CATEGORIES:Junior
END:VEVENT
BEGIN:VEVENT
DTSTART;TZID=America/New_York:20260805T083000
DTEND;TZID=America/New_York:20260805T103000
DTSTAMP:20260420T004633
CREATED:20260414T215055Z
LAST-MODIFIED:20260420T043053Z
UID:10001534-1785918600-1785925800@ottawarowingclub.com
SUMMARY:Junior Crew
DESCRIPTION:
URL:https://ottawarowingclub.com/event/junior-crew-53/
CATEGORIES:Junior
END:VEVENT
BEGIN:VEVENT
DTSTART;TZID=America/New_York:20260806T083000
DTEND;TZID=America/New_York:20260806T103000
DTSTAMP:20260420T004633
CREATED:20260414T215055Z
LAST-MODIFIED:20260420T043054Z
UID:10001537-1786005000-1786012200@ottawarowingclub.com
SUMMARY:Junior Crew
DESCRIPTION:
URL:https://ottawarowingclub.com/event/junior-crew-54/
CATEGORIES:Junior
END:VEVENT
BEGIN:VEVENT
DTSTART;TZID=America/New_York:20260806T083000
DTEND;TZID=America/New_York:20260806T103000
DTSTAMP:20260420T004633
CREATED:20260414T215055Z
LAST-MODIFIED:20260420T043054Z
UID:10001536-1786005000-1786012200@ottawarowingclub.com
SUMMARY:Junior Development
DESCRIPTION:
URL:https://ottawarowingclub.com/event/junior-development-41/
CATEGORIES:Junior
END:VEVENT
BEGIN:VEVENT
DTSTART;TZID=America/New_York:20260806T180000
DTEND;TZID=America/New_York:20260806T200000
DTSTAMP:20260420T004633
CREATED:20260206T133714Z
LAST-MODIFIED:20260419T224227Z
UID:10001104-1786039200-1786046400@ottawarowingclub.com
SUMMARY:Club
DESCRIPTION:
URL:https://ottawarowingclub.com/event/club-28/
CATEGORIES:Club Rowing
END:VEVENT
BEGIN:VEVENT
DTSTART;VALUE=DATE:20260808
DTEND;VALUE=DATE:20260809
DTSTAMP:20260420T004633
CREATED:20260115T205207Z
LAST-MODIFIED:20260417T184142Z
UID:10000567-1786147200-1786233599@ottawarowingclub.com
SUMMARY:Wedding: Lise Sutherland
DESCRIPTION:
URL:https://ottawarowingclub.com/event/wedding-lise-sutherland/
CATEGORIES:Weddings and Private Events
END:VEVENT
BEGIN:VEVENT
DTSTART;TZID=America/New_York:20260809T080000
DTEND;TZID=America/New_York:20260809T100000
DTSTAMP:20260420T004633
CREATED:20260206T133729Z
LAST-MODIFIED:20260419T224240Z
UID:10001105-1786262400-1786269600@ottawarowingclub.com
SUMMARY:Club
DESCRIPTION:
URL:https://ottawarowingclub.com/event/club-29/
CATEGORIES:Club Rowing
END:VEVENT
BEGIN:VEVENT
DTSTART;TZID=America/New_York:20260810T083000
DTEND;TZID=America/New_York:20260810T153000
DTSTAMP:20260420T004633
CREATED:20260113T131536Z
LAST-MODIFIED:20260414T142712Z
UID:10000294-1786350600-1786375800@ottawarowingclub.com
SUMMARY:Rowing Camp Session 5
DESCRIPTION:
URL:https://ottawarowingclub.com/event/rowing-camp-session-5/
CATEGORIES:Rowing Camp
END:VEVENT
BEGIN:VEVENT
DTSTART;TZID=America/New_York:20260810T181500
DTEND;TZID=America/New_York:20260810T201500
DTSTAMP:20260420T004633
CREATED:20260215T170822Z
LAST-MODIFIED:20260420T044251Z
UID:10001251-1786385700-1786392900@ottawarowingclub.com
SUMMARY:Masters
DESCRIPTION:
URL:https://ottawarowingclub.com/event/masters-38/
CATEGORIES:Masters
END:VEVENT
BEGIN:VEVENT
DTSTART;TZID=America/New_York:20260811T083000
DTEND;TZID=America/New_York:20260811T153000
DTSTAMP:20260420T004633
CREATED:20260113T131536Z
LAST-MODIFIED:20260414T142712Z
UID:10000295-1786437000-1786462200@ottawarowingclub.com
SUMMARY:Rowing Camp Session 5
DESCRIPTION:
URL:https://ottawarowingclub.com/event/rowing-camp-session-5-2/
CATEGORIES:Rowing Camp
END:VEVENT
BEGIN:VEVENT
DTSTART;TZID=America/New_York:20260811T180000
DTEND;TZID=America/New_York:20260811T200000
DTSTAMP:20260420T004633
CREATED:20260206T133530Z
LAST-MODIFIED:20260420T044153Z
UID:10001059-1786471200-1786478400@ottawarowingclub.com
SUMMARY:Adult Learn to Row Session 4
DESCRIPTION:Session 4 – Day 1
URL:https://ottawarowingclub.com/event/adult-learn-to-row-session-4/
CATEGORIES:Adult Learn to Row
END:VEVENT
BEGIN:VEVENT
DTSTART;TZID=America/New_York:20260811T180000
DTEND;TZID=America/New_York:20260811T200000
DTSTAMP:20260420T004633
CREATED:20260206T133729Z
LAST-MODIFIED:20260419T224240Z
UID:10001106-1786471200-1786478400@ottawarowingclub.com
SUMMARY:Club
DESCRIPTION:
URL:https://ottawarowingclub.com/event/club-30/
CATEGORIES:Club Rowing
END:VEVENT
BEGIN:VEVENT
DTSTART;TZID=America/New_York:20260812T083000
DTEND;TZID=America/New_York:20260812T153000
DTSTAMP:20260420T004633
CREATED:20260113T131537Z
LAST-MODIFIED:20260414T142712Z
UID:10000296-1786523400-1786548600@ottawarowingclub.com
SUMMARY:Rowing Camp Session 5
DESCRIPTION:
URL:https://ottawarowingclub.com/event/rowing-camp-session-5-3/
CATEGORIES:Rowing Camp
END:VEVENT
BEGIN:VEVENT
DTSTART;TZID=America/New_York:20260812T181500
DTEND;TZID=America/New_York:20260812T201500
DTSTAMP:20260420T004633
CREATED:20260215T170823Z
LAST-MODIFIED:20260420T044251Z
UID:10001253-1786558500-1786565700@ottawarowingclub.com
SUMMARY:Masters
DESCRIPTION:
URL:https://ottawarowingclub.com/event/masters-39/
CATEGORIES:Masters
END:VEVENT
BEGIN:VEVENT
DTSTART;TZID=America/New_York:20260813T083000
DTEND;TZID=America/New_York:20260813T153000
DTSTAMP:20260420T004633
CREATED:20260113T131537Z
LAST-MODIFIED:20260414T142712Z
UID:10000297-1786609800-1786635000@ottawarowingclub.com
SUMMARY:Rowing Camp Session 5
DESCRIPTION:
URL:https://ottawarowingclub.com/event/rowing-camp-session-5-4/
CATEGORIES:Rowing Camp
END:VEVENT
BEGIN:VEVENT
DTSTART;TZID=America/New_York:20260813T180000
DTEND;TZID=America/New_York:20260813T200000
DTSTAMP:20260420T004633
CREATED:20260206T133530Z
LAST-MODIFIED:20260420T044153Z
UID:10001060-1786644000-1786651200@ottawarowingclub.com
SUMMARY:Adult Learn to Row Session 4
DESCRIPTION:Session 4 – Day 2
URL:https://ottawarowingclub.com/event/adult-learn-to-row-session-4-2/
CATEGORIES:Adult Learn to Row
END:VEVENT
BEGIN:VEVENT
DTSTART;TZID=America/New_York:20260813T180000
DTEND;TZID=America/New_York:20260813T200000
DTSTAMP:20260420T004633
CREATED:20260206T133729Z
LAST-MODIFIED:20260419T224240Z
UID:10001107-1786644000-1786651200@ottawarowingclub.com
SUMMARY:Club
DESCRIPTION:
URL:https://ottawarowingclub.com/event/club-31/
CATEGORIES:Club Rowing
END:VEVENT
BEGIN:VEVENT
DTSTART;TZID=America/New_York:20260814T083000
DTEND;TZID=America/New_York:20260814T153000
DTSTAMP:20260420T004633
CREATED:20260113T131537Z
LAST-MODIFIED:20260414T142712Z
UID:10000298-1786696200-1786721400@ottawarowingclub.com
SUMMARY:Rowing Camp Session 5
DESCRIPTION:
URL:https://ottawarowingclub.com/event/rowing-camp-session-5-5/
CATEGORIES:Rowing Camp
END:VEVENT
BEGIN:VEVENT
DTSTART;TZID=America/New_York:20260814T180000
DTEND;TZID=America/New_York:20260814T200000
DTSTAMP:20260420T004633
CREATED:20260206T133546Z
LAST-MODIFIED:20260420T044208Z
UID:10001061-1786730400-1786737600@ottawarowingclub.com
SUMMARY:Adult Learn to Row Session 4
DESCRIPTION:Session 4 – Day 3
URL:https://ottawarowingclub.com/event/adult-learn-to-row-session-4-3/
CATEGORIES:Adult Learn to Row
END:VEVENT
BEGIN:VEVENT
DTSTART;TZID=America/New_York:20260815T080000
DTEND;TZID=America/New_York:20260815T100000
DTSTAMP:20260420T004633
CREATED:20260215T170824Z
LAST-MODIFIED:20260420T044251Z
UID:10001255-1786780800-1786788000@ottawarowingclub.com
SUMMARY:Masters
DESCRIPTION:
URL:https://ottawarowingclub.com/event/masters-40/
CATEGORIES:Masters
END:VEVENT
END:VCALENDAR