BEGIN:VCALENDAR
VERSION:2.0
PRODID:-//Ottawa Rowing Club - ECPv6.15.20//NONSGML v1.0//EN
CALSCALE:GREGORIAN
METHOD:PUBLISH
X-ORIGINAL-URL:https://ottawarowingclub.com
X-WR-CALDESC:Events for Ottawa Rowing Club
REFRESH-INTERVAL;VALUE=DURATION:PT1H
X-Robots-Tag:noindex
X-PUBLISHED-TTL:PT1H
BEGIN:VTIMEZONE
TZID:America/New_York
BEGIN:DAYLIGHT
TZOFFSETFROM:-0500
TZOFFSETTO:-0400
TZNAME:EDT
DTSTART:20250309T070000
END:DAYLIGHT
BEGIN:STANDARD
TZOFFSETFROM:-0400
TZOFFSETTO:-0500
TZNAME:EST
DTSTART:20251102T060000
END:STANDARD
BEGIN:DAYLIGHT
TZOFFSETFROM:-0500
TZOFFSETTO:-0400
TZNAME:EDT
DTSTART:20260308T070000
END:DAYLIGHT
BEGIN:STANDARD
TZOFFSETFROM:-0400
TZOFFSETTO:-0500
TZNAME:EST
DTSTART:20261101T060000
END:STANDARD
BEGIN:DAYLIGHT
TZOFFSETFROM:-0500
TZOFFSETTO:-0400
TZNAME:EDT
DTSTART:20270314T070000
END:DAYLIGHT
BEGIN:STANDARD
TZOFFSETFROM:-0400
TZOFFSETTO:-0500
TZNAME:EST
DTSTART:20271107T060000
END:STANDARD
END:VTIMEZONE
BEGIN:VEVENT
DTSTART;TZID=America/New_York:20260601T050000
DTEND;TZID=America/New_York:20260601T070000
DTSTAMP:20260419T145920
CREATED:20260115T205136Z
LAST-MODIFIED:20260419T185702Z
UID:10000532-1780290000-1780297200@ottawarowingclub.com
SUMMARY:Seniors
DESCRIPTION:
URL:https://ottawarowingclub.com/event/seniors-24/
CATEGORIES:Senior and University
END:VEVENT
BEGIN:VEVENT
DTSTART;TZID=America/New_York:20260601T161500
DTEND;TZID=America/New_York:20260601T183000
DTSTAMP:20260419T145920
CREATED:20260414T214739Z
LAST-MODIFIED:20260419T182811Z
UID:10001426-1780330500-1780338600@ottawarowingclub.com
SUMMARY:Junior Crew
DESCRIPTION:
URL:https://ottawarowingclub.com/event/junior-crew-15/
CATEGORIES:Junior
END:VEVENT
BEGIN:VEVENT
DTSTART;TZID=America/New_York:20260601T161500
DTEND;TZID=America/New_York:20260601T183000
DTSTAMP:20260419T145920
CREATED:20260414T214739Z
LAST-MODIFIED:20260419T182811Z
UID:10001425-1780330500-1780338600@ottawarowingclub.com
SUMMARY:Junior Performance
DESCRIPTION:
URL:https://ottawarowingclub.com/event/junior-performance-18/
CATEGORIES:Junior
END:VEVENT
BEGIN:VEVENT
DTSTART;TZID=America/New_York:20260601T163000
DTEND;TZID=America/New_York:20260601T183000
DTSTAMP:20260419T145920
CREATED:20260414T214738Z
LAST-MODIFIED:20260419T182811Z
UID:10001424-1780331400-1780338600@ottawarowingclub.com
SUMMARY:Junior Development
DESCRIPTION:
URL:https://ottawarowingclub.com/event/junior-development-12/
CATEGORIES:Junior
END:VEVENT
BEGIN:VEVENT
DTSTART;TZID=America/New_York:20260601T181500
DTEND;TZID=America/New_York:20260601T201500
DTSTAMP:20260419T145920
CREATED:20260215T170632Z
LAST-MODIFIED:20260419T181205Z
UID:10001195-1780337700-1780344900@ottawarowingclub.com
SUMMARY:Masters
DESCRIPTION:
URL:https://ottawarowingclub.com/event/masters-12/
CATEGORIES:Masters
END:VEVENT
BEGIN:VEVENT
DTSTART;TZID=America/New_York:20260602T050000
DTEND;TZID=America/New_York:20260602T070000
DTSTAMP:20260419T145920
CREATED:20260115T205136Z
LAST-MODIFIED:20260419T185703Z
UID:10000533-1780376400-1780383600@ottawarowingclub.com
SUMMARY:Seniors
DESCRIPTION:
URL:https://ottawarowingclub.com/event/seniors-25/
CATEGORIES:Senior and University
END:VEVENT
BEGIN:VEVENT
DTSTART;TZID=America/New_York:20260602T073000
DTEND;TZID=America/New_York:20260602T093000
DTSTAMP:20260419T145920
CREATED:20260416T152648Z
LAST-MODIFIED:20260419T181205Z
UID:10001664-1780385400-1780392600@ottawarowingclub.com
SUMMARY:Daylight Masters
DESCRIPTION:
URL:https://ottawarowingclub.com/event/daylight-masters-13/
CATEGORIES:Masters
END:VEVENT
BEGIN:VEVENT
DTSTART;TZID=America/New_York:20260602T161500
DTEND;TZID=America/New_York:20260602T183000
DTSTAMP:20260419T145920
CREATED:20260414T214739Z
LAST-MODIFIED:20260419T182812Z
UID:10001427-1780416900-1780425000@ottawarowingclub.com
SUMMARY:Junior Crew
DESCRIPTION:
URL:https://ottawarowingclub.com/event/junior-crew-16/
CATEGORIES:Junior
END:VEVENT
BEGIN:VEVENT
DTSTART;TZID=America/New_York:20260602T161500
DTEND;TZID=America/New_York:20260602T183000
DTSTAMP:20260419T145920
CREATED:20260414T214740Z
LAST-MODIFIED:20260419T182812Z
UID:10001428-1780416900-1780425000@ottawarowingclub.com
SUMMARY:Junior Performance
DESCRIPTION:
URL:https://ottawarowingclub.com/event/junior-performance-19/
CATEGORIES:Junior
END:VEVENT
BEGIN:VEVENT
DTSTART;TZID=America/New_York:20260602T180000
DTEND;TZID=America/New_York:20260602T200000
DTSTAMP:20260419T145920
CREATED:20260206T133642Z
LAST-MODIFIED:20260418T224150Z
UID:10001077-1780423200-1780430400@ottawarowingclub.com
SUMMARY:Club + Development
DESCRIPTION:
URL:https://ottawarowingclub.com/event/club-development-9/
CATEGORIES:Club Rowing
END:VEVENT
BEGIN:VEVENT
DTSTART;TZID=America/New_York:20260602T180000
DTEND;TZID=America/New_York:20260602T203000
DTSTAMP:20260419T145920
CREATED:20260115T203128Z
LAST-MODIFIED:20260417T184141Z
UID:10000315-1780423200-1780432200@ottawarowingclub.com
SUMMARY:Adult Rowing League - Tuesday Crew Practice
DESCRIPTION:
URL:https://ottawarowingclub.com/event/adult-rowing-league-tuesday-crew-practice-3/
CATEGORIES:Adult Rowing League
END:VEVENT
BEGIN:VEVENT
DTSTART;TZID=America/New_York:20260603T050000
DTEND;TZID=America/New_York:20260603T070000
DTSTAMP:20260419T145920
CREATED:20260115T205136Z
LAST-MODIFIED:20260419T185703Z
UID:10000534-1780462800-1780470000@ottawarowingclub.com
SUMMARY:Seniors
DESCRIPTION:
URL:https://ottawarowingclub.com/event/seniors-26/
CATEGORIES:Senior and University
END:VEVENT
BEGIN:VEVENT
DTSTART;TZID=America/New_York:20260603T161500
DTEND;TZID=America/New_York:20260603T183000
DTSTAMP:20260419T145920
CREATED:20260414T214754Z
LAST-MODIFIED:20260419T182812Z
UID:10001430-1780503300-1780511400@ottawarowingclub.com
SUMMARY:Junior Performance
DESCRIPTION:
URL:https://ottawarowingclub.com/event/junior-performance-20/
CATEGORIES:Junior
END:VEVENT
BEGIN:VEVENT
DTSTART;TZID=America/New_York:20260603T163000
DTEND;TZID=America/New_York:20260603T183000
DTSTAMP:20260419T145920
CREATED:20260414T214740Z
LAST-MODIFIED:20260419T182812Z
UID:10001429-1780504200-1780511400@ottawarowingclub.com
SUMMARY:Junior Development
DESCRIPTION:
URL:https://ottawarowingclub.com/event/junior-development-13/
CATEGORIES:Junior
END:VEVENT
BEGIN:VEVENT
DTSTART;TZID=America/New_York:20260603T180000
DTEND;TZID=America/New_York:20260603T203000
DTSTAMP:20260419T145920
CREATED:20260115T203128Z
LAST-MODIFIED:20260417T184141Z
UID:10000316-1780509600-1780518600@ottawarowingclub.com
SUMMARY:Adult Rowing League - Wednesday Crew Practice
DESCRIPTION:
URL:https://ottawarowingclub.com/event/adult-rowing-league-wednesday-crew-practice-3/
CATEGORIES:Adult Rowing League
END:VEVENT
BEGIN:VEVENT
DTSTART;TZID=America/New_York:20260603T181500
DTEND;TZID=America/New_York:20260603T201500
DTSTAMP:20260419T145920
CREATED:20260215T170649Z
LAST-MODIFIED:20260419T181205Z
UID:10001197-1780510500-1780517700@ottawarowingclub.com
SUMMARY:Masters
DESCRIPTION:
URL:https://ottawarowingclub.com/event/masters-13/
CATEGORIES:Masters
END:VEVENT
BEGIN:VEVENT
DTSTART;TZID=America/New_York:20260604T050000
DTEND;TZID=America/New_York:20260604T070000
DTSTAMP:20260419T145920
CREATED:20260115T205136Z
LAST-MODIFIED:20260419T185703Z
UID:10000535-1780549200-1780556400@ottawarowingclub.com
SUMMARY:Seniors
DESCRIPTION:
URL:https://ottawarowingclub.com/event/seniors-27/
CATEGORIES:Senior and University
END:VEVENT
BEGIN:VEVENT
DTSTART;TZID=America/New_York:20260604T073000
DTEND;TZID=America/New_York:20260604T093000
DTSTAMP:20260419T145920
CREATED:20260416T152648Z
LAST-MODIFIED:20260419T181205Z
UID:10001665-1780558200-1780565400@ottawarowingclub.com
SUMMARY:Daylight Masters
DESCRIPTION:
URL:https://ottawarowingclub.com/event/daylight-masters-14/
CATEGORIES:Masters
END:VEVENT
BEGIN:VEVENT
DTSTART;TZID=America/New_York:20260604T161500
DTEND;TZID=America/New_York:20260604T183000
DTSTAMP:20260419T145920
CREATED:20260414T214754Z
LAST-MODIFIED:20260419T182812Z
UID:10001431-1780589700-1780597800@ottawarowingclub.com
SUMMARY:Junior Crew
DESCRIPTION:
URL:https://ottawarowingclub.com/event/junior-crew-17/
CATEGORIES:Junior
END:VEVENT
BEGIN:VEVENT
DTSTART;TZID=America/New_York:20260604T163000
DTEND;TZID=America/New_York:20260604T183000
DTSTAMP:20260419T145920
CREATED:20260414T214754Z
LAST-MODIFIED:20260419T182812Z
UID:10001432-1780590600-1780597800@ottawarowingclub.com
SUMMARY:Junior Development
DESCRIPTION:
URL:https://ottawarowingclub.com/event/junior-development-14/
CATEGORIES:Junior
END:VEVENT
BEGIN:VEVENT
DTSTART;TZID=America/New_York:20260604T180000
DTEND;TZID=America/New_York:20260604T200000
DTSTAMP:20260419T145920
CREATED:20260206T133642Z
LAST-MODIFIED:20260418T224150Z
UID:10001078-1780596000-1780603200@ottawarowingclub.com
SUMMARY:Club + Development
DESCRIPTION:
URL:https://ottawarowingclub.com/event/club-development-10/
CATEGORIES:Club Rowing
END:VEVENT
BEGIN:VEVENT
DTSTART;TZID=America/New_York:20260604T180000
DTEND;TZID=America/New_York:20260604T203000
DTSTAMP:20260419T145920
CREATED:20260115T203128Z
LAST-MODIFIED:20260417T184141Z
UID:10000317-1780596000-1780605000@ottawarowingclub.com
SUMMARY:Adult Rowing League - Thursday Crew Practice
DESCRIPTION:
URL:https://ottawarowingclub.com/event/adult-rowing-league-thursday-crew-practice-3/
CATEGORIES:Adult Rowing League
END:VEVENT
BEGIN:VEVENT
DTSTART;VALUE=DATE:20260605
DTEND;VALUE=DATE:20260606
DTSTAMP:20260419T145920
CREATED:20260115T205206Z
LAST-MODIFIED:20260417T184142Z
UID:10000564-1780617600-1780703999@ottawarowingclub.com
SUMMARY:Set-up: Henry + Kelly
DESCRIPTION:
URL:https://ottawarowingclub.com/event/set-up-henry-kelly/
CATEGORIES:Weddings and Private Events
END:VEVENT
BEGIN:VEVENT
DTSTART;VALUE=DATE:20260605
DTEND;VALUE=DATE:20260607
DTSTAMP:20260419T145920
CREATED:20260403T192701Z
LAST-MODIFIED:20260417T192643Z
UID:10001353-1780617600-1780790399@ottawarowingclub.com
SUMMARY:CSSRAs
DESCRIPTION:
URL:https://ottawarowingclub.com/event/cssras/
CATEGORIES:Regattas
END:VEVENT
BEGIN:VEVENT
DTSTART;TZID=America/New_York:20260605T050000
DTEND;TZID=America/New_York:20260605T070000
DTSTAMP:20260419T145920
CREATED:20260115T205136Z
LAST-MODIFIED:20260419T185704Z
UID:10000536-1780635600-1780642800@ottawarowingclub.com
SUMMARY:Seniors
DESCRIPTION:
URL:https://ottawarowingclub.com/event/seniors-28/
CATEGORIES:Senior and University
END:VEVENT
BEGIN:VEVENT
DTSTART;TZID=America/New_York:20260605T161500
DTEND;TZID=America/New_York:20260605T183000
DTSTAMP:20260419T145920
CREATED:20260414T214754Z
LAST-MODIFIED:20260419T182827Z
UID:10001433-1780676100-1780684200@ottawarowingclub.com
SUMMARY:Junior Performance
DESCRIPTION:
URL:https://ottawarowingclub.com/event/junior-performance-21/
CATEGORIES:Junior
END:VEVENT
BEGIN:VEVENT
DTSTART;VALUE=DATE:20260606
DTEND;VALUE=DATE:20260607
DTSTAMP:20260419T145920
CREATED:20260115T205206Z
LAST-MODIFIED:20260417T184142Z
UID:10000563-1780704000-1780790399@ottawarowingclub.com
SUMMARY:Wedding: Henry + Kelly
DESCRIPTION:
URL:https://ottawarowingclub.com/event/wedding-henry-kelly/
CATEGORIES:Weddings and Private Events
END:VEVENT
BEGIN:VEVENT
DTSTART;TZID=America/New_York:20260606T060000
DTEND;TZID=America/New_York:20260606T080000
DTSTAMP:20260419T145920
CREATED:20260115T205136Z
LAST-MODIFIED:20260419T185704Z
UID:10000537-1780725600-1780732800@ottawarowingclub.com
SUMMARY:Seniors
DESCRIPTION:
URL:https://ottawarowingclub.com/event/seniors-29/
CATEGORIES:Senior and University
END:VEVENT
BEGIN:VEVENT
DTSTART;TZID=America/New_York:20260606T063000
DTEND;TZID=America/New_York:20260606T103000
DTSTAMP:20260419T145920
CREATED:20260414T214754Z
LAST-MODIFIED:20260419T182828Z
UID:10001435-1780727400-1780741800@ottawarowingclub.com
SUMMARY:Junior Crew
DESCRIPTION:
URL:https://ottawarowingclub.com/event/junior-crew-18/
CATEGORIES:Junior
END:VEVENT
BEGIN:VEVENT
DTSTART;TZID=America/New_York:20260606T063000
DTEND;TZID=America/New_York:20260606T103000
DTSTAMP:20260419T145920
CREATED:20260414T214754Z
LAST-MODIFIED:20260419T182828Z
UID:10001434-1780727400-1780741800@ottawarowingclub.com
SUMMARY:Junior Performance
DESCRIPTION:
URL:https://ottawarowingclub.com/event/junior-performance-22/
CATEGORIES:Junior
END:VEVENT
END:VCALENDAR