BEGIN:VCALENDAR
VERSION:2.0
PRODID:-//Ottawa Rowing Club - ECPv6.15.20//NONSGML v1.0//EN
CALSCALE:GREGORIAN
METHOD:PUBLISH
X-WR-CALNAME:Ottawa Rowing Club
X-ORIGINAL-URL:https://ottawarowingclub.com
X-WR-CALDESC:Events for Ottawa Rowing Club
REFRESH-INTERVAL;VALUE=DURATION:PT1H
X-Robots-Tag:noindex
X-PUBLISHED-TTL:PT1H
BEGIN:VTIMEZONE
TZID:America/New_York
BEGIN:DAYLIGHT
TZOFFSETFROM:-0500
TZOFFSETTO:-0400
TZNAME:EDT
DTSTART:20250309T070000
END:DAYLIGHT
BEGIN:STANDARD
TZOFFSETFROM:-0400
TZOFFSETTO:-0500
TZNAME:EST
DTSTART:20251102T060000
END:STANDARD
BEGIN:DAYLIGHT
TZOFFSETFROM:-0500
TZOFFSETTO:-0400
TZNAME:EDT
DTSTART:20260308T070000
END:DAYLIGHT
BEGIN:STANDARD
TZOFFSETFROM:-0400
TZOFFSETTO:-0500
TZNAME:EST
DTSTART:20261101T060000
END:STANDARD
BEGIN:DAYLIGHT
TZOFFSETFROM:-0500
TZOFFSETTO:-0400
TZNAME:EDT
DTSTART:20270314T070000
END:DAYLIGHT
BEGIN:STANDARD
TZOFFSETFROM:-0400
TZOFFSETTO:-0500
TZNAME:EST
DTSTART:20271107T060000
END:STANDARD
END:VTIMEZONE
BEGIN:VEVENT
DTSTART;VALUE=DATE:20260502
DTEND;VALUE=DATE:20260503
DTSTAMP:20260420T180322
CREATED:20260331T214143Z
LAST-MODIFIED:20260420T024138Z
UID:10001350-1777680000-1777766399@ottawarowingclub.com
SUMMARY:Move Ergs to ORC
DESCRIPTION:
URL:https://ottawarowingclub.com/event/move-ergs-to-orc/
CATEGORIES:ORC Events
END:VEVENT
BEGIN:VEVENT
DTSTART;TZID=America/New_York:20260502T070000
DTEND;TZID=America/New_York:20260502T110000
DTSTAMP:20260420T180322
CREATED:20260331T214143Z
LAST-MODIFIED:20260420T024138Z
UID:10001349-1777705200-1777719600@ottawarowingclub.com
SUMMARY:Docks In
DESCRIPTION:
URL:https://ottawarowingclub.com/event/tentative-docks-in/
CATEGORIES:ORC Events
END:VEVENT
BEGIN:VEVENT
DTSTART;TZID=America/New_York:20260502T110000
DTEND;TZID=America/New_York:20260502T150000
DTSTAMP:20260420T180322
CREATED:20260109T203929Z
LAST-MODIFIED:20260420T024138Z
UID:10000270-1777719600-1777734000@ottawarowingclub.com
SUMMARY:Club Opening - ALL MEMBERS
DESCRIPTION:
URL:https://ottawarowingclub.com/event/club-opening-day-2026/
CATEGORIES:ORC Events
END:VEVENT
BEGIN:VEVENT
DTSTART;TZID=America/New_York:20260504T050000
DTEND;TZID=America/New_York:20260504T070000
DTSTAMP:20260420T180322
CREATED:20260115T205106Z
LAST-MODIFIED:20260420T212646Z
UID:10000509-1777870800-1777878000@ottawarowingclub.com
SUMMARY:Seniors
DESCRIPTION:
URL:https://ottawarowingclub.com/event/seniors/
CATEGORIES:Senior and University
END:VEVENT
BEGIN:VEVENT
DTSTART;TZID=America/New_York:20260504T181500
DTEND;TZID=America/New_York:20260504T201500
DTSTAMP:20260420T180322
CREATED:20260215T170603Z
LAST-MODIFIED:20260420T214143Z
UID:10001176-1777918500-1777925700@ottawarowingclub.com
SUMMARY:Masters
DESCRIPTION:
URL:https://ottawarowingclub.com/event/masters/
CATEGORIES:Masters
END:VEVENT
BEGIN:VEVENT
DTSTART;TZID=America/New_York:20260505T050000
DTEND;TZID=America/New_York:20260505T070000
DTSTAMP:20260420T180322
CREATED:20260115T205106Z
LAST-MODIFIED:20260420T212646Z
UID:10000510-1777957200-1777964400@ottawarowingclub.com
SUMMARY:Seniors
DESCRIPTION:
URL:https://ottawarowingclub.com/event/seniors-2/
CATEGORIES:Senior and University
END:VEVENT
BEGIN:VEVENT
DTSTART;TZID=America/New_York:20260505T180000
DTEND;TZID=America/New_York:20260505T200000
DTSTAMP:20260420T180323
CREATED:20260206T133626Z
LAST-MODIFIED:20260419T224145Z
UID:10001065-1778004000-1778011200@ottawarowingclub.com
SUMMARY:Club + Development
DESCRIPTION:
URL:https://ottawarowingclub.com/event/club-development/
CATEGORIES:Club Rowing
END:VEVENT
BEGIN:VEVENT
DTSTART;TZID=America/New_York:20260506T050000
DTEND;TZID=America/New_York:20260506T070000
DTSTAMP:20260420T180323
CREATED:20260115T205106Z
LAST-MODIFIED:20260420T212646Z
UID:10000511-1778043600-1778050800@ottawarowingclub.com
SUMMARY:Seniors
DESCRIPTION:
URL:https://ottawarowingclub.com/event/seniors-3/
CATEGORIES:Senior and University
END:VEVENT
BEGIN:VEVENT
DTSTART;TZID=America/New_York:20260506T181500
DTEND;TZID=America/New_York:20260506T201500
DTSTAMP:20260420T180323
CREATED:20260215T170605Z
LAST-MODIFIED:20260420T214143Z
UID:10001178-1778091300-1778098500@ottawarowingclub.com
SUMMARY:Masters
DESCRIPTION:
URL:https://ottawarowingclub.com/event/masters-2/
CATEGORIES:Masters
END:VEVENT
BEGIN:VEVENT
DTSTART;TZID=America/New_York:20260507T050000
DTEND;TZID=America/New_York:20260507T070000
DTSTAMP:20260420T180323
CREATED:20260115T205106Z
LAST-MODIFIED:20260420T212646Z
UID:10000512-1778130000-1778137200@ottawarowingclub.com
SUMMARY:Seniors
DESCRIPTION:
URL:https://ottawarowingclub.com/event/seniors-4/
CATEGORIES:Senior and University
END:VEVENT
BEGIN:VEVENT
DTSTART;TZID=America/New_York:20260507T180000
DTEND;TZID=America/New_York:20260507T200000
DTSTAMP:20260420T180323
CREATED:20260206T133626Z
LAST-MODIFIED:20260419T224145Z
UID:10001066-1778176800-1778184000@ottawarowingclub.com
SUMMARY:Club + Development
DESCRIPTION:
URL:https://ottawarowingclub.com/event/club-development-2/
CATEGORIES:Club Rowing
END:VEVENT
BEGIN:VEVENT
DTSTART;TZID=America/New_York:20260508T050000
DTEND;TZID=America/New_York:20260508T070000
DTSTAMP:20260420T180323
CREATED:20260115T205106Z
LAST-MODIFIED:20260420T212646Z
UID:10000513-1778216400-1778223600@ottawarowingclub.com
SUMMARY:Seniors
DESCRIPTION:
URL:https://ottawarowingclub.com/event/seniors-5/
CATEGORIES:Senior and University
END:VEVENT
BEGIN:VEVENT
DTSTART;VALUE=DATE:20260509
DTEND;VALUE=DATE:20260510
DTSTAMP:20260420T180323
CREATED:20260326T222650Z
LAST-MODIFIED:20260417T184141Z
UID:10001348-1778284800-1778371199@ottawarowingclub.com
SUMMARY:Umpire Meet and Greet
DESCRIPTION:
URL:https://ottawarowingclub.com/event/umpire-meet-and-greet/
CATEGORIES:Weddings and Private Events
END:VEVENT
BEGIN:VEVENT
DTSTART;TZID=America/New_York:20260509T060000
DTEND;TZID=America/New_York:20260509T080000
DTSTAMP:20260420T180323
CREATED:20260115T205106Z
LAST-MODIFIED:20260420T212646Z
UID:10000514-1778306400-1778313600@ottawarowingclub.com
SUMMARY:Seniors
DESCRIPTION:
URL:https://ottawarowingclub.com/event/seniors-6/
CATEGORIES:Senior and University
END:VEVENT
BEGIN:VEVENT
DTSTART;TZID=America/New_York:20260509T080000
DTEND;TZID=America/New_York:20260509T100000
DTSTAMP:20260420T180323
CREATED:20260215T170607Z
LAST-MODIFIED:20260420T214143Z
UID:10001180-1778313600-1778320800@ottawarowingclub.com
SUMMARY:Masters
DESCRIPTION:
URL:https://ottawarowingclub.com/event/masters-3/
CATEGORIES:Masters
END:VEVENT
BEGIN:VEVENT
DTSTART;TZID=America/New_York:20260510T080000
DTEND;TZID=America/New_York:20260510T100000
DTSTAMP:20260420T180323
CREATED:20260206T133627Z
LAST-MODIFIED:20260419T224145Z
UID:10001067-1778400000-1778407200@ottawarowingclub.com
SUMMARY:Club
DESCRIPTION:
URL:https://ottawarowingclub.com/event/club/
CATEGORIES:Club Rowing
END:VEVENT
BEGIN:VEVENT
DTSTART;TZID=America/New_York:20260511T050000
DTEND;TZID=America/New_York:20260511T070000
DTSTAMP:20260420T180323
CREATED:20260115T205106Z
LAST-MODIFIED:20260420T212646Z
UID:10000515-1778475600-1778482800@ottawarowingclub.com
SUMMARY:Seniors
DESCRIPTION:
URL:https://ottawarowingclub.com/event/seniors-7/
CATEGORIES:Senior and University
END:VEVENT
BEGIN:VEVENT
DTSTART;TZID=America/New_York:20260511T181500
DTEND;TZID=America/New_York:20260511T201500
DTSTAMP:20260420T180323
CREATED:20260215T170609Z
LAST-MODIFIED:20260420T214143Z
UID:10001181-1778523300-1778530500@ottawarowingclub.com
SUMMARY:Masters
DESCRIPTION:
URL:https://ottawarowingclub.com/event/masters-4/
CATEGORIES:Masters
END:VEVENT
BEGIN:VEVENT
DTSTART;TZID=America/New_York:20260512T050000
DTEND;TZID=America/New_York:20260512T070000
DTSTAMP:20260420T180323
CREATED:20260115T205107Z
LAST-MODIFIED:20260420T212646Z
UID:10000516-1778562000-1778569200@ottawarowingclub.com
SUMMARY:Seniors
DESCRIPTION:
URL:https://ottawarowingclub.com/event/seniors-8/
CATEGORIES:Senior and University
END:VEVENT
BEGIN:VEVENT
DTSTART;TZID=America/New_York:20260512T180000
DTEND;TZID=America/New_York:20260512T200000
DTSTAMP:20260420T180323
CREATED:20260206T133627Z
LAST-MODIFIED:20260419T224145Z
UID:10001068-1778608800-1778616000@ottawarowingclub.com
SUMMARY:Club + Development
DESCRIPTION:
URL:https://ottawarowingclub.com/event/club-development-3/
CATEGORIES:Club Rowing
END:VEVENT
BEGIN:VEVENT
DTSTART;TZID=America/New_York:20260513T050000
DTEND;TZID=America/New_York:20260513T070000
DTSTAMP:20260420T180323
CREATED:20260115T205107Z
LAST-MODIFIED:20260420T212646Z
UID:10000517-1778648400-1778655600@ottawarowingclub.com
SUMMARY:Seniors
DESCRIPTION:
URL:https://ottawarowingclub.com/event/seniors-9/
CATEGORIES:Senior and University
END:VEVENT
BEGIN:VEVENT
DTSTART;TZID=America/New_York:20260513T181500
DTEND;TZID=America/New_York:20260513T201500
DTSTAMP:20260420T180323
CREATED:20260215T170611Z
LAST-MODIFIED:20260420T214143Z
UID:10001183-1778696100-1778703300@ottawarowingclub.com
SUMMARY:Masters
DESCRIPTION:
URL:https://ottawarowingclub.com/event/masters-5/
CATEGORIES:Masters
END:VEVENT
BEGIN:VEVENT
DTSTART;VALUE=DATE:20260514
DTEND;VALUE=DATE:20260515
DTSTAMP:20260420T180323
CREATED:20260115T205206Z
LAST-MODIFIED:20260417T184142Z
UID:10000560-1778716800-1778803199@ottawarowingclub.com
SUMMARY:Set-up: Jean-Benoit
DESCRIPTION:
URL:https://ottawarowingclub.com/event/set-up-jean-benoit/
CATEGORIES:Weddings and Private Events
END:VEVENT
BEGIN:VEVENT
DTSTART;TZID=America/New_York:20260514T050000
DTEND;TZID=America/New_York:20260514T070000
DTSTAMP:20260420T180323
CREATED:20260115T205107Z
LAST-MODIFIED:20260420T212646Z
UID:10000518-1778734800-1778742000@ottawarowingclub.com
SUMMARY:Seniors
DESCRIPTION:
URL:https://ottawarowingclub.com/event/seniors-10/
CATEGORIES:Senior and University
END:VEVENT
BEGIN:VEVENT
DTSTART;TZID=America/New_York:20260514T180000
DTEND;TZID=America/New_York:20260514T200000
DTSTAMP:20260420T180323
CREATED:20260206T133627Z
LAST-MODIFIED:20260419T224145Z
UID:10001069-1778781600-1778788800@ottawarowingclub.com
SUMMARY:Club + Development
DESCRIPTION:
URL:https://ottawarowingclub.com/event/club-development-4/
CATEGORIES:Club Rowing
END:VEVENT
BEGIN:VEVENT
DTSTART;VALUE=DATE:20260515
DTEND;VALUE=DATE:20260516
DTSTAMP:20260420T180323
CREATED:20260115T205206Z
LAST-MODIFIED:20260417T184142Z
UID:10000559-1778803200-1778889599@ottawarowingclub.com
SUMMARY:Wedding: Jean-Benoit
DESCRIPTION:
URL:https://ottawarowingclub.com/event/wedding-jean-benoit/
CATEGORIES:Weddings and Private Events
END:VEVENT
BEGIN:VEVENT
DTSTART;TZID=America/New_York:20260515T050000
DTEND;TZID=America/New_York:20260515T070000
DTSTAMP:20260420T180323
CREATED:20260115T205121Z
LAST-MODIFIED:20260420T212659Z
UID:10000519-1778821200-1778828400@ottawarowingclub.com
SUMMARY:Seniors
DESCRIPTION:
URL:https://ottawarowingclub.com/event/seniors-11/
CATEGORIES:Senior and University
END:VEVENT
BEGIN:VEVENT
DTSTART;TZID=America/New_York:20260516T060000
DTEND;TZID=America/New_York:20260516T080000
DTSTAMP:20260420T180323
CREATED:20260115T205121Z
LAST-MODIFIED:20260420T212659Z
UID:10000520-1778911200-1778918400@ottawarowingclub.com
SUMMARY:Seniors
DESCRIPTION:
URL:https://ottawarowingclub.com/event/seniors-12/
CATEGORIES:Senior and University
END:VEVENT
BEGIN:VEVENT
DTSTART;TZID=America/New_York:20260516T080000
DTEND;TZID=America/New_York:20260516T100000
DTSTAMP:20260420T180323
CREATED:20260215T170612Z
LAST-MODIFIED:20260420T214143Z
UID:10001185-1778918400-1778925600@ottawarowingclub.com
SUMMARY:Masters
DESCRIPTION:
URL:https://ottawarowingclub.com/event/masters-6/
CATEGORIES:Masters
END:VEVENT
BEGIN:VEVENT
DTSTART;TZID=America/New_York:20260517T080000
DTEND;TZID=America/New_York:20260517T100000
DTSTAMP:20260420T180323
CREATED:20260206T133627Z
LAST-MODIFIED:20260419T224145Z
UID:10001070-1779004800-1779012000@ottawarowingclub.com
SUMMARY:Club
DESCRIPTION:
URL:https://ottawarowingclub.com/event/club-2/
CATEGORIES:Club Rowing
END:VEVENT
END:VCALENDAR