BEGIN:VCALENDAR
VERSION:2.0
PRODID:-//Ottawa Rowing Club - ECPv6.15.20//NONSGML v1.0//EN
CALSCALE:GREGORIAN
METHOD:PUBLISH
X-WR-CALNAME:Ottawa Rowing Club
X-ORIGINAL-URL:https://ottawarowingclub.com
X-WR-CALDESC:Events for Ottawa Rowing Club
REFRESH-INTERVAL;VALUE=DURATION:PT1H
X-Robots-Tag:noindex
X-PUBLISHED-TTL:PT1H
BEGIN:VTIMEZONE
TZID:America/New_York
BEGIN:DAYLIGHT
TZOFFSETFROM:-0500
TZOFFSETTO:-0400
TZNAME:EDT
DTSTART:20250309T070000
END:DAYLIGHT
BEGIN:STANDARD
TZOFFSETFROM:-0400
TZOFFSETTO:-0500
TZNAME:EST
DTSTART:20251102T060000
END:STANDARD
BEGIN:DAYLIGHT
TZOFFSETFROM:-0500
TZOFFSETTO:-0400
TZNAME:EDT
DTSTART:20260308T070000
END:DAYLIGHT
BEGIN:STANDARD
TZOFFSETFROM:-0400
TZOFFSETTO:-0500
TZNAME:EST
DTSTART:20261101T060000
END:STANDARD
BEGIN:DAYLIGHT
TZOFFSETFROM:-0500
TZOFFSETTO:-0400
TZNAME:EDT
DTSTART:20270314T070000
END:DAYLIGHT
BEGIN:STANDARD
TZOFFSETFROM:-0400
TZOFFSETTO:-0500
TZNAME:EST
DTSTART:20271107T060000
END:STANDARD
END:VTIMEZONE
BEGIN:VEVENT
DTSTART;TZID=America/New_York:20260202T060000
DTEND;TZID=America/New_York:20260202T070000
DTSTAMP:20260419T125457
CREATED:20260121T150712Z
LAST-MODIFIED:20260202T112650Z
UID:10000679-1770012000-1770015600@ottawarowingclub.com
SUMMARY:S&C
DESCRIPTION:
URL:https://ottawarowingclub.com/event/sc-5/
LOCATION:FRST Fitness\, 1408 Bank St\, Ottawa\, ON K1H 7Y9\, Canada
CATEGORIES:Junior
END:VEVENT
BEGIN:VEVENT
DTSTART;TZID=America/New_York:20260203T060000
DTEND;TZID=America/New_York:20260203T073000
DTSTAMP:20260419T125457
CREATED:20260121T150712Z
LAST-MODIFIED:20260203T121140Z
UID:10000680-1770098400-1770103800@ottawarowingclub.com
SUMMARY:Erg
DESCRIPTION:
URL:https://ottawarowingclub.com/event/erg-4/
LOCATION:200 Lees – Building E\, 200 Lees Ave Building E\, Ottawa\, ON K1S 5S9\, Canada
CATEGORIES:Junior
END:VEVENT
BEGIN:VEVENT
DTSTART;TZID=America/New_York:20260204T060000
DTEND;TZID=America/New_York:20260204T070000
DTSTAMP:20260419T125457
CREATED:20260121T150713Z
LAST-MODIFIED:20260204T115638Z
UID:10000681-1770184800-1770188400@ottawarowingclub.com
SUMMARY:S&C
DESCRIPTION:
URL:https://ottawarowingclub.com/event/sc-6/
LOCATION:FRST Fitness\, 1408 Bank St\, Ottawa\, ON K1H 7Y9\, Canada
CATEGORIES:Junior
END:VEVENT
BEGIN:VEVENT
DTSTART;TZID=America/New_York:20260205T060000
DTEND;TZID=America/New_York:20260205T073000
DTSTAMP:20260419T125457
CREATED:20260121T150713Z
LAST-MODIFIED:20260205T114136Z
UID:10000682-1770271200-1770276600@ottawarowingclub.com
SUMMARY:Erg
DESCRIPTION:
URL:https://ottawarowingclub.com/event/erg-5/
LOCATION:200 Lees – Building E\, 200 Lees Ave Building E\, Ottawa\, ON K1S 5S9\, Canada
CATEGORIES:Junior
END:VEVENT
BEGIN:VEVENT
DTSTART;TZID=America/New_York:20260206T060000
DTEND;TZID=America/New_York:20260206T070000
DTSTAMP:20260419T125457
CREATED:20260121T150713Z
LAST-MODIFIED:20260206T112732Z
UID:10000683-1770357600-1770361200@ottawarowingclub.com
SUMMARY:S&C
DESCRIPTION:
URL:https://ottawarowingclub.com/event/sc-7/
LOCATION:FRST Fitness\, 1408 Bank St\, Ottawa\, ON K1H 7Y9\, Canada
CATEGORIES:Junior
END:VEVENT
BEGIN:VEVENT
DTSTART;TZID=America/New_York:20260207T083000
DTEND;TZID=America/New_York:20260207T103000
DTSTAMP:20260419T125457
CREATED:20260121T150714Z
LAST-MODIFIED:20260207T142639Z
UID:10000684-1770453000-1770460200@ottawarowingclub.com
SUMMARY:Stair Run + Erg
DESCRIPTION:
URL:https://ottawarowingclub.com/event/stair-run-erg-2/
LOCATION:200 Lees – Building E\, 200 Lees Ave Building E\, Ottawa\, ON K1S 5S9\, Canada
CATEGORIES:Junior
END:VEVENT
BEGIN:VEVENT
DTSTART;TZID=America/New_York:20260209T060000
DTEND;TZID=America/New_York:20260209T070000
DTSTAMP:20260419T125457
CREATED:20260121T150714Z
LAST-MODIFIED:20260209T111139Z
UID:10000685-1770616800-1770620400@ottawarowingclub.com
SUMMARY:S&C
DESCRIPTION:
URL:https://ottawarowingclub.com/event/sc-8/
LOCATION:FRST Fitness\, 1408 Bank St\, Ottawa\, ON K1H 7Y9\, Canada
CATEGORIES:Junior
END:VEVENT
BEGIN:VEVENT
DTSTART;TZID=America/New_York:20260210T060000
DTEND;TZID=America/New_York:20260210T073000
DTSTAMP:20260419T125457
CREATED:20260121T150714Z
LAST-MODIFIED:20260210T115637Z
UID:10000686-1770703200-1770708600@ottawarowingclub.com
SUMMARY:Erg
DESCRIPTION:
URL:https://ottawarowingclub.com/event/erg-6/
LOCATION:200 Lees – Building E\, 200 Lees Ave Building E\, Ottawa\, ON K1S 5S9\, Canada
CATEGORIES:Junior
END:VEVENT
BEGIN:VEVENT
DTSTART;TZID=America/New_York:20260211T060000
DTEND;TZID=America/New_York:20260211T070000
DTSTAMP:20260419T125457
CREATED:20260121T150714Z
LAST-MODIFIED:20260211T111150Z
UID:10000687-1770789600-1770793200@ottawarowingclub.com
SUMMARY:S&C
DESCRIPTION:
URL:https://ottawarowingclub.com/event/sc-9/
LOCATION:FRST Fitness\, 1408 Bank St\, Ottawa\, ON K1H 7Y9\, Canada
CATEGORIES:Junior
END:VEVENT
BEGIN:VEVENT
DTSTART;TZID=America/New_York:20260211T190000
DTEND;TZID=America/New_York:20260211T210000
DTSTAMP:20260419T125457
CREATED:20260109T203928Z
LAST-MODIFIED:20260212T014341Z
UID:10000268-1770836400-1770843600@ottawarowingclub.com
SUMMARY:2026 Fireside Chat
DESCRIPTION:A meeting in preparation for the Annual General Meeting.\nJoin with Google Meet: https://meet.google.com/dzq-rtko-xxh\nOr dial: (CA) +1 226-317-8390 PIN: 466468126#\nMore phone numbers: https://tel.meet/dzq-rtko-xxh?pin=8615729864185&hs=7\nLearn more about Meet at: https://support.google.com/a/users/answer/9282720
URL:https://ottawarowingclub.com/event/2026-fireside-chat/
CATEGORIES:ORC Events
END:VEVENT
BEGIN:VEVENT
DTSTART;TZID=America/New_York:20260212T060000
DTEND;TZID=America/New_York:20260212T073000
DTSTAMP:20260419T125457
CREATED:20260121T150715Z
LAST-MODIFIED:20260212T114138Z
UID:10000688-1770876000-1770881400@ottawarowingclub.com
SUMMARY:Erg
DESCRIPTION:
URL:https://ottawarowingclub.com/event/erg-7/
LOCATION:200 Lees – Building E\, 200 Lees Ave Building E\, Ottawa\, ON K1S 5S9\, Canada
CATEGORIES:Junior
END:VEVENT
BEGIN:VEVENT
DTSTART;TZID=America/New_York:20260213T060000
DTEND;TZID=America/New_York:20260213T070000
DTSTAMP:20260419T125457
CREATED:20260121T150728Z
LAST-MODIFIED:20260213T114142Z
UID:10000689-1770962400-1770966000@ottawarowingclub.com
SUMMARY:S&C
DESCRIPTION:
URL:https://ottawarowingclub.com/event/sc-10/
LOCATION:FRST Fitness\, 1408 Bank St\, Ottawa\, ON K1H 7Y9\, Canada
CATEGORIES:Junior
END:VEVENT
BEGIN:VEVENT
DTSTART;TZID=America/New_York:20260214T083000
DTEND;TZID=America/New_York:20260214T103000
DTSTAMP:20260419T125457
CREATED:20260121T150728Z
LAST-MODIFIED:20260214T145639Z
UID:10000690-1771057800-1771065000@ottawarowingclub.com
SUMMARY:Stair Run + Erg
DESCRIPTION:
URL:https://ottawarowingclub.com/event/stair-run-erg-3/
LOCATION:200 Lees – Building E\, 200 Lees Ave Building E\, Ottawa\, ON K1S 5S9\, Canada
CATEGORIES:Junior
END:VEVENT
BEGIN:VEVENT
DTSTART;TZID=America/New_York:20260216T060000
DTEND;TZID=America/New_York:20260216T070000
DTSTAMP:20260419T125457
CREATED:20260121T150729Z
LAST-MODIFIED:20260216T114143Z
UID:10000691-1771221600-1771225200@ottawarowingclub.com
SUMMARY:CANCELLED - S&C
DESCRIPTION:
URL:https://ottawarowingclub.com/event/sc-11/
LOCATION:FRST Fitness\, 1408 Bank St\, Ottawa\, ON K1H 7Y9\, Canada
CATEGORIES:Junior
END:VEVENT
BEGIN:VEVENT
DTSTART;TZID=America/New_York:20260217T060000
DTEND;TZID=America/New_York:20260217T073000
DTSTAMP:20260419T125457
CREATED:20260121T150729Z
LAST-MODIFIED:20260217T121140Z
UID:10000692-1771308000-1771313400@ottawarowingclub.com
SUMMARY:Erg
DESCRIPTION:
URL:https://ottawarowingclub.com/event/erg-8/
LOCATION:200 Lees – Building E\, 200 Lees Ave Building E\, Ottawa\, ON K1S 5S9\, Canada
CATEGORIES:Junior
END:VEVENT
BEGIN:VEVENT
DTSTART;TZID=America/New_York:20260218T060000
DTEND;TZID=America/New_York:20260218T070000
DTSTAMP:20260419T125457
CREATED:20260121T150729Z
LAST-MODIFIED:20260218T115636Z
UID:10000693-1771394400-1771398000@ottawarowingclub.com
SUMMARY:S&C
DESCRIPTION:
URL:https://ottawarowingclub.com/event/sc-12/
LOCATION:FRST Fitness\, 1408 Bank St\, Ottawa\, ON K1H 7Y9\, Canada
CATEGORIES:Junior
END:VEVENT
BEGIN:VEVENT
DTSTART;TZID=America/New_York:20260218T190000
DTEND;TZID=America/New_York:20260218T210000
DTSTAMP:20260419T125457
CREATED:20260109T203928Z
LAST-MODIFIED:20260218T145648Z
UID:10000269-1771441200-1771448400@ottawarowingclub.com
SUMMARY:2026 Annual General Meeting
DESCRIPTION:Looking for the Proxy Form?https://forms.gle/hBZww2ZT5dGi39ty9\nJoin with Google Meet: https://meet.google.com/quf-sjzm-esx\nOr dial: (CA) +1 705-417-9493 PIN: 994165526#\nMore phone numbers: https://tel.meet/quf-sjzm-esx?pin=8398364674452&hs=7\nLearn more about Meet at: https://support.google.com/a/users/answer/9282720
URL:https://ottawarowingclub.com/event/2026-annual-general-meeting/
CATEGORIES:ORC Events
ORGANIZER;CN="c_99rllrb5k91n648hsirb197b68@group.calendar.google.com":MAILTO:c_99rllrb5k91n648hsirb197b68@group.calendar.google.com
END:VEVENT
BEGIN:VEVENT
DTSTART;TZID=America/New_York:20260219T060000
DTEND;TZID=America/New_York:20260219T073000
DTSTAMP:20260419T125457
CREATED:20260121T150729Z
LAST-MODIFIED:20260219T112640Z
UID:10000694-1771480800-1771486200@ottawarowingclub.com
SUMMARY:Erg
DESCRIPTION:
URL:https://ottawarowingclub.com/event/erg-9/
LOCATION:200 Lees – Building E\, 200 Lees Ave Building E\, Ottawa\, ON K1S 5S9\, Canada
CATEGORIES:Junior
END:VEVENT
BEGIN:VEVENT
DTSTART;TZID=America/New_York:20260220T060000
DTEND;TZID=America/New_York:20260220T070000
DTSTAMP:20260419T125457
CREATED:20260121T150729Z
LAST-MODIFIED:20260220T111138Z
UID:10000695-1771567200-1771570800@ottawarowingclub.com
SUMMARY:S&C
DESCRIPTION:
URL:https://ottawarowingclub.com/event/sc-13/
LOCATION:FRST Fitness\, 1408 Bank St\, Ottawa\, ON K1H 7Y9\, Canada
CATEGORIES:Junior
END:VEVENT
BEGIN:VEVENT
DTSTART;VALUE=DATE:20260221
DTEND;VALUE=DATE:20260222
DTSTAMP:20260419T125457
CREATED:20260121T150730Z
LAST-MODIFIED:20260221T232639Z
UID:10000697-1771632000-1771718399@ottawarowingclub.com
SUMMARY:Indoor Rowing Day in Canada
DESCRIPTION:More info
URL:https://ottawarowingclub.com/event/indoor-rowing-day-in-canada/
CATEGORIES:Junior
END:VEVENT
BEGIN:VEVENT
DTSTART;TZID=America/New_York:20260221T083000
DTEND;TZID=America/New_York:20260221T103000
DTSTAMP:20260419T125457
CREATED:20260121T150730Z
LAST-MODIFIED:20260221T144134Z
UID:10000696-1771662600-1771669800@ottawarowingclub.com
SUMMARY:Stair Run + Erg
DESCRIPTION:
URL:https://ottawarowingclub.com/event/stair-run-erg-4/
LOCATION:200 Lees – Building E\, 200 Lees Ave Building E\, Ottawa\, ON K1S 5S9\, Canada
CATEGORIES:Junior
END:VEVENT
BEGIN:VEVENT
DTSTART;TZID=America/New_York:20260223T060000
DTEND;TZID=America/New_York:20260223T070000
DTSTAMP:20260419T125457
CREATED:20260121T150730Z
LAST-MODIFIED:20260223T112641Z
UID:10000698-1771826400-1771830000@ottawarowingclub.com
SUMMARY:S&C
DESCRIPTION:
URL:https://ottawarowingclub.com/event/sc-14/
LOCATION:FRST Fitness\, 1408 Bank St\, Ottawa\, ON K1H 7Y9\, Canada
CATEGORIES:Junior
END:VEVENT
BEGIN:VEVENT
DTSTART;TZID=America/New_York:20260224T060000
DTEND;TZID=America/New_York:20260224T073000
DTSTAMP:20260419T125457
CREATED:20260121T150743Z
LAST-MODIFIED:20260224T112647Z
UID:10000699-1771912800-1771918200@ottawarowingclub.com
SUMMARY:Erg
DESCRIPTION:
URL:https://ottawarowingclub.com/event/erg-10/
LOCATION:200 Lees – Building E\, 200 Lees Ave Building E\, Ottawa\, ON K1S 5S9\, Canada
CATEGORIES:Junior
END:VEVENT
BEGIN:VEVENT
DTSTART;TZID=America/New_York:20260225T060000
DTEND;TZID=America/New_York:20260225T070000
DTSTAMP:20260419T125457
CREATED:20260121T150744Z
LAST-MODIFIED:20260225T111136Z
UID:10000700-1771999200-1772002800@ottawarowingclub.com
SUMMARY:S&C
DESCRIPTION:
URL:https://ottawarowingclub.com/event/sc-15/
LOCATION:FRST Fitness\, 1408 Bank St\, Ottawa\, ON K1H 7Y9\, Canada
CATEGORIES:Junior
END:VEVENT
BEGIN:VEVENT
DTSTART;TZID=America/New_York:20260226T060000
DTEND;TZID=America/New_York:20260226T073000
DTSTAMP:20260419T125457
CREATED:20260121T150744Z
LAST-MODIFIED:20260226T115645Z
UID:10000701-1772085600-1772091000@ottawarowingclub.com
SUMMARY:Erg
DESCRIPTION:
URL:https://ottawarowingclub.com/event/erg-11/
LOCATION:200 Lees – Building E\, 200 Lees Ave Building E\, Ottawa\, ON K1S 5S9\, Canada
CATEGORIES:Junior
END:VEVENT
BEGIN:VEVENT
DTSTART;TZID=America/New_York:20260227T060000
DTEND;TZID=America/New_York:20260227T070000
DTSTAMP:20260419T125457
CREATED:20260121T150745Z
LAST-MODIFIED:20260227T114144Z
UID:10000702-1772172000-1772175600@ottawarowingclub.com
SUMMARY:S&C
DESCRIPTION:
URL:https://ottawarowingclub.com/event/sc-16/
LOCATION:FRST Fitness\, 1408 Bank St\, Ottawa\, ON K1H 7Y9\, Canada
CATEGORIES:Junior
END:VEVENT
BEGIN:VEVENT
DTSTART;TZID=America/New_York:20260228T083000
DTEND;TZID=America/New_York:20260228T103000
DTSTAMP:20260419T125457
CREATED:20260121T150745Z
LAST-MODIFIED:20260228T144148Z
UID:10000703-1772267400-1772274600@ottawarowingclub.com
SUMMARY:Stair Run + Erg
DESCRIPTION:
URL:https://ottawarowingclub.com/event/stair-run-erg-5/
LOCATION:200 Lees – Building E\, 200 Lees Ave Building E\, Ottawa\, ON K1S 5S9\, Canada
CATEGORIES:Junior
END:VEVENT
END:VCALENDAR