BEGIN:VCALENDAR
VERSION:2.0
PRODID:-//Ottawa Rowing Club - ECPv6.15.20//NONSGML v1.0//EN
CALSCALE:GREGORIAN
METHOD:PUBLISH
X-WR-CALNAME:Ottawa Rowing Club
X-ORIGINAL-URL:https://ottawarowingclub.com
X-WR-CALDESC:Events for Ottawa Rowing Club
REFRESH-INTERVAL;VALUE=DURATION:PT1H
X-Robots-Tag:noindex
X-PUBLISHED-TTL:PT1H
BEGIN:VTIMEZONE
TZID:America/New_York
BEGIN:DAYLIGHT
TZOFFSETFROM:-0500
TZOFFSETTO:-0400
TZNAME:EDT
DTSTART:20250309T070000
END:DAYLIGHT
BEGIN:STANDARD
TZOFFSETFROM:-0400
TZOFFSETTO:-0500
TZNAME:EST
DTSTART:20251102T060000
END:STANDARD
BEGIN:DAYLIGHT
TZOFFSETFROM:-0500
TZOFFSETTO:-0400
TZNAME:EDT
DTSTART:20260308T070000
END:DAYLIGHT
BEGIN:STANDARD
TZOFFSETFROM:-0400
TZOFFSETTO:-0500
TZNAME:EST
DTSTART:20261101T060000
END:STANDARD
BEGIN:DAYLIGHT
TZOFFSETFROM:-0500
TZOFFSETTO:-0400
TZNAME:EDT
DTSTART:20270314T070000
END:DAYLIGHT
BEGIN:STANDARD
TZOFFSETFROM:-0400
TZOFFSETTO:-0500
TZNAME:EST
DTSTART:20271107T060000
END:STANDARD
BEGIN:DAYLIGHT
TZOFFSETFROM:-0500
TZOFFSETTO:-0400
TZNAME:EDT
DTSTART:20280312T070000
END:DAYLIGHT
BEGIN:STANDARD
TZOFFSETFROM:-0400
TZOFFSETTO:-0500
TZNAME:EST
DTSTART:20281105T060000
END:STANDARD
END:VTIMEZONE
BEGIN:VEVENT
DTSTART;VALUE=DATE:20260509
DTEND;VALUE=DATE:20260510
DTSTAMP:20260419T162820
CREATED:20260326T222650Z
LAST-MODIFIED:20260417T184141Z
UID:10001348-1778284800-1778371199@ottawarowingclub.com
SUMMARY:Umpire Meet and Greet
DESCRIPTION:
URL:https://ottawarowingclub.com/event/umpire-meet-and-greet/
CATEGORIES:Weddings and Private Events
END:VEVENT
BEGIN:VEVENT
DTSTART;VALUE=DATE:20260514
DTEND;VALUE=DATE:20260515
DTSTAMP:20260419T162820
CREATED:20260115T205206Z
LAST-MODIFIED:20260417T184142Z
UID:10000560-1778716800-1778803199@ottawarowingclub.com
SUMMARY:Set-up: Jean-Benoit
DESCRIPTION:
URL:https://ottawarowingclub.com/event/set-up-jean-benoit/
CATEGORIES:Weddings and Private Events
END:VEVENT
BEGIN:VEVENT
DTSTART;VALUE=DATE:20260515
DTEND;VALUE=DATE:20260516
DTSTAMP:20260419T162820
CREATED:20260115T205206Z
LAST-MODIFIED:20260417T184142Z
UID:10000559-1778803200-1778889599@ottawarowingclub.com
SUMMARY:Wedding: Jean-Benoit
DESCRIPTION:
URL:https://ottawarowingclub.com/event/wedding-jean-benoit/
CATEGORIES:Weddings and Private Events
END:VEVENT
BEGIN:VEVENT
DTSTART;VALUE=DATE:20260529
DTEND;VALUE=DATE:20260530
DTSTAMP:20260419T162820
CREATED:20260115T205206Z
LAST-MODIFIED:20260417T184142Z
UID:10000562-1780012800-1780099199@ottawarowingclub.com
SUMMARY:Set-up: Melodie M
DESCRIPTION:
URL:https://ottawarowingclub.com/event/set-up-melodie-m/
CATEGORIES:Weddings and Private Events
END:VEVENT
BEGIN:VEVENT
DTSTART;VALUE=DATE:20260530
DTEND;VALUE=DATE:20260531
DTSTAMP:20260419T162820
CREATED:20260115T205206Z
LAST-MODIFIED:20260417T184142Z
UID:10000561-1780099200-1780185599@ottawarowingclub.com
SUMMARY:Wedding: Melodie M
DESCRIPTION:
URL:https://ottawarowingclub.com/event/wedding-melodie-m/
CATEGORIES:Weddings and Private Events
END:VEVENT
BEGIN:VEVENT
DTSTART;VALUE=DATE:20260605
DTEND;VALUE=DATE:20260606
DTSTAMP:20260419T162820
CREATED:20260115T205206Z
LAST-MODIFIED:20260417T184142Z
UID:10000564-1780617600-1780703999@ottawarowingclub.com
SUMMARY:Set-up: Henry + Kelly
DESCRIPTION:
URL:https://ottawarowingclub.com/event/set-up-henry-kelly/
CATEGORIES:Weddings and Private Events
END:VEVENT
BEGIN:VEVENT
DTSTART;VALUE=DATE:20260606
DTEND;VALUE=DATE:20260607
DTSTAMP:20260419T162820
CREATED:20260115T205206Z
LAST-MODIFIED:20260417T184142Z
UID:10000563-1780704000-1780790399@ottawarowingclub.com
SUMMARY:Wedding: Henry + Kelly
DESCRIPTION:
URL:https://ottawarowingclub.com/event/wedding-henry-kelly/
CATEGORIES:Weddings and Private Events
END:VEVENT
BEGIN:VEVENT
DTSTART;VALUE=DATE:20260612
DTEND;VALUE=DATE:20260613
DTSTAMP:20260419T162820
CREATED:20260115T205207Z
LAST-MODIFIED:20260417T184142Z
UID:10000566-1781222400-1781308799@ottawarowingclub.com
SUMMARY:Set-up: Sarah P
DESCRIPTION:
URL:https://ottawarowingclub.com/event/set-up-sarah-p/
CATEGORIES:Weddings and Private Events
END:VEVENT
BEGIN:VEVENT
DTSTART;VALUE=DATE:20260613
DTEND;VALUE=DATE:20260614
DTSTAMP:20260419T162820
CREATED:20260115T205207Z
LAST-MODIFIED:20260417T184142Z
UID:10000565-1781308800-1781395199@ottawarowingclub.com
SUMMARY:Wedding: Sarah P
DESCRIPTION:
URL:https://ottawarowingclub.com/event/wedding-sarah-p/
CATEGORIES:Weddings and Private Events
END:VEVENT
BEGIN:VEVENT
DTSTART;VALUE=DATE:20260808
DTEND;VALUE=DATE:20260809
DTSTAMP:20260419T162820
CREATED:20260115T205207Z
LAST-MODIFIED:20260417T184142Z
UID:10000567-1786147200-1786233599@ottawarowingclub.com
SUMMARY:Wedding: Lise Sutherland
DESCRIPTION:
URL:https://ottawarowingclub.com/event/wedding-lise-sutherland/
CATEGORIES:Weddings and Private Events
END:VEVENT
BEGIN:VEVENT
DTSTART;VALUE=DATE:20260821
DTEND;VALUE=DATE:20260822
DTSTAMP:20260419T162820
CREATED:20260115T205207Z
LAST-MODIFIED:20260417T184159Z
UID:10000568-1787270400-1787356799@ottawarowingclub.com
SUMMARY:Set-up: Merek C
DESCRIPTION:
URL:https://ottawarowingclub.com/event/set-up-merek-c/
CATEGORIES:Weddings and Private Events
END:VEVENT
BEGIN:VEVENT
DTSTART;VALUE=DATE:20260822
DTEND;VALUE=DATE:20260823
DTSTAMP:20260419T162820
CREATED:20260115T205220Z
LAST-MODIFIED:20260417T184159Z
UID:10000579-1787356800-1787443199@ottawarowingclub.com
SUMMARY:Wedding: Merek C
DESCRIPTION:
URL:https://ottawarowingclub.com/event/wedding-merek-c/
CATEGORIES:Weddings and Private Events
END:VEVENT
BEGIN:VEVENT
DTSTART;VALUE=DATE:20260904
DTEND;VALUE=DATE:20260905
DTSTAMP:20260419T162820
CREATED:20260115T205220Z
LAST-MODIFIED:20260417T184200Z
UID:10000581-1788480000-1788566399@ottawarowingclub.com
SUMMARY:Set-up: Russel RG
DESCRIPTION:
URL:https://ottawarowingclub.com/event/set-up-russel-rg/
CATEGORIES:Weddings and Private Events
END:VEVENT
BEGIN:VEVENT
DTSTART;VALUE=DATE:20260905
DTEND;VALUE=DATE:20260906
DTSTAMP:20260419T162820
CREATED:20260115T205220Z
LAST-MODIFIED:20260417T184200Z
UID:10000580-1788566400-1788652799@ottawarowingclub.com
SUMMARY:Wedding: Russel RG
DESCRIPTION:
URL:https://ottawarowingclub.com/event/wedding-russel-rg/
CATEGORIES:Weddings and Private Events
END:VEVENT
BEGIN:VEVENT
DTSTART;VALUE=DATE:20260911
DTEND;VALUE=DATE:20260912
DTSTAMP:20260419T162820
CREATED:20260319T022648Z
LAST-MODIFIED:20260417T184200Z
UID:10001345-1789084800-1789171199@ottawarowingclub.com
SUMMARY:Set-up: Michelle and Geoff
DESCRIPTION:
URL:https://ottawarowingclub.com/event/set-up-michelle-and-geoff/
CATEGORIES:Weddings and Private Events
END:VEVENT
BEGIN:VEVENT
DTSTART;VALUE=DATE:20260912
DTEND;VALUE=DATE:20260913
DTSTAMP:20260419T162820
CREATED:20260319T022648Z
LAST-MODIFIED:20260417T184200Z
UID:10001344-1789171200-1789257599@ottawarowingclub.com
SUMMARY:Wedding: Michelle and Geoff
DESCRIPTION:
URL:https://ottawarowingclub.com/event/wedding-michelle-and-geoff/
CATEGORIES:Weddings and Private Events
END:VEVENT
BEGIN:VEVENT
DTSTART;VALUE=DATE:20270807
DTEND;VALUE=DATE:20270808
DTSTAMP:20260419T162820
CREATED:20260115T205220Z
LAST-MODIFIED:20260417T184200Z
UID:10000582-1817596800-1817683199@ottawarowingclub.com
SUMMARY:Event: Bruce and Ruth - Clear Ottawa
DESCRIPTION:
URL:https://ottawarowingclub.com/event/event-bruce-and-ruth-clear-ottawa/
CATEGORIES:Weddings and Private Events
END:VEVENT
BEGIN:VEVENT
DTSTART;VALUE=DATE:20270917
DTEND;VALUE=DATE:20270918
DTSTAMP:20260419T162820
CREATED:20260212T020230Z
LAST-MODIFIED:20260417T184201Z
UID:10001143-1821139200-1821225599@ottawarowingclub.com
SUMMARY:Set-Up: Michael G
DESCRIPTION:
URL:https://ottawarowingclub.com/event/set-up-michael-g-tentative/
CATEGORIES:Weddings and Private Events
END:VEVENT
BEGIN:VEVENT
DTSTART;VALUE=DATE:20270918
DTEND;VALUE=DATE:20270919
DTSTAMP:20260419T162820
CREATED:20260212T020229Z
LAST-MODIFIED:20260417T184200Z
UID:10001142-1821225600-1821311999@ottawarowingclub.com
SUMMARY:Wedding: Michael G
DESCRIPTION:
URL:https://ottawarowingclub.com/event/wedding-michael-g-tentative/
CATEGORIES:Weddings and Private Events
END:VEVENT
END:VCALENDAR