BEGIN:VCALENDAR
VERSION:2.0
PRODID:-//Ottawa Rowing Club - ECPv6.15.20//NONSGML v1.0//EN
CALSCALE:GREGORIAN
METHOD:PUBLISH
X-ORIGINAL-URL:https://ottawarowingclub.com
X-WR-CALDESC:Events for Ottawa Rowing Club
REFRESH-INTERVAL;VALUE=DURATION:PT1H
X-Robots-Tag:noindex
X-PUBLISHED-TTL:PT1H
BEGIN:VTIMEZONE
TZID:America/New_York
BEGIN:DAYLIGHT
TZOFFSETFROM:-0500
TZOFFSETTO:-0400
TZNAME:EDT
DTSTART:20250309T070000
END:DAYLIGHT
BEGIN:STANDARD
TZOFFSETFROM:-0400
TZOFFSETTO:-0500
TZNAME:EST
DTSTART:20251102T060000
END:STANDARD
BEGIN:DAYLIGHT
TZOFFSETFROM:-0500
TZOFFSETTO:-0400
TZNAME:EDT
DTSTART:20260308T070000
END:DAYLIGHT
BEGIN:STANDARD
TZOFFSETFROM:-0400
TZOFFSETTO:-0500
TZNAME:EST
DTSTART:20261101T060000
END:STANDARD
BEGIN:DAYLIGHT
TZOFFSETFROM:-0500
TZOFFSETTO:-0400
TZNAME:EDT
DTSTART:20270314T070000
END:DAYLIGHT
BEGIN:STANDARD
TZOFFSETFROM:-0400
TZOFFSETTO:-0500
TZNAME:EST
DTSTART:20271107T060000
END:STANDARD
END:VTIMEZONE
BEGIN:VEVENT
DTSTART;TZID=America/New_York:20261013T050000
DTEND;TZID=America/New_York:20261013T070000
DTSTAMP:20260422T125631
CREATED:20260115T205404Z
LAST-MODIFIED:20260422T155942Z
UID:10000652-1791867600-1791874800@ottawarowingclub.com
SUMMARY:Seniors
DESCRIPTION:
URL:https://ottawarowingclub.com/event/seniors-130/
CATEGORIES:Senior and University
END:VEVENT
BEGIN:VEVENT
DTSTART;TZID=America/New_York:20261014T050000
DTEND;TZID=America/New_York:20261014T070000
DTSTAMP:20260422T125631
CREATED:20260115T205418Z
LAST-MODIFIED:20260422T155943Z
UID:10000653-1791954000-1791961200@ottawarowingclub.com
SUMMARY:Seniors
DESCRIPTION:
URL:https://ottawarowingclub.com/event/seniors-131/
CATEGORIES:Senior and University
END:VEVENT
BEGIN:VEVENT
DTSTART;TZID=America/New_York:20261015T050000
DTEND;TZID=America/New_York:20261015T070000
DTSTAMP:20260422T125631
CREATED:20260115T205418Z
LAST-MODIFIED:20260422T155943Z
UID:10000654-1792040400-1792047600@ottawarowingclub.com
SUMMARY:Seniors
DESCRIPTION:
URL:https://ottawarowingclub.com/event/seniors-132/
CATEGORIES:Senior and University
END:VEVENT
BEGIN:VEVENT
DTSTART;TZID=America/New_York:20261016T050000
DTEND;TZID=America/New_York:20261016T070000
DTSTAMP:20260422T125631
CREATED:20260115T205418Z
LAST-MODIFIED:20260422T155943Z
UID:10000655-1792126800-1792134000@ottawarowingclub.com
SUMMARY:Seniors
DESCRIPTION:
URL:https://ottawarowingclub.com/event/seniors-133/
CATEGORIES:Senior and University
END:VEVENT
BEGIN:VEVENT
DTSTART;TZID=America/New_York:20261017T060000
DTEND;TZID=America/New_York:20261017T080000
DTSTAMP:20260422T125631
CREATED:20260115T205418Z
LAST-MODIFIED:20260422T155943Z
UID:10000656-1792216800-1792224000@ottawarowingclub.com
SUMMARY:Seniors
DESCRIPTION:
URL:https://ottawarowingclub.com/event/seniors-134/
CATEGORIES:Senior and University
END:VEVENT
END:VCALENDAR