BEGIN:VCALENDAR
VERSION:2.0
PRODID:-//Ottawa Rowing Club - ECPv6.15.20//NONSGML v1.0//EN
CALSCALE:GREGORIAN
METHOD:PUBLISH
X-WR-CALNAME:Ottawa Rowing Club
X-ORIGINAL-URL:https://ottawarowingclub.com
X-WR-CALDESC:Events for Ottawa Rowing Club
REFRESH-INTERVAL;VALUE=DURATION:PT1H
X-Robots-Tag:noindex
X-PUBLISHED-TTL:PT1H
BEGIN:VTIMEZONE
TZID:America/New_York
BEGIN:DAYLIGHT
TZOFFSETFROM:-0500
TZOFFSETTO:-0400
TZNAME:EDT
DTSTART:20250309T070000
END:DAYLIGHT
BEGIN:STANDARD
TZOFFSETFROM:-0400
TZOFFSETTO:-0500
TZNAME:EST
DTSTART:20251102T060000
END:STANDARD
BEGIN:DAYLIGHT
TZOFFSETFROM:-0500
TZOFFSETTO:-0400
TZNAME:EDT
DTSTART:20260308T070000
END:DAYLIGHT
BEGIN:STANDARD
TZOFFSETFROM:-0400
TZOFFSETTO:-0500
TZNAME:EST
DTSTART:20261101T060000
END:STANDARD
BEGIN:DAYLIGHT
TZOFFSETFROM:-0500
TZOFFSETTO:-0400
TZNAME:EDT
DTSTART:20270314T070000
END:DAYLIGHT
BEGIN:STANDARD
TZOFFSETFROM:-0400
TZOFFSETTO:-0500
TZNAME:EST
DTSTART:20271107T060000
END:STANDARD
END:VTIMEZONE
BEGIN:VEVENT
DTSTART;TZID=America/New_York:20260525T050000
DTEND;TZID=America/New_York:20260525T070000
DTSTAMP:20260421T211354
CREATED:20260115T205122Z
LAST-MODIFIED:20260422T005655Z
UID:10000526-1779685200-1779692400@ottawarowingclub.com
SUMMARY:Seniors
DESCRIPTION:
URL:https://ottawarowingclub.com/event/seniors-18/
CATEGORIES:Senior and University
END:VEVENT
BEGIN:VEVENT
DTSTART;TZID=America/New_York:20260526T050000
DTEND;TZID=America/New_York:20260526T070000
DTSTAMP:20260421T211354
CREATED:20260115T205122Z
LAST-MODIFIED:20260422T005655Z
UID:10000527-1779771600-1779778800@ottawarowingclub.com
SUMMARY:Seniors
DESCRIPTION:
URL:https://ottawarowingclub.com/event/seniors-19/
CATEGORIES:Senior and University
END:VEVENT
BEGIN:VEVENT
DTSTART;TZID=America/New_York:20260527T050000
DTEND;TZID=America/New_York:20260527T070000
DTSTAMP:20260421T211354
CREATED:20260115T205122Z
LAST-MODIFIED:20260422T005655Z
UID:10000528-1779858000-1779865200@ottawarowingclub.com
SUMMARY:Seniors
DESCRIPTION:
URL:https://ottawarowingclub.com/event/seniors-20/
CATEGORIES:Senior and University
END:VEVENT
BEGIN:VEVENT
DTSTART;TZID=America/New_York:20260528T050000
DTEND;TZID=America/New_York:20260528T070000
DTSTAMP:20260421T211354
CREATED:20260115T205135Z
LAST-MODIFIED:20260422T005710Z
UID:10000529-1779944400-1779951600@ottawarowingclub.com
SUMMARY:Seniors
DESCRIPTION:
URL:https://ottawarowingclub.com/event/seniors-21/
CATEGORIES:Senior and University
END:VEVENT
BEGIN:VEVENT
DTSTART;TZID=America/New_York:20260529T050000
DTEND;TZID=America/New_York:20260529T070000
DTSTAMP:20260421T211354
CREATED:20260115T205135Z
LAST-MODIFIED:20260422T005710Z
UID:10000530-1780030800-1780038000@ottawarowingclub.com
SUMMARY:Seniors
DESCRIPTION:
URL:https://ottawarowingclub.com/event/seniors-22/
CATEGORIES:Senior and University
END:VEVENT
BEGIN:VEVENT
DTSTART;TZID=America/New_York:20260530T060000
DTEND;TZID=America/New_York:20260530T080000
DTSTAMP:20260421T211354
CREATED:20260115T205135Z
LAST-MODIFIED:20260422T005710Z
UID:10000531-1780120800-1780128000@ottawarowingclub.com
SUMMARY:Seniors
DESCRIPTION:
URL:https://ottawarowingclub.com/event/seniors-23/
CATEGORIES:Senior and University
END:VEVENT
END:VCALENDAR