BEGIN:VCALENDAR
VERSION:2.0
PRODID:-//Ottawa Rowing Club - ECPv6.15.20//NONSGML v1.0//EN
CALSCALE:GREGORIAN
METHOD:PUBLISH
X-ORIGINAL-URL:https://ottawarowingclub.com
X-WR-CALDESC:Events for Ottawa Rowing Club
REFRESH-INTERVAL;VALUE=DURATION:PT1H
X-Robots-Tag:noindex
X-PUBLISHED-TTL:PT1H
BEGIN:VTIMEZONE
TZID:America/New_York
BEGIN:DAYLIGHT
TZOFFSETFROM:-0500
TZOFFSETTO:-0400
TZNAME:EDT
DTSTART:20250309T070000
END:DAYLIGHT
BEGIN:STANDARD
TZOFFSETFROM:-0400
TZOFFSETTO:-0500
TZNAME:EST
DTSTART:20251102T060000
END:STANDARD
BEGIN:DAYLIGHT
TZOFFSETFROM:-0500
TZOFFSETTO:-0400
TZNAME:EDT
DTSTART:20260308T070000
END:DAYLIGHT
BEGIN:STANDARD
TZOFFSETFROM:-0400
TZOFFSETTO:-0500
TZNAME:EST
DTSTART:20261101T060000
END:STANDARD
BEGIN:DAYLIGHT
TZOFFSETFROM:-0500
TZOFFSETTO:-0400
TZNAME:EDT
DTSTART:20270314T070000
END:DAYLIGHT
BEGIN:STANDARD
TZOFFSETFROM:-0400
TZOFFSETTO:-0500
TZNAME:EST
DTSTART:20271107T060000
END:STANDARD
END:VTIMEZONE
BEGIN:VEVENT
DTSTART;TZID=America/New_York:20261023T050000
DTEND;TZID=America/New_York:20261023T070000
DTSTAMP:20260422T193937
CREATED:20260115T205419Z
LAST-MODIFIED:20260422T231446Z
UID:10000661-1792731600-1792738800@ottawarowingclub.com
SUMMARY:Seniors
DESCRIPTION:
URL:https://ottawarowingclub.com/event/seniors-139/
CATEGORIES:Senior and University
END:VEVENT
BEGIN:VEVENT
DTSTART;TZID=America/New_York:20261024T060000
DTEND;TZID=America/New_York:20261024T080000
DTSTAMP:20260422T193937
CREATED:20260115T205419Z
LAST-MODIFIED:20260422T231446Z
UID:10000662-1792821600-1792828800@ottawarowingclub.com
SUMMARY:Seniors
DESCRIPTION:
URL:https://ottawarowingclub.com/event/seniors-140/
CATEGORIES:Senior and University
END:VEVENT
BEGIN:VEVENT
DTSTART;TZID=America/New_York:20261026T050000
DTEND;TZID=America/New_York:20261026T070000
DTSTAMP:20260422T193937
CREATED:20260115T205432Z
LAST-MODIFIED:20260422T231446Z
UID:10000663-1792990800-1792998000@ottawarowingclub.com
SUMMARY:Seniors
DESCRIPTION:
URL:https://ottawarowingclub.com/event/seniors-141/
CATEGORIES:Senior and University
END:VEVENT
BEGIN:VEVENT
DTSTART;TZID=America/New_York:20261027T050000
DTEND;TZID=America/New_York:20261027T070000
DTSTAMP:20260422T193937
CREATED:20260115T205432Z
LAST-MODIFIED:20260422T231446Z
UID:10000664-1793077200-1793084400@ottawarowingclub.com
SUMMARY:Seniors
DESCRIPTION:
URL:https://ottawarowingclub.com/event/seniors-142/
CATEGORIES:Senior and University
END:VEVENT
BEGIN:VEVENT
DTSTART;TZID=America/New_York:20261028T050000
DTEND;TZID=America/New_York:20261028T070000
DTSTAMP:20260422T193937
CREATED:20260115T205432Z
LAST-MODIFIED:20260422T231446Z
UID:10000665-1793163600-1793170800@ottawarowingclub.com
SUMMARY:Seniors
DESCRIPTION:
URL:https://ottawarowingclub.com/event/seniors-143/
CATEGORIES:Senior and University
END:VEVENT
BEGIN:VEVENT
DTSTART;TZID=America/New_York:20261029T050000
DTEND;TZID=America/New_York:20261029T070000
DTSTAMP:20260422T193937
CREATED:20260115T205432Z
LAST-MODIFIED:20260422T231446Z
UID:10000666-1793250000-1793257200@ottawarowingclub.com
SUMMARY:Seniors
DESCRIPTION:
URL:https://ottawarowingclub.com/event/seniors-144/
CATEGORIES:Senior and University
END:VEVENT
BEGIN:VEVENT
DTSTART;TZID=America/New_York:20261030T050000
DTEND;TZID=America/New_York:20261030T070000
DTSTAMP:20260422T193937
CREATED:20260115T205432Z
LAST-MODIFIED:20260422T231446Z
UID:10000667-1793336400-1793343600@ottawarowingclub.com
SUMMARY:Seniors
DESCRIPTION:
URL:https://ottawarowingclub.com/event/seniors-145/
CATEGORIES:Senior and University
END:VEVENT
END:VCALENDAR