BEGIN:VCALENDAR
VERSION:2.0
PRODID:-//Ottawa Rowing Club - ECPv6.15.20//NONSGML v1.0//EN
CALSCALE:GREGORIAN
METHOD:PUBLISH
X-ORIGINAL-URL:https://ottawarowingclub.com
X-WR-CALDESC:Events for Ottawa Rowing Club
REFRESH-INTERVAL;VALUE=DURATION:PT1H
X-Robots-Tag:noindex
X-PUBLISHED-TTL:PT1H
BEGIN:VTIMEZONE
TZID:America/New_York
BEGIN:DAYLIGHT
TZOFFSETFROM:-0500
TZOFFSETTO:-0400
TZNAME:EDT
DTSTART:20250309T070000
END:DAYLIGHT
BEGIN:STANDARD
TZOFFSETFROM:-0400
TZOFFSETTO:-0500
TZNAME:EST
DTSTART:20251102T060000
END:STANDARD
BEGIN:DAYLIGHT
TZOFFSETFROM:-0500
TZOFFSETTO:-0400
TZNAME:EDT
DTSTART:20260308T070000
END:DAYLIGHT
BEGIN:STANDARD
TZOFFSETFROM:-0400
TZOFFSETTO:-0500
TZNAME:EST
DTSTART:20261101T060000
END:STANDARD
BEGIN:DAYLIGHT
TZOFFSETFROM:-0500
TZOFFSETTO:-0400
TZNAME:EDT
DTSTART:20270314T070000
END:DAYLIGHT
BEGIN:STANDARD
TZOFFSETFROM:-0400
TZOFFSETTO:-0500
TZNAME:EST
DTSTART:20271107T060000
END:STANDARD
END:VTIMEZONE
BEGIN:VEVENT
DTSTART;TZID=America/New_York:20260702T050000
DTEND;TZID=America/New_York:20260702T070000
DTSTAMP:20260422T025450
CREATED:20260115T205204Z
LAST-MODIFIED:20260422T054224Z
UID:10000558-1782968400-1782975600@ottawarowingclub.com
SUMMARY:Seniors
DESCRIPTION:
URL:https://ottawarowingclub.com/event/seniors-50/
CATEGORIES:Senior and University
END:VEVENT
BEGIN:VEVENT
DTSTART;TZID=America/New_York:20260703T050000
DTEND;TZID=America/New_York:20260703T070000
DTSTAMP:20260422T025450
CREATED:20260115T205218Z
LAST-MODIFIED:20260422T054235Z
UID:10000569-1783054800-1783062000@ottawarowingclub.com
SUMMARY:Seniors
DESCRIPTION:
URL:https://ottawarowingclub.com/event/seniors-51/
CATEGORIES:Senior and University
END:VEVENT
BEGIN:VEVENT
DTSTART;TZID=America/New_York:20260704T060000
DTEND;TZID=America/New_York:20260704T080000
DTSTAMP:20260422T025450
CREATED:20260115T205218Z
LAST-MODIFIED:20260422T054235Z
UID:10000570-1783144800-1783152000@ottawarowingclub.com
SUMMARY:Seniors
DESCRIPTION:
URL:https://ottawarowingclub.com/event/seniors-52/
CATEGORIES:Senior and University
END:VEVENT
BEGIN:VEVENT
DTSTART;TZID=America/New_York:20260706T050000
DTEND;TZID=America/New_York:20260706T070000
DTSTAMP:20260422T025450
CREATED:20260115T205218Z
LAST-MODIFIED:20260422T054235Z
UID:10000571-1783314000-1783321200@ottawarowingclub.com
SUMMARY:Seniors
DESCRIPTION:
URL:https://ottawarowingclub.com/event/seniors-53/
CATEGORIES:Senior and University
END:VEVENT
BEGIN:VEVENT
DTSTART;TZID=America/New_York:20260707T050000
DTEND;TZID=America/New_York:20260707T070000
DTSTAMP:20260422T025450
CREATED:20260115T205218Z
LAST-MODIFIED:20260422T054235Z
UID:10000572-1783400400-1783407600@ottawarowingclub.com
SUMMARY:Seniors
DESCRIPTION:
URL:https://ottawarowingclub.com/event/seniors-54/
CATEGORIES:Senior and University
END:VEVENT
BEGIN:VEVENT
DTSTART;TZID=America/New_York:20260708T050000
DTEND;TZID=America/New_York:20260708T070000
DTSTAMP:20260422T025450
CREATED:20260115T205218Z
LAST-MODIFIED:20260422T054236Z
UID:10000573-1783486800-1783494000@ottawarowingclub.com
SUMMARY:Seniors
DESCRIPTION:
URL:https://ottawarowingclub.com/event/seniors-55/
CATEGORIES:Senior and University
END:VEVENT
BEGIN:VEVENT
DTSTART;TZID=America/New_York:20260709T050000
DTEND;TZID=America/New_York:20260709T070000
DTSTAMP:20260422T025450
CREATED:20260115T205218Z
LAST-MODIFIED:20260422T054236Z
UID:10000574-1783573200-1783580400@ottawarowingclub.com
SUMMARY:Seniors
DESCRIPTION:
URL:https://ottawarowingclub.com/event/seniors-56/
CATEGORIES:Senior and University
END:VEVENT
BEGIN:VEVENT
DTSTART;TZID=America/New_York:20260710T050000
DTEND;TZID=America/New_York:20260710T070000
DTSTAMP:20260422T025450
CREATED:20260115T205219Z
LAST-MODIFIED:20260422T054236Z
UID:10000575-1783659600-1783666800@ottawarowingclub.com
SUMMARY:Seniors
DESCRIPTION:
URL:https://ottawarowingclub.com/event/seniors-57/
CATEGORIES:Senior and University
END:VEVENT
BEGIN:VEVENT
DTSTART;TZID=America/New_York:20260711T060000
DTEND;TZID=America/New_York:20260711T080000
DTSTAMP:20260422T025450
CREATED:20260115T205219Z
LAST-MODIFIED:20260422T054236Z
UID:10000576-1783749600-1783756800@ottawarowingclub.com
SUMMARY:Seniors
DESCRIPTION:
URL:https://ottawarowingclub.com/event/seniors-58/
CATEGORIES:Senior and University
END:VEVENT
BEGIN:VEVENT
DTSTART;TZID=America/New_York:20260713T050000
DTEND;TZID=America/New_York:20260713T070000
DTSTAMP:20260422T025450
CREATED:20260115T205219Z
LAST-MODIFIED:20260422T054236Z
UID:10000577-1783918800-1783926000@ottawarowingclub.com
SUMMARY:Seniors
DESCRIPTION:
URL:https://ottawarowingclub.com/event/seniors-59/
CATEGORIES:Senior and University
END:VEVENT
BEGIN:VEVENT
DTSTART;TZID=America/New_York:20260714T050000
DTEND;TZID=America/New_York:20260714T070000
DTSTAMP:20260422T025450
CREATED:20260115T205219Z
LAST-MODIFIED:20260422T054236Z
UID:10000578-1784005200-1784012400@ottawarowingclub.com
SUMMARY:Seniors
DESCRIPTION:
URL:https://ottawarowingclub.com/event/seniors-60/
CATEGORIES:Senior and University
END:VEVENT
BEGIN:VEVENT
DTSTART;TZID=America/New_York:20260715T050000
DTEND;TZID=America/New_York:20260715T070000
DTSTAMP:20260422T025450
CREATED:20260115T205234Z
LAST-MODIFIED:20260422T054249Z
UID:10000583-1784091600-1784098800@ottawarowingclub.com
SUMMARY:Seniors
DESCRIPTION:
URL:https://ottawarowingclub.com/event/seniors-61/
CATEGORIES:Senior and University
END:VEVENT
BEGIN:VEVENT
DTSTART;TZID=America/New_York:20260716T050000
DTEND;TZID=America/New_York:20260716T070000
DTSTAMP:20260422T025450
CREATED:20260115T205234Z
LAST-MODIFIED:20260422T054249Z
UID:10000584-1784178000-1784185200@ottawarowingclub.com
SUMMARY:Seniors
DESCRIPTION:
URL:https://ottawarowingclub.com/event/seniors-62/
CATEGORIES:Senior and University
END:VEVENT
BEGIN:VEVENT
DTSTART;TZID=America/New_York:20260717T050000
DTEND;TZID=America/New_York:20260717T070000
DTSTAMP:20260422T025450
CREATED:20260115T205234Z
LAST-MODIFIED:20260422T054249Z
UID:10000585-1784264400-1784271600@ottawarowingclub.com
SUMMARY:Seniors
DESCRIPTION:
URL:https://ottawarowingclub.com/event/seniors-63/
CATEGORIES:Senior and University
END:VEVENT
BEGIN:VEVENT
DTSTART;TZID=America/New_York:20260718T060000
DTEND;TZID=America/New_York:20260718T080000
DTSTAMP:20260422T025450
CREATED:20260115T205234Z
LAST-MODIFIED:20260422T054249Z
UID:10000586-1784354400-1784361600@ottawarowingclub.com
SUMMARY:Seniors
DESCRIPTION:
URL:https://ottawarowingclub.com/event/seniors-64/
CATEGORIES:Senior and University
END:VEVENT
BEGIN:VEVENT
DTSTART;TZID=America/New_York:20260720T050000
DTEND;TZID=America/New_York:20260720T070000
DTSTAMP:20260422T025450
CREATED:20260115T205234Z
LAST-MODIFIED:20260422T054249Z
UID:10000587-1784523600-1784530800@ottawarowingclub.com
SUMMARY:Seniors
DESCRIPTION:
URL:https://ottawarowingclub.com/event/seniors-65/
CATEGORIES:Senior and University
END:VEVENT
BEGIN:VEVENT
DTSTART;TZID=America/New_York:20260721T050000
DTEND;TZID=America/New_York:20260721T070000
DTSTAMP:20260422T025450
CREATED:20260115T205234Z
LAST-MODIFIED:20260422T054249Z
UID:10000588-1784610000-1784617200@ottawarowingclub.com
SUMMARY:Seniors
DESCRIPTION:
URL:https://ottawarowingclub.com/event/seniors-66/
CATEGORIES:Senior and University
END:VEVENT
BEGIN:VEVENT
DTSTART;TZID=America/New_York:20260722T050000
DTEND;TZID=America/New_York:20260722T070000
DTSTAMP:20260422T025450
CREATED:20260115T205234Z
LAST-MODIFIED:20260422T054249Z
UID:10000589-1784696400-1784703600@ottawarowingclub.com
SUMMARY:Seniors
DESCRIPTION:
URL:https://ottawarowingclub.com/event/seniors-67/
CATEGORIES:Senior and University
END:VEVENT
BEGIN:VEVENT
DTSTART;TZID=America/New_York:20260723T050000
DTEND;TZID=America/New_York:20260723T070000
DTSTAMP:20260422T025450
CREATED:20260115T205234Z
LAST-MODIFIED:20260422T054249Z
UID:10000590-1784782800-1784790000@ottawarowingclub.com
SUMMARY:Seniors
DESCRIPTION:
URL:https://ottawarowingclub.com/event/seniors-68/
CATEGORIES:Senior and University
END:VEVENT
BEGIN:VEVENT
DTSTART;TZID=America/New_York:20260724T050000
DTEND;TZID=America/New_York:20260724T070000
DTSTAMP:20260422T025450
CREATED:20260115T205235Z
LAST-MODIFIED:20260422T054249Z
UID:10000591-1784869200-1784876400@ottawarowingclub.com
SUMMARY:Seniors
DESCRIPTION:
URL:https://ottawarowingclub.com/event/seniors-69/
CATEGORIES:Senior and University
END:VEVENT
BEGIN:VEVENT
DTSTART;TZID=America/New_York:20260725T060000
DTEND;TZID=America/New_York:20260725T080000
DTSTAMP:20260422T025450
CREATED:20260115T205235Z
LAST-MODIFIED:20260422T054249Z
UID:10000592-1784959200-1784966400@ottawarowingclub.com
SUMMARY:Seniors
DESCRIPTION:
URL:https://ottawarowingclub.com/event/seniors-70/
CATEGORIES:Senior and University
END:VEVENT
BEGIN:VEVENT
DTSTART;TZID=America/New_York:20260727T050000
DTEND;TZID=America/New_York:20260727T070000
DTSTAMP:20260422T025450
CREATED:20260115T205248Z
LAST-MODIFIED:20260422T054302Z
UID:10000593-1785128400-1785135600@ottawarowingclub.com
SUMMARY:Seniors
DESCRIPTION:
URL:https://ottawarowingclub.com/event/seniors-71/
CATEGORIES:Senior and University
END:VEVENT
BEGIN:VEVENT
DTSTART;TZID=America/New_York:20260728T050000
DTEND;TZID=America/New_York:20260728T070000
DTSTAMP:20260422T025450
CREATED:20260115T205248Z
LAST-MODIFIED:20260422T054302Z
UID:10000594-1785214800-1785222000@ottawarowingclub.com
SUMMARY:Seniors
DESCRIPTION:
URL:https://ottawarowingclub.com/event/seniors-72/
CATEGORIES:Senior and University
END:VEVENT
BEGIN:VEVENT
DTSTART;TZID=America/New_York:20260729T050000
DTEND;TZID=America/New_York:20260729T070000
DTSTAMP:20260422T025450
CREATED:20260115T205248Z
LAST-MODIFIED:20260422T054302Z
UID:10000595-1785301200-1785308400@ottawarowingclub.com
SUMMARY:Seniors
DESCRIPTION:
URL:https://ottawarowingclub.com/event/seniors-73/
CATEGORIES:Senior and University
END:VEVENT
BEGIN:VEVENT
DTSTART;TZID=America/New_York:20260730T050000
DTEND;TZID=America/New_York:20260730T070000
DTSTAMP:20260422T025450
CREATED:20260115T205249Z
LAST-MODIFIED:20260422T054302Z
UID:10000596-1785387600-1785394800@ottawarowingclub.com
SUMMARY:Seniors
DESCRIPTION:
URL:https://ottawarowingclub.com/event/seniors-74/
CATEGORIES:Senior and University
END:VEVENT
BEGIN:VEVENT
DTSTART;TZID=America/New_York:20260731T050000
DTEND;TZID=America/New_York:20260731T070000
DTSTAMP:20260422T025450
CREATED:20260115T205249Z
LAST-MODIFIED:20260422T054302Z
UID:10000597-1785474000-1785481200@ottawarowingclub.com
SUMMARY:Seniors
DESCRIPTION:
URL:https://ottawarowingclub.com/event/seniors-75/
CATEGORIES:Senior and University
END:VEVENT
END:VCALENDAR