BEGIN:VCALENDAR
VERSION:2.0
PRODID:-//Ottawa Rowing Club - ECPv6.15.20//NONSGML v1.0//EN
CALSCALE:GREGORIAN
METHOD:PUBLISH
X-WR-CALNAME:Ottawa Rowing Club
X-ORIGINAL-URL:https://ottawarowingclub.com
X-WR-CALDESC:Events for Ottawa Rowing Club
REFRESH-INTERVAL;VALUE=DURATION:PT1H
X-Robots-Tag:noindex
X-PUBLISHED-TTL:PT1H
BEGIN:VTIMEZONE
TZID:America/New_York
BEGIN:DAYLIGHT
TZOFFSETFROM:-0500
TZOFFSETTO:-0400
TZNAME:EDT
DTSTART:20250309T070000
END:DAYLIGHT
BEGIN:STANDARD
TZOFFSETFROM:-0400
TZOFFSETTO:-0500
TZNAME:EST
DTSTART:20251102T060000
END:STANDARD
BEGIN:DAYLIGHT
TZOFFSETFROM:-0500
TZOFFSETTO:-0400
TZNAME:EDT
DTSTART:20260308T070000
END:DAYLIGHT
BEGIN:STANDARD
TZOFFSETFROM:-0400
TZOFFSETTO:-0500
TZNAME:EST
DTSTART:20261101T060000
END:STANDARD
BEGIN:DAYLIGHT
TZOFFSETFROM:-0500
TZOFFSETTO:-0400
TZNAME:EDT
DTSTART:20270314T070000
END:DAYLIGHT
BEGIN:STANDARD
TZOFFSETFROM:-0400
TZOFFSETTO:-0500
TZNAME:EST
DTSTART:20271107T060000
END:STANDARD
END:VTIMEZONE
BEGIN:VEVENT
DTSTART;TZID=America/New_York:20260720T083000
DTEND;TZID=America/New_York:20260720T153000
DTSTAMP:20260420T062506
CREATED:20260113T131520Z
LAST-MODIFIED:20260414T142655Z
UID:10000284-1784536200-1784561400@ottawarowingclub.com
SUMMARY:Rowing Camp Session 3
DESCRIPTION:
URL:https://ottawarowingclub.com/event/rowing-camp-session-3/
CATEGORIES:Rowing Camp
END:VEVENT
BEGIN:VEVENT
DTSTART;TZID=America/New_York:20260721T083000
DTEND;TZID=America/New_York:20260721T153000
DTSTAMP:20260420T062506
CREATED:20260113T131520Z
LAST-MODIFIED:20260414T142655Z
UID:10000285-1784622600-1784647800@ottawarowingclub.com
SUMMARY:Rowing Camp Session 3
DESCRIPTION:
URL:https://ottawarowingclub.com/event/rowing-camp-session-3-2/
CATEGORIES:Rowing Camp
END:VEVENT
BEGIN:VEVENT
DTSTART;TZID=America/New_York:20260722T083000
DTEND;TZID=America/New_York:20260722T153000
DTSTAMP:20260420T062506
CREATED:20260113T131520Z
LAST-MODIFIED:20260414T142655Z
UID:10000286-1784709000-1784734200@ottawarowingclub.com
SUMMARY:Rowing Camp Session 3
DESCRIPTION:
URL:https://ottawarowingclub.com/event/rowing-camp-session-3-3/
CATEGORIES:Rowing Camp
END:VEVENT
BEGIN:VEVENT
DTSTART;TZID=America/New_York:20260723T083000
DTEND;TZID=America/New_York:20260723T153000
DTSTAMP:20260420T062506
CREATED:20260113T131520Z
LAST-MODIFIED:20260414T142656Z
UID:10000287-1784795400-1784820600@ottawarowingclub.com
SUMMARY:Rowing Camp Session 3
DESCRIPTION:
URL:https://ottawarowingclub.com/event/rowing-camp-session-3-4/
CATEGORIES:Rowing Camp
END:VEVENT
BEGIN:VEVENT
DTSTART;TZID=America/New_York:20260724T083000
DTEND;TZID=America/New_York:20260724T153000
DTSTAMP:20260420T062506
CREATED:20260113T131521Z
LAST-MODIFIED:20260414T142656Z
UID:10000288-1784881800-1784907000@ottawarowingclub.com
SUMMARY:Rowing Camp Session 3
DESCRIPTION:
URL:https://ottawarowingclub.com/event/rowing-camp-session-3-5/
CATEGORIES:Rowing Camp
END:VEVENT
END:VCALENDAR