BEGIN:VCALENDAR
VERSION:2.0
PRODID:-//Ottawa Rowing Club - ECPv6.15.20//NONSGML v1.0//EN
CALSCALE:GREGORIAN
METHOD:PUBLISH
X-ORIGINAL-URL:https://ottawarowingclub.com
X-WR-CALDESC:Events for Ottawa Rowing Club
REFRESH-INTERVAL;VALUE=DURATION:PT1H
X-Robots-Tag:noindex
X-PUBLISHED-TTL:PT1H
BEGIN:VTIMEZONE
TZID:America/New_York
BEGIN:DAYLIGHT
TZOFFSETFROM:-0500
TZOFFSETTO:-0400
TZNAME:EDT
DTSTART:20250309T070000
END:DAYLIGHT
BEGIN:STANDARD
TZOFFSETFROM:-0400
TZOFFSETTO:-0500
TZNAME:EST
DTSTART:20251102T060000
END:STANDARD
BEGIN:DAYLIGHT
TZOFFSETFROM:-0500
TZOFFSETTO:-0400
TZNAME:EDT
DTSTART:20260308T070000
END:DAYLIGHT
BEGIN:STANDARD
TZOFFSETFROM:-0400
TZOFFSETTO:-0500
TZNAME:EST
DTSTART:20261101T060000
END:STANDARD
BEGIN:DAYLIGHT
TZOFFSETFROM:-0500
TZOFFSETTO:-0400
TZNAME:EDT
DTSTART:20270314T070000
END:DAYLIGHT
BEGIN:STANDARD
TZOFFSETFROM:-0400
TZOFFSETTO:-0500
TZNAME:EST
DTSTART:20271107T060000
END:STANDARD
END:VTIMEZONE
BEGIN:VEVENT
DTSTART;TZID=America/New_York:20260713T083000
DTEND;TZID=America/New_York:20260713T153000
DTSTAMP:20260420T213918
CREATED:20260113T131453Z
LAST-MODIFIED:20260414T142641Z
UID:10000279-1783931400-1783956600@ottawarowingclub.com
SUMMARY:Rowing Camp Session 2
DESCRIPTION:
URL:https://ottawarowingclub.com/event/rowing-camp-session-2/
CATEGORIES:Rowing Camp
END:VEVENT
BEGIN:VEVENT
DTSTART;TZID=America/New_York:20260714T083000
DTEND;TZID=America/New_York:20260714T153000
DTSTAMP:20260420T213918
CREATED:20260113T131453Z
LAST-MODIFIED:20260414T142641Z
UID:10000280-1784017800-1784043000@ottawarowingclub.com
SUMMARY:Rowing Camp Session 2
DESCRIPTION:
URL:https://ottawarowingclub.com/event/rowing-camp-session-2-2/
CATEGORIES:Rowing Camp
END:VEVENT
BEGIN:VEVENT
DTSTART;TZID=America/New_York:20260715T083000
DTEND;TZID=America/New_York:20260715T153000
DTSTAMP:20260420T213918
CREATED:20260113T131453Z
LAST-MODIFIED:20260414T142641Z
UID:10000281-1784104200-1784129400@ottawarowingclub.com
SUMMARY:Rowing Camp Session 2
DESCRIPTION:
URL:https://ottawarowingclub.com/event/rowing-camp-session-2-3/
CATEGORIES:Rowing Camp
END:VEVENT
BEGIN:VEVENT
DTSTART;TZID=America/New_York:20260716T083000
DTEND;TZID=America/New_York:20260716T153000
DTSTAMP:20260420T213918
CREATED:20260113T131453Z
LAST-MODIFIED:20260414T142642Z
UID:10000282-1784190600-1784215800@ottawarowingclub.com
SUMMARY:Rowing Camp Session 2
DESCRIPTION:
URL:https://ottawarowingclub.com/event/rowing-camp-session-2-4/
CATEGORIES:Rowing Camp
END:VEVENT
BEGIN:VEVENT
DTSTART;TZID=America/New_York:20260717T083000
DTEND;TZID=America/New_York:20260717T153000
DTSTAMP:20260420T213918
CREATED:20260113T131453Z
LAST-MODIFIED:20260414T142642Z
UID:10000283-1784277000-1784302200@ottawarowingclub.com
SUMMARY:Rowing Camp Session 2
DESCRIPTION:
URL:https://ottawarowingclub.com/event/rowing-camp-session-2-5/
CATEGORIES:Rowing Camp
END:VEVENT
END:VCALENDAR