BEGIN:VCALENDAR
VERSION:2.0
PRODID:-//Ottawa Rowing Club - ECPv6.15.20//NONSGML v1.0//EN
CALSCALE:GREGORIAN
METHOD:PUBLISH
X-WR-CALNAME:Ottawa Rowing Club
X-ORIGINAL-URL:https://ottawarowingclub.com
X-WR-CALDESC:Events for Ottawa Rowing Club
REFRESH-INTERVAL;VALUE=DURATION:PT1H
X-Robots-Tag:noindex
X-PUBLISHED-TTL:PT1H
BEGIN:VTIMEZONE
TZID:America/New_York
BEGIN:DAYLIGHT
TZOFFSETFROM:-0500
TZOFFSETTO:-0400
TZNAME:EDT
DTSTART:20250309T070000
END:DAYLIGHT
BEGIN:STANDARD
TZOFFSETFROM:-0400
TZOFFSETTO:-0500
TZNAME:EST
DTSTART:20251102T060000
END:STANDARD
BEGIN:DAYLIGHT
TZOFFSETFROM:-0500
TZOFFSETTO:-0400
TZNAME:EDT
DTSTART:20260308T070000
END:DAYLIGHT
BEGIN:STANDARD
TZOFFSETFROM:-0400
TZOFFSETTO:-0500
TZNAME:EST
DTSTART:20261101T060000
END:STANDARD
BEGIN:DAYLIGHT
TZOFFSETFROM:-0500
TZOFFSETTO:-0400
TZNAME:EDT
DTSTART:20270314T070000
END:DAYLIGHT
BEGIN:STANDARD
TZOFFSETFROM:-0400
TZOFFSETTO:-0500
TZNAME:EST
DTSTART:20271107T060000
END:STANDARD
END:VTIMEZONE
BEGIN:VEVENT
DTSTART;TZID=America/New_York:20260921T181500
DTEND;TZID=America/New_York:20260921T201500
DTSTAMP:20260421T055359
CREATED:20260215T170937Z
LAST-MODIFIED:20260421T085831Z
UID:10001290-1790014500-1790021700@ottawarowingclub.com
SUMMARY:Masters
DESCRIPTION:
URL:https://ottawarowingclub.com/event/masters-55/
CATEGORIES:Masters
END:VEVENT
BEGIN:VEVENT
DTSTART;TZID=America/New_York:20260922T073000
DTEND;TZID=America/New_York:20260922T093000
DTSTAMP:20260421T055359
CREATED:20260416T152827Z
LAST-MODIFIED:20260421T085831Z
UID:10001692-1790062200-1790069400@ottawarowingclub.com
SUMMARY:Daylight Masters
DESCRIPTION:
URL:https://ottawarowingclub.com/event/daylight-masters-57/
CATEGORIES:Masters
END:VEVENT
BEGIN:VEVENT
DTSTART;TZID=America/New_York:20260923T181500
DTEND;TZID=America/New_York:20260923T201500
DTSTAMP:20260421T055359
CREATED:20260215T170937Z
LAST-MODIFIED:20260421T085831Z
UID:10001293-1790187300-1790194500@ottawarowingclub.com
SUMMARY:Masters
DESCRIPTION:
URL:https://ottawarowingclub.com/event/masters-56/
CATEGORIES:Masters
END:VEVENT
BEGIN:VEVENT
DTSTART;TZID=America/New_York:20260924T073000
DTEND;TZID=America/New_York:20260924T093000
DTSTAMP:20260421T055359
CREATED:20260416T152827Z
LAST-MODIFIED:20260421T085831Z
UID:10001693-1790235000-1790242200@ottawarowingclub.com
SUMMARY:Daylight Masters
DESCRIPTION:
URL:https://ottawarowingclub.com/event/daylight-masters-58/
CATEGORIES:Masters
END:VEVENT
BEGIN:VEVENT
DTSTART;TZID=America/New_York:20260926T080000
DTEND;TZID=America/New_York:20260926T100000
DTSTAMP:20260421T055359
CREATED:20260215T170958Z
LAST-MODIFIED:20260421T085832Z
UID:10001296-1790409600-1790416800@ottawarowingclub.com
SUMMARY:Masters
DESCRIPTION:
URL:https://ottawarowingclub.com/event/masters-57/
CATEGORIES:Masters
END:VEVENT
END:VCALENDAR