BEGIN:VCALENDAR
VERSION:2.0
PRODID:-//Ottawa Rowing Club - ECPv6.15.20//NONSGML v1.0//EN
CALSCALE:GREGORIAN
METHOD:PUBLISH
X-ORIGINAL-URL:https://ottawarowingclub.com
X-WR-CALDESC:Events for Ottawa Rowing Club
REFRESH-INTERVAL;VALUE=DURATION:PT1H
X-Robots-Tag:noindex
X-PUBLISHED-TTL:PT1H
BEGIN:VTIMEZONE
TZID:America/New_York
BEGIN:DAYLIGHT
TZOFFSETFROM:-0500
TZOFFSETTO:-0400
TZNAME:EDT
DTSTART:20250309T070000
END:DAYLIGHT
BEGIN:STANDARD
TZOFFSETFROM:-0400
TZOFFSETTO:-0500
TZNAME:EST
DTSTART:20251102T060000
END:STANDARD
BEGIN:DAYLIGHT
TZOFFSETFROM:-0500
TZOFFSETTO:-0400
TZNAME:EDT
DTSTART:20260308T070000
END:DAYLIGHT
BEGIN:STANDARD
TZOFFSETFROM:-0400
TZOFFSETTO:-0500
TZNAME:EST
DTSTART:20261101T060000
END:STANDARD
BEGIN:DAYLIGHT
TZOFFSETFROM:-0500
TZOFFSETTO:-0400
TZNAME:EDT
DTSTART:20270314T070000
END:DAYLIGHT
BEGIN:STANDARD
TZOFFSETFROM:-0400
TZOFFSETTO:-0500
TZNAME:EST
DTSTART:20271107T060000
END:STANDARD
END:VTIMEZONE
BEGIN:VEVENT
DTSTART;TZID=America/New_York:20260608T181500
DTEND;TZID=America/New_York:20260608T201500
DTSTAMP:20260420T005035
CREATED:20260215T170650Z
LAST-MODIFIED:20260420T044153Z
UID:10001200-1780942500-1780949700@ottawarowingclub.com
SUMMARY:Masters
DESCRIPTION:
URL:https://ottawarowingclub.com/event/masters-15/
CATEGORIES:Masters
END:VEVENT
BEGIN:VEVENT
DTSTART;TZID=America/New_York:20260609T073000
DTEND;TZID=America/New_York:20260609T093000
DTSTAMP:20260420T005035
CREATED:20260416T152649Z
LAST-MODIFIED:20260420T044153Z
UID:10001666-1780990200-1780997400@ottawarowingclub.com
SUMMARY:Daylight Masters
DESCRIPTION:
URL:https://ottawarowingclub.com/event/daylight-masters-15/
CATEGORIES:Masters
END:VEVENT
BEGIN:VEVENT
DTSTART;TZID=America/New_York:20260610T181500
DTEND;TZID=America/New_York:20260610T201500
DTSTAMP:20260420T005035
CREATED:20260215T170651Z
LAST-MODIFIED:20260420T044154Z
UID:10001202-1781115300-1781122500@ottawarowingclub.com
SUMMARY:Masters
DESCRIPTION:
URL:https://ottawarowingclub.com/event/masters-16/
CATEGORIES:Masters
END:VEVENT
BEGIN:VEVENT
DTSTART;TZID=America/New_York:20260611T073000
DTEND;TZID=America/New_York:20260611T093000
DTSTAMP:20260420T005035
CREATED:20260416T152649Z
LAST-MODIFIED:20260420T044154Z
UID:10001667-1781163000-1781170200@ottawarowingclub.com
SUMMARY:Daylight Masters
DESCRIPTION:
URL:https://ottawarowingclub.com/event/daylight-masters-16/
CATEGORIES:Masters
END:VEVENT
BEGIN:VEVENT
DTSTART;TZID=America/New_York:20260613T080000
DTEND;TZID=America/New_York:20260613T100000
DTSTAMP:20260420T005035
CREATED:20260215T170651Z
LAST-MODIFIED:20260420T044207Z
UID:10001204-1781337600-1781344800@ottawarowingclub.com
SUMMARY:Masters
DESCRIPTION:
URL:https://ottawarowingclub.com/event/masters-17/
CATEGORIES:Masters
END:VEVENT
END:VCALENDAR