BEGIN:VCALENDAR
VERSION:2.0
PRODID:-//Ottawa Rowing Club - ECPv6.15.20//NONSGML v1.0//EN
CALSCALE:GREGORIAN
METHOD:PUBLISH
X-ORIGINAL-URL:https://ottawarowingclub.com
X-WR-CALDESC:Events for Ottawa Rowing Club
REFRESH-INTERVAL;VALUE=DURATION:PT1H
X-Robots-Tag:noindex
X-PUBLISHED-TTL:PT1H
BEGIN:VTIMEZONE
TZID:America/New_York
BEGIN:DAYLIGHT
TZOFFSETFROM:-0500
TZOFFSETTO:-0400
TZNAME:EDT
DTSTART:20250309T070000
END:DAYLIGHT
BEGIN:STANDARD
TZOFFSETFROM:-0400
TZOFFSETTO:-0500
TZNAME:EST
DTSTART:20251102T060000
END:STANDARD
BEGIN:DAYLIGHT
TZOFFSETFROM:-0500
TZOFFSETTO:-0400
TZNAME:EDT
DTSTART:20260308T070000
END:DAYLIGHT
BEGIN:STANDARD
TZOFFSETFROM:-0400
TZOFFSETTO:-0500
TZNAME:EST
DTSTART:20261101T060000
END:STANDARD
BEGIN:DAYLIGHT
TZOFFSETFROM:-0500
TZOFFSETTO:-0400
TZNAME:EDT
DTSTART:20270314T070000
END:DAYLIGHT
BEGIN:STANDARD
TZOFFSETFROM:-0400
TZOFFSETTO:-0500
TZNAME:EST
DTSTART:20271107T060000
END:STANDARD
END:VTIMEZONE
BEGIN:VEVENT
DTSTART;TZID=America/New_York:20261017T080000
DTEND;TZID=America/New_York:20261017T100000
DTSTAMP:20260420T215011
CREATED:20260215T171033Z
LAST-MODIFIED:20260421T005938Z
UID:10001316-1792224000-1792231200@ottawarowingclub.com
SUMMARY:Masters
DESCRIPTION:
URL:https://ottawarowingclub.com/event/masters-65/
CATEGORIES:Masters
END:VEVENT
BEGIN:VEVENT
DTSTART;TZID=America/New_York:20261019T181500
DTEND;TZID=America/New_York:20261019T201500
DTSTAMP:20260420T215011
CREATED:20260215T171033Z
LAST-MODIFIED:20260421T005938Z
UID:10001317-1792433700-1792440900@ottawarowingclub.com
SUMMARY:Masters
DESCRIPTION:
URL:https://ottawarowingclub.com/event/masters-66/
CATEGORIES:Masters
END:VEVENT
BEGIN:VEVENT
DTSTART;TZID=America/New_York:20261021T181500
DTEND;TZID=America/New_York:20261021T201500
DTSTAMP:20260420T215011
CREATED:20260215T171034Z
LAST-MODIFIED:20260421T005938Z
UID:10001320-1792606500-1792613700@ottawarowingclub.com
SUMMARY:Masters
DESCRIPTION:
URL:https://ottawarowingclub.com/event/masters-67/
CATEGORIES:Masters
END:VEVENT
BEGIN:VEVENT
DTSTART;TZID=America/New_York:20261024T080000
DTEND;TZID=America/New_York:20261024T100000
DTSTAMP:20260420T215011
CREATED:20260215T171034Z
LAST-MODIFIED:20260421T005938Z
UID:10001323-1792828800-1792836000@ottawarowingclub.com
SUMMARY:Masters
DESCRIPTION:
URL:https://ottawarowingclub.com/event/masters-68/
CATEGORIES:Masters
END:VEVENT
BEGIN:VEVENT
DTSTART;TZID=America/New_York:20261026T181500
DTEND;TZID=America/New_York:20261026T201500
DTSTAMP:20260420T215011
CREATED:20260215T171034Z
LAST-MODIFIED:20260421T005952Z
UID:10001324-1793038500-1793045700@ottawarowingclub.com
SUMMARY:Masters
DESCRIPTION:
URL:https://ottawarowingclub.com/event/masters-69/
CATEGORIES:Masters
END:VEVENT
BEGIN:VEVENT
DTSTART;TZID=America/New_York:20261028T181500
DTEND;TZID=America/New_York:20261028T201500
DTSTAMP:20260420T215011
CREATED:20260215T171047Z
LAST-MODIFIED:20260421T005952Z
UID:10001326-1793211300-1793218500@ottawarowingclub.com
SUMMARY:Masters
DESCRIPTION:
URL:https://ottawarowingclub.com/event/masters-70/
CATEGORIES:Masters
END:VEVENT
END:VCALENDAR