BEGIN:VCALENDAR
VERSION:2.0
PRODID:-//Ottawa Rowing Club - ECPv6.15.20//NONSGML v1.0//EN
CALSCALE:GREGORIAN
METHOD:PUBLISH
X-ORIGINAL-URL:https://ottawarowingclub.com
X-WR-CALDESC:Events for Ottawa Rowing Club
REFRESH-INTERVAL;VALUE=DURATION:PT1H
X-Robots-Tag:noindex
X-PUBLISHED-TTL:PT1H
BEGIN:VTIMEZONE
TZID:America/New_York
BEGIN:DAYLIGHT
TZOFFSETFROM:-0500
TZOFFSETTO:-0400
TZNAME:EDT
DTSTART:20250309T070000
END:DAYLIGHT
BEGIN:STANDARD
TZOFFSETFROM:-0400
TZOFFSETTO:-0500
TZNAME:EST
DTSTART:20251102T060000
END:STANDARD
BEGIN:DAYLIGHT
TZOFFSETFROM:-0500
TZOFFSETTO:-0400
TZNAME:EDT
DTSTART:20260308T070000
END:DAYLIGHT
BEGIN:STANDARD
TZOFFSETFROM:-0400
TZOFFSETTO:-0500
TZNAME:EST
DTSTART:20261101T060000
END:STANDARD
BEGIN:DAYLIGHT
TZOFFSETFROM:-0500
TZOFFSETTO:-0400
TZNAME:EDT
DTSTART:20270314T070000
END:DAYLIGHT
BEGIN:STANDARD
TZOFFSETFROM:-0400
TZOFFSETTO:-0500
TZNAME:EST
DTSTART:20271107T060000
END:STANDARD
END:VTIMEZONE
BEGIN:VEVENT
DTSTART;TZID=America/New_York:20260729T181500
DTEND;TZID=America/New_York:20260729T201500
DTSTAMP:20260420T145151
CREATED:20260215T170821Z
LAST-MODIFIED:20260420T175848Z
UID:10001247-1785348900-1785356100@ottawarowingclub.com
SUMMARY:Masters
DESCRIPTION:
URL:https://ottawarowingclub.com/event/masters-36/
CATEGORIES:Masters
END:VEVENT
BEGIN:VEVENT
DTSTART;TZID=America/New_York:20260730T073000
DTEND;TZID=America/New_York:20260730T093000
DTSTAMP:20260420T145151
CREATED:20260416T152746Z
LAST-MODIFIED:20260420T175848Z
UID:10001681-1785396600-1785403800@ottawarowingclub.com
SUMMARY:Daylight Masters
DESCRIPTION:
URL:https://ottawarowingclub.com/event/daylight-masters-46/
CATEGORIES:Masters
END:VEVENT
BEGIN:VEVENT
DTSTART;TZID=America/New_York:20260801T080000
DTEND;TZID=America/New_York:20260801T100000
DTSTAMP:20260420T145151
CREATED:20260215T170822Z
LAST-MODIFIED:20260420T175848Z
UID:10001250-1785571200-1785578400@ottawarowingclub.com
SUMMARY:Masters
DESCRIPTION:
URL:https://ottawarowingclub.com/event/masters-37/
CATEGORIES:Masters
END:VEVENT
BEGIN:VEVENT
DTSTART;TZID=America/New_York:20260810T181500
DTEND;TZID=America/New_York:20260810T201500
DTSTAMP:20260420T145151
CREATED:20260215T170822Z
LAST-MODIFIED:20260420T175848Z
UID:10001251-1786385700-1786392900@ottawarowingclub.com
SUMMARY:Masters
DESCRIPTION:
URL:https://ottawarowingclub.com/event/masters-38/
CATEGORIES:Masters
END:VEVENT
BEGIN:VEVENT
DTSTART;TZID=America/New_York:20260812T181500
DTEND;TZID=America/New_York:20260812T201500
DTSTAMP:20260420T145151
CREATED:20260215T170823Z
LAST-MODIFIED:20260420T175849Z
UID:10001253-1786558500-1786565700@ottawarowingclub.com
SUMMARY:Masters
DESCRIPTION:
URL:https://ottawarowingclub.com/event/masters-39/
CATEGORIES:Masters
END:VEVENT
BEGIN:VEVENT
DTSTART;TZID=America/New_York:20260815T080000
DTEND;TZID=America/New_York:20260815T100000
DTSTAMP:20260420T145151
CREATED:20260215T170824Z
LAST-MODIFIED:20260420T175849Z
UID:10001255-1786780800-1786788000@ottawarowingclub.com
SUMMARY:Masters
DESCRIPTION:
URL:https://ottawarowingclub.com/event/masters-40/
CATEGORIES:Masters
END:VEVENT
BEGIN:VEVENT
DTSTART;TZID=America/New_York:20260817T181500
DTEND;TZID=America/New_York:20260817T201500
DTSTAMP:20260420T145151
CREATED:20260215T170840Z
LAST-MODIFIED:20260420T175849Z
UID:10001256-1786990500-1786997700@ottawarowingclub.com
SUMMARY:Masters
DESCRIPTION:
URL:https://ottawarowingclub.com/event/masters-41/
CATEGORIES:Masters
END:VEVENT
BEGIN:VEVENT
DTSTART;TZID=America/New_York:20260818T073000
DTEND;TZID=America/New_York:20260818T093000
DTSTAMP:20260420T145151
CREATED:20260416T152746Z
LAST-MODIFIED:20260420T175849Z
UID:10001682-1787038200-1787045400@ottawarowingclub.com
SUMMARY:Daylight Masters
DESCRIPTION:
URL:https://ottawarowingclub.com/event/daylight-masters-47/
CATEGORIES:Masters
END:VEVENT
BEGIN:VEVENT
DTSTART;TZID=America/New_York:20260819T181500
DTEND;TZID=America/New_York:20260819T201500
DTSTAMP:20260420T145151
CREATED:20260215T170840Z
LAST-MODIFIED:20260420T175904Z
UID:10001259-1787163300-1787170500@ottawarowingclub.com
SUMMARY:Masters
DESCRIPTION:
URL:https://ottawarowingclub.com/event/masters-42/
CATEGORIES:Masters
END:VEVENT
BEGIN:VEVENT
DTSTART;TZID=America/New_York:20260820T073000
DTEND;TZID=America/New_York:20260820T093000
DTSTAMP:20260420T145151
CREATED:20260416T152758Z
LAST-MODIFIED:20260420T175906Z
UID:10001683-1787211000-1787218200@ottawarowingclub.com
SUMMARY:Daylight Masters
DESCRIPTION:
URL:https://ottawarowingclub.com/event/daylight-masters-48/
CATEGORIES:Masters
END:VEVENT
BEGIN:VEVENT
DTSTART;TZID=America/New_York:20260822T080000
DTEND;TZID=America/New_York:20260822T100000
DTSTAMP:20260420T145151
CREATED:20260215T170841Z
LAST-MODIFIED:20260420T175907Z
UID:10001262-1787385600-1787392800@ottawarowingclub.com
SUMMARY:Masters
DESCRIPTION:
URL:https://ottawarowingclub.com/event/masters-43/
CATEGORIES:Masters
END:VEVENT
BEGIN:VEVENT
DTSTART;TZID=America/New_York:20260824T181500
DTEND;TZID=America/New_York:20260824T201500
DTSTAMP:20260420T145151
CREATED:20260215T170841Z
LAST-MODIFIED:20260420T175907Z
UID:10001263-1787595300-1787602500@ottawarowingclub.com
SUMMARY:Masters
DESCRIPTION:
URL:https://ottawarowingclub.com/event/masters-44/
CATEGORIES:Masters
END:VEVENT
BEGIN:VEVENT
DTSTART;TZID=America/New_York:20260825T073000
DTEND;TZID=America/New_York:20260825T093000
DTSTAMP:20260420T145151
CREATED:20260416T152759Z
LAST-MODIFIED:20260420T175907Z
UID:10001684-1787643000-1787650200@ottawarowingclub.com
SUMMARY:Daylight Masters
DESCRIPTION:
URL:https://ottawarowingclub.com/event/daylight-masters-49/
CATEGORIES:Masters
END:VEVENT
BEGIN:VEVENT
DTSTART;TZID=America/New_York:20260826T181500
DTEND;TZID=America/New_York:20260826T201500
DTSTAMP:20260420T145151
CREATED:20260215T170857Z
LAST-MODIFIED:20260420T175908Z
UID:10001266-1787768100-1787775300@ottawarowingclub.com
SUMMARY:Masters
DESCRIPTION:
URL:https://ottawarowingclub.com/event/masters-45/
CATEGORIES:Masters
END:VEVENT
BEGIN:VEVENT
DTSTART;TZID=America/New_York:20260827T073000
DTEND;TZID=America/New_York:20260827T093000
DTSTAMP:20260420T145151
CREATED:20260416T152759Z
LAST-MODIFIED:20260420T175908Z
UID:10001685-1787815800-1787823000@ottawarowingclub.com
SUMMARY:Daylight Masters
DESCRIPTION:
URL:https://ottawarowingclub.com/event/daylight-masters-50/
CATEGORIES:Masters
END:VEVENT
BEGIN:VEVENT
DTSTART;TZID=America/New_York:20260829T080000
DTEND;TZID=America/New_York:20260829T100000
DTSTAMP:20260420T145151
CREATED:20260215T170858Z
LAST-MODIFIED:20260420T175909Z
UID:10001269-1787990400-1787997600@ottawarowingclub.com
SUMMARY:Masters
DESCRIPTION:
URL:https://ottawarowingclub.com/event/masters-46/
CATEGORIES:Masters
END:VEVENT
BEGIN:VEVENT
DTSTART;TZID=America/New_York:20260831T181500
DTEND;TZID=America/New_York:20260831T201500
DTSTAMP:20260420T145151
CREATED:20260215T170859Z
LAST-MODIFIED:20260420T175909Z
UID:10001270-1788200100-1788207300@ottawarowingclub.com
SUMMARY:Masters
DESCRIPTION:
URL:https://ottawarowingclub.com/event/masters-47/
CATEGORIES:Masters
END:VEVENT
BEGIN:VEVENT
DTSTART;TZID=America/New_York:20260901T073000
DTEND;TZID=America/New_York:20260901T093000
DTSTAMP:20260420T145151
CREATED:20260416T152759Z
LAST-MODIFIED:20260420T175909Z
UID:10001686-1788247800-1788255000@ottawarowingclub.com
SUMMARY:Daylight Masters
DESCRIPTION:
URL:https://ottawarowingclub.com/event/daylight-masters-51/
CATEGORIES:Masters
END:VEVENT
BEGIN:VEVENT
DTSTART;TZID=America/New_York:20260902T181500
DTEND;TZID=America/New_York:20260902T201500
DTSTAMP:20260420T145151
CREATED:20260215T170900Z
LAST-MODIFIED:20260420T175923Z
UID:10001273-1788372900-1788380100@ottawarowingclub.com
SUMMARY:Masters
DESCRIPTION:
URL:https://ottawarowingclub.com/event/masters-48/
CATEGORIES:Masters
END:VEVENT
BEGIN:VEVENT
DTSTART;TZID=America/New_York:20260903T073000
DTEND;TZID=America/New_York:20260903T093000
DTSTAMP:20260420T145151
CREATED:20260416T152813Z
LAST-MODIFIED:20260420T175923Z
UID:10001687-1788420600-1788427800@ottawarowingclub.com
SUMMARY:Daylight Masters
DESCRIPTION:
URL:https://ottawarowingclub.com/event/daylight-masters-52/
CATEGORIES:Masters
END:VEVENT
BEGIN:VEVENT
DTSTART;TZID=America/New_York:20260905T080000
DTEND;TZID=America/New_York:20260905T100000
DTSTAMP:20260420T145151
CREATED:20260215T170918Z
LAST-MODIFIED:20260420T175924Z
UID:10001276-1788595200-1788602400@ottawarowingclub.com
SUMMARY:Masters
DESCRIPTION:
URL:https://ottawarowingclub.com/event/masters-49/
CATEGORIES:Masters
END:VEVENT
BEGIN:VEVENT
DTSTART;TZID=America/New_York:20260908T073000
DTEND;TZID=America/New_York:20260908T093000
DTSTAMP:20260420T145151
CREATED:20260416T152813Z
LAST-MODIFIED:20260420T175924Z
UID:10001688-1788852600-1788859800@ottawarowingclub.com
SUMMARY:Daylight Masters
DESCRIPTION:
URL:https://ottawarowingclub.com/event/daylight-masters-53/
CATEGORIES:Masters
END:VEVENT
BEGIN:VEVENT
DTSTART;TZID=America/New_York:20260909T181500
DTEND;TZID=America/New_York:20260909T201500
DTSTAMP:20260420T145151
CREATED:20260215T170918Z
LAST-MODIFIED:20260420T175924Z
UID:10001279-1788977700-1788984900@ottawarowingclub.com
SUMMARY:Masters
DESCRIPTION:
URL:https://ottawarowingclub.com/event/masters-50/
CATEGORIES:Masters
END:VEVENT
BEGIN:VEVENT
DTSTART;TZID=America/New_York:20260910T073000
DTEND;TZID=America/New_York:20260910T093000
DTSTAMP:20260420T145151
CREATED:20260416T152813Z
LAST-MODIFIED:20260420T175924Z
UID:10001689-1789025400-1789032600@ottawarowingclub.com
SUMMARY:Daylight Masters
DESCRIPTION:
URL:https://ottawarowingclub.com/event/daylight-masters-54/
CATEGORIES:Masters
END:VEVENT
BEGIN:VEVENT
DTSTART;TZID=America/New_York:20260912T080000
DTEND;TZID=America/New_York:20260912T100000
DTSTAMP:20260420T145151
CREATED:20260215T170919Z
LAST-MODIFIED:20260420T175925Z
UID:10001282-1789200000-1789207200@ottawarowingclub.com
SUMMARY:Masters
DESCRIPTION:
URL:https://ottawarowingclub.com/event/masters-51/
CATEGORIES:Masters
END:VEVENT
BEGIN:VEVENT
DTSTART;TZID=America/New_York:20260914T181500
DTEND;TZID=America/New_York:20260914T201500
DTSTAMP:20260420T145151
CREATED:20260215T170919Z
LAST-MODIFIED:20260420T175925Z
UID:10001283-1789409700-1789416900@ottawarowingclub.com
SUMMARY:Masters
DESCRIPTION:
URL:https://ottawarowingclub.com/event/masters-52/
CATEGORIES:Masters
END:VEVENT
BEGIN:VEVENT
DTSTART;TZID=America/New_York:20260915T073000
DTEND;TZID=America/New_York:20260915T093000
DTSTAMP:20260420T145151
CREATED:20260416T152814Z
LAST-MODIFIED:20260420T175925Z
UID:10001690-1789457400-1789464600@ottawarowingclub.com
SUMMARY:Daylight Masters
DESCRIPTION:
URL:https://ottawarowingclub.com/event/daylight-masters-55/
CATEGORIES:Masters
END:VEVENT
BEGIN:VEVENT
DTSTART;TZID=America/New_York:20260916T181500
DTEND;TZID=America/New_York:20260916T201500
DTSTAMP:20260420T145151
CREATED:20260215T170936Z
LAST-MODIFIED:20260420T175926Z
UID:10001286-1789582500-1789589700@ottawarowingclub.com
SUMMARY:Masters
DESCRIPTION:
URL:https://ottawarowingclub.com/event/masters-53/
CATEGORIES:Masters
END:VEVENT
BEGIN:VEVENT
DTSTART;TZID=America/New_York:20260917T073000
DTEND;TZID=America/New_York:20260917T093000
DTSTAMP:20260420T145151
CREATED:20260416T152826Z
LAST-MODIFIED:20260420T175941Z
UID:10001691-1789630200-1789637400@ottawarowingclub.com
SUMMARY:Daylight Masters
DESCRIPTION:
URL:https://ottawarowingclub.com/event/daylight-masters-56/
CATEGORIES:Masters
END:VEVENT
BEGIN:VEVENT
DTSTART;TZID=America/New_York:20260919T080000
DTEND;TZID=America/New_York:20260919T100000
DTSTAMP:20260420T145151
CREATED:20260215T170937Z
LAST-MODIFIED:20260420T175941Z
UID:10001289-1789804800-1789812000@ottawarowingclub.com
SUMMARY:Masters
DESCRIPTION:
URL:https://ottawarowingclub.com/event/masters-54/
CATEGORIES:Masters
END:VEVENT
END:VCALENDAR