BEGIN:VCALENDAR
VERSION:2.0
PRODID:-//Ottawa Rowing Club - ECPv6.15.20//NONSGML v1.0//EN
CALSCALE:GREGORIAN
METHOD:PUBLISH
X-ORIGINAL-URL:https://ottawarowingclub.com
X-WR-CALDESC:Events for Ottawa Rowing Club
REFRESH-INTERVAL;VALUE=DURATION:PT1H
X-Robots-Tag:noindex
X-PUBLISHED-TTL:PT1H
BEGIN:VTIMEZONE
TZID:America/New_York
BEGIN:DAYLIGHT
TZOFFSETFROM:-0500
TZOFFSETTO:-0400
TZNAME:EDT
DTSTART:20250309T070000
END:DAYLIGHT
BEGIN:STANDARD
TZOFFSETFROM:-0400
TZOFFSETTO:-0500
TZNAME:EST
DTSTART:20251102T060000
END:STANDARD
BEGIN:DAYLIGHT
TZOFFSETFROM:-0500
TZOFFSETTO:-0400
TZNAME:EDT
DTSTART:20260308T070000
END:DAYLIGHT
BEGIN:STANDARD
TZOFFSETFROM:-0400
TZOFFSETTO:-0500
TZNAME:EST
DTSTART:20261101T060000
END:STANDARD
BEGIN:DAYLIGHT
TZOFFSETFROM:-0500
TZOFFSETTO:-0400
TZNAME:EDT
DTSTART:20270314T070000
END:DAYLIGHT
BEGIN:STANDARD
TZOFFSETFROM:-0400
TZOFFSETTO:-0500
TZNAME:EST
DTSTART:20271107T060000
END:STANDARD
END:VTIMEZONE
BEGIN:VEVENT
DTSTART;TZID=America/New_York:20260706T054500
DTEND;TZID=America/New_York:20260706T074500
DTSTAMP:20260420T005025
CREATED:20260414T214923Z
LAST-MODIFIED:20260420T042936Z
UID:10001484-1783316700-1783323900@ottawarowingclub.com
SUMMARY:Junior Performance
DESCRIPTION:
URL:https://ottawarowingclub.com/event/junior-performance-42/
CATEGORIES:Junior
END:VEVENT
BEGIN:VEVENT
DTSTART;TZID=America/New_York:20260706T054500
DTEND;TZID=America/New_York:20260706T074500
DTSTAMP:20260420T005025
CREATED:20260414T214923Z
LAST-MODIFIED:20260420T042936Z
UID:10001483-1783316700-1783323900@ottawarowingclub.com
SUMMARY:Junior Crew
DESCRIPTION:
URL:https://ottawarowingclub.com/event/junior-crew-35/
CATEGORIES:Junior
END:VEVENT
BEGIN:VEVENT
DTSTART;TZID=America/New_York:20260706T083000
DTEND;TZID=America/New_York:20260706T103000
DTSTAMP:20260420T005025
CREATED:20260414T214923Z
LAST-MODIFIED:20260420T042936Z
UID:10001485-1783326600-1783333800@ottawarowingclub.com
SUMMARY:Junior Development
DESCRIPTION:
URL:https://ottawarowingclub.com/event/junior-development-27/
CATEGORIES:Junior
END:VEVENT
BEGIN:VEVENT
DTSTART;TZID=America/New_York:20260707T054500
DTEND;TZID=America/New_York:20260707T074500
DTSTAMP:20260420T005025
CREATED:20260414T214924Z
LAST-MODIFIED:20260420T042936Z
UID:10001487-1783403100-1783410300@ottawarowingclub.com
SUMMARY:Junior Performance
DESCRIPTION:
URL:https://ottawarowingclub.com/event/junior-performance-43/
CATEGORIES:Junior
END:VEVENT
BEGIN:VEVENT
DTSTART;TZID=America/New_York:20260707T054500
DTEND;TZID=America/New_York:20260707T074500
DTSTAMP:20260420T005025
CREATED:20260414T214924Z
LAST-MODIFIED:20260420T042936Z
UID:10001486-1783403100-1783410300@ottawarowingclub.com
SUMMARY:Junior Crew
DESCRIPTION:
URL:https://ottawarowingclub.com/event/junior-crew-36/
CATEGORIES:Junior
END:VEVENT
BEGIN:VEVENT
DTSTART;TZID=America/New_York:20260708T054500
DTEND;TZID=America/New_York:20260708T074500
DTSTAMP:20260420T005025
CREATED:20260414T214924Z
LAST-MODIFIED:20260420T042936Z
UID:10001488-1783489500-1783496700@ottawarowingclub.com
SUMMARY:Junior Performance
DESCRIPTION:
URL:https://ottawarowingclub.com/event/junior-performance-44/
CATEGORIES:Junior
END:VEVENT
BEGIN:VEVENT
DTSTART;TZID=America/New_York:20260708T083000
DTEND;TZID=America/New_York:20260708T103000
DTSTAMP:20260420T005025
CREATED:20260414T214924Z
LAST-MODIFIED:20260420T042937Z
UID:10001489-1783499400-1783506600@ottawarowingclub.com
SUMMARY:Junior Development
DESCRIPTION:
URL:https://ottawarowingclub.com/event/junior-development-28/
CATEGORIES:Junior
END:VEVENT
BEGIN:VEVENT
DTSTART;TZID=America/New_York:20260709T054500
DTEND;TZID=America/New_York:20260709T074500
DTSTAMP:20260420T005025
CREATED:20260414T214940Z
LAST-MODIFIED:20260420T042937Z
UID:10001490-1783575900-1783583100@ottawarowingclub.com
SUMMARY:Junior Crew
DESCRIPTION:
URL:https://ottawarowingclub.com/event/junior-crew-37/
CATEGORIES:Junior
END:VEVENT
BEGIN:VEVENT
DTSTART;TZID=America/New_York:20260709T083000
DTEND;TZID=America/New_York:20260709T103000
DTSTAMP:20260420T005025
CREATED:20260414T214941Z
LAST-MODIFIED:20260420T042937Z
UID:10001491-1783585800-1783593000@ottawarowingclub.com
SUMMARY:Junior Development
DESCRIPTION:
URL:https://ottawarowingclub.com/event/junior-development-29/
CATEGORIES:Junior
END:VEVENT
BEGIN:VEVENT
DTSTART;TZID=America/New_York:20260710T054500
DTEND;TZID=America/New_York:20260710T074500
DTSTAMP:20260420T005025
CREATED:20260414T214941Z
LAST-MODIFIED:20260420T042937Z
UID:10001492-1783662300-1783669500@ottawarowingclub.com
SUMMARY:Junior Performance
DESCRIPTION:
URL:https://ottawarowingclub.com/event/junior-performance-45/
CATEGORIES:Junior
END:VEVENT
BEGIN:VEVENT
DTSTART;TZID=America/New_York:20260711T063000
DTEND;TZID=America/New_York:20260711T103000
DTSTAMP:20260420T005025
CREATED:20260414T214941Z
LAST-MODIFIED:20260420T042950Z
UID:10001493-1783751400-1783765800@ottawarowingclub.com
SUMMARY:Junior Crew
DESCRIPTION:
URL:https://ottawarowingclub.com/event/junior-crew-38/
CATEGORIES:Junior
END:VEVENT
BEGIN:VEVENT
DTSTART;TZID=America/New_York:20260711T063000
DTEND;TZID=America/New_York:20260711T103000
DTSTAMP:20260420T005025
CREATED:20260414T214942Z
LAST-MODIFIED:20260420T042950Z
UID:10001494-1783751400-1783765800@ottawarowingclub.com
SUMMARY:Junior Performance
DESCRIPTION:
URL:https://ottawarowingclub.com/event/junior-performance-46/
CATEGORIES:Junior
END:VEVENT
END:VCALENDAR