BEGIN:VCALENDAR
VERSION:2.0
PRODID:-//Ottawa Rowing Club - ECPv6.15.20//NONSGML v1.0//EN
CALSCALE:GREGORIAN
METHOD:PUBLISH
X-ORIGINAL-URL:https://ottawarowingclub.com
X-WR-CALDESC:Events for Ottawa Rowing Club
REFRESH-INTERVAL;VALUE=DURATION:PT1H
X-Robots-Tag:noindex
X-PUBLISHED-TTL:PT1H
BEGIN:VTIMEZONE
TZID:America/New_York
BEGIN:DAYLIGHT
TZOFFSETFROM:-0500
TZOFFSETTO:-0400
TZNAME:EDT
DTSTART:20250309T070000
END:DAYLIGHT
BEGIN:STANDARD
TZOFFSETFROM:-0400
TZOFFSETTO:-0500
TZNAME:EST
DTSTART:20251102T060000
END:STANDARD
BEGIN:DAYLIGHT
TZOFFSETFROM:-0500
TZOFFSETTO:-0400
TZNAME:EDT
DTSTART:20260308T070000
END:DAYLIGHT
BEGIN:STANDARD
TZOFFSETFROM:-0400
TZOFFSETTO:-0500
TZNAME:EST
DTSTART:20261101T060000
END:STANDARD
BEGIN:DAYLIGHT
TZOFFSETFROM:-0500
TZOFFSETTO:-0400
TZNAME:EDT
DTSTART:20270314T070000
END:DAYLIGHT
BEGIN:STANDARD
TZOFFSETFROM:-0400
TZOFFSETTO:-0500
TZNAME:EST
DTSTART:20271107T060000
END:STANDARD
END:VTIMEZONE
BEGIN:VEVENT
DTSTART;TZID=America/New_York:20260629T054500
DTEND;TZID=America/New_York:20260629T074500
DTSTAMP:20260419T145100
CREATED:20260414T214907Z
LAST-MODIFIED:20260419T182922Z
UID:10001473-1782711900-1782719100@ottawarowingclub.com
SUMMARY:Junior Crew
DESCRIPTION:
URL:https://ottawarowingclub.com/event/junior-crew-31/
CATEGORIES:Junior
END:VEVENT
BEGIN:VEVENT
DTSTART;TZID=America/New_York:20260629T054500
DTEND;TZID=America/New_York:20260629T074500
DTSTAMP:20260419T145100
CREATED:20260414T214907Z
LAST-MODIFIED:20260419T182909Z
UID:10001472-1782711900-1782719100@ottawarowingclub.com
SUMMARY:Junior Performance
DESCRIPTION:
URL:https://ottawarowingclub.com/event/junior-performance-38/
CATEGORIES:Junior
END:VEVENT
BEGIN:VEVENT
DTSTART;TZID=America/New_York:20260629T083000
DTEND;TZID=America/New_York:20260629T103000
DTSTAMP:20260419T145100
CREATED:20260414T214908Z
LAST-MODIFIED:20260419T182922Z
UID:10001474-1782721800-1782729000@ottawarowingclub.com
SUMMARY:Junior Development
DESCRIPTION:
URL:https://ottawarowingclub.com/event/junior-development-24/
CATEGORIES:Junior
END:VEVENT
BEGIN:VEVENT
DTSTART;TZID=America/New_York:20260630T054500
DTEND;TZID=America/New_York:20260630T074500
DTSTAMP:20260419T145100
CREATED:20260414T214908Z
LAST-MODIFIED:20260419T182922Z
UID:10001476-1782798300-1782805500@ottawarowingclub.com
SUMMARY:Junior Performance
DESCRIPTION:
URL:https://ottawarowingclub.com/event/junior-performance-39/
CATEGORIES:Junior
END:VEVENT
BEGIN:VEVENT
DTSTART;TZID=America/New_York:20260630T054500
DTEND;TZID=America/New_York:20260630T074500
DTSTAMP:20260419T145100
CREATED:20260414T214908Z
LAST-MODIFIED:20260419T182922Z
UID:10001475-1782798300-1782805500@ottawarowingclub.com
SUMMARY:Junior Crew
DESCRIPTION:
URL:https://ottawarowingclub.com/event/junior-crew-32/
CATEGORIES:Junior
END:VEVENT
BEGIN:VEVENT
DTSTART;TZID=America/New_York:20260630T083000
DTEND;TZID=America/New_York:20260630T103000
DTSTAMP:20260419T145100
CREATED:20260414T214908Z
LAST-MODIFIED:20260419T182922Z
UID:10001477-1782808200-1782815400@ottawarowingclub.com
SUMMARY:Junior Development
DESCRIPTION:
URL:https://ottawarowingclub.com/event/junior-development-25/
CATEGORIES:Junior
END:VEVENT
BEGIN:VEVENT
DTSTART;TZID=America/New_York:20260702T054500
DTEND;TZID=America/New_York:20260702T074500
DTSTAMP:20260419T145100
CREATED:20260414T214908Z
LAST-MODIFIED:20260419T182922Z
UID:10001478-1782971100-1782978300@ottawarowingclub.com
SUMMARY:Junior Crew
DESCRIPTION:
URL:https://ottawarowingclub.com/event/junior-crew-33/
CATEGORIES:Junior
END:VEVENT
BEGIN:VEVENT
DTSTART;TZID=America/New_York:20260702T083000
DTEND;TZID=America/New_York:20260702T103000
DTSTAMP:20260419T145100
CREATED:20260414T214909Z
LAST-MODIFIED:20260419T182922Z
UID:10001479-1782981000-1782988200@ottawarowingclub.com
SUMMARY:Junior Development
DESCRIPTION:
URL:https://ottawarowingclub.com/event/junior-development-26/
CATEGORIES:Junior
END:VEVENT
BEGIN:VEVENT
DTSTART;TZID=America/New_York:20260703T054500
DTEND;TZID=America/New_York:20260703T074500
DTSTAMP:20260419T145100
CREATED:20260414T214923Z
LAST-MODIFIED:20260419T182922Z
UID:10001480-1783057500-1783064700@ottawarowingclub.com
SUMMARY:Junior Performance
DESCRIPTION:
URL:https://ottawarowingclub.com/event/junior-performance-40/
CATEGORIES:Junior
END:VEVENT
BEGIN:VEVENT
DTSTART;TZID=America/New_York:20260704T063000
DTEND;TZID=America/New_York:20260704T103000
DTSTAMP:20260419T145100
CREATED:20260414T214923Z
LAST-MODIFIED:20260419T182923Z
UID:10001482-1783146600-1783161000@ottawarowingclub.com
SUMMARY:Junior Performance
DESCRIPTION:
URL:https://ottawarowingclub.com/event/junior-performance-41/
CATEGORIES:Junior
END:VEVENT
BEGIN:VEVENT
DTSTART;TZID=America/New_York:20260704T063000
DTEND;TZID=America/New_York:20260704T103000
DTSTAMP:20260419T145100
CREATED:20260414T214923Z
LAST-MODIFIED:20260419T182922Z
UID:10001481-1783146600-1783161000@ottawarowingclub.com
SUMMARY:Junior Crew
DESCRIPTION:
URL:https://ottawarowingclub.com/event/junior-crew-34/
CATEGORIES:Junior
END:VEVENT
END:VCALENDAR