BEGIN:VCALENDAR
VERSION:2.0
PRODID:-//Ottawa Rowing Club - ECPv6.15.20//NONSGML v1.0//EN
CALSCALE:GREGORIAN
METHOD:PUBLISH
X-ORIGINAL-URL:https://ottawarowingclub.com
X-WR-CALDESC:Events for Ottawa Rowing Club
REFRESH-INTERVAL;VALUE=DURATION:PT1H
X-Robots-Tag:noindex
X-PUBLISHED-TTL:PT1H
BEGIN:VTIMEZONE
TZID:America/New_York
BEGIN:DAYLIGHT
TZOFFSETFROM:-0500
TZOFFSETTO:-0400
TZNAME:EDT
DTSTART:20250309T070000
END:DAYLIGHT
BEGIN:STANDARD
TZOFFSETFROM:-0400
TZOFFSETTO:-0500
TZNAME:EST
DTSTART:20251102T060000
END:STANDARD
BEGIN:DAYLIGHT
TZOFFSETFROM:-0500
TZOFFSETTO:-0400
TZNAME:EDT
DTSTART:20260308T070000
END:DAYLIGHT
BEGIN:STANDARD
TZOFFSETFROM:-0400
TZOFFSETTO:-0500
TZNAME:EST
DTSTART:20261101T060000
END:STANDARD
BEGIN:DAYLIGHT
TZOFFSETFROM:-0500
TZOFFSETTO:-0400
TZNAME:EDT
DTSTART:20270314T070000
END:DAYLIGHT
BEGIN:STANDARD
TZOFFSETFROM:-0400
TZOFFSETTO:-0500
TZNAME:EST
DTSTART:20271107T060000
END:STANDARD
END:VTIMEZONE
BEGIN:VEVENT
DTSTART;TZID=America/New_York:20260525T161500
DTEND;TZID=America/New_York:20260525T183000
DTSTAMP:20260420T005019
CREATED:20260414T214718Z
LAST-MODIFIED:20260420T042800Z
UID:10001413-1779725700-1779733800@ottawarowingclub.com
SUMMARY:Junior Crew
DESCRIPTION:
URL:https://ottawarowingclub.com/event/junior-crew-11/
CATEGORIES:Junior
END:VEVENT
BEGIN:VEVENT
DTSTART;TZID=America/New_York:20260525T161500
DTEND;TZID=America/New_York:20260525T183000
DTSTAMP:20260420T005019
CREATED:20260414T214718Z
LAST-MODIFIED:20260420T042801Z
UID:10001412-1779725700-1779733800@ottawarowingclub.com
SUMMARY:Junior Performance
DESCRIPTION:
URL:https://ottawarowingclub.com/event/junior-performance-13/
CATEGORIES:Junior
END:VEVENT
BEGIN:VEVENT
DTSTART;TZID=America/New_York:20260525T163000
DTEND;TZID=America/New_York:20260525T183000
DTSTAMP:20260420T005019
CREATED:20260414T214719Z
LAST-MODIFIED:20260420T042748Z
UID:10001414-1779726600-1779733800@ottawarowingclub.com
SUMMARY:Junior Development
DESCRIPTION:
URL:https://ottawarowingclub.com/event/junior-development-9/
CATEGORIES:Junior
END:VEVENT
BEGIN:VEVENT
DTSTART;TZID=America/New_York:20260526T161500
DTEND;TZID=America/New_York:20260526T183000
DTSTAMP:20260420T005019
CREATED:20260414T214719Z
LAST-MODIFIED:20260420T042801Z
UID:10001416-1779812100-1779820200@ottawarowingclub.com
SUMMARY:Junior Performance
DESCRIPTION:
URL:https://ottawarowingclub.com/event/junior-performance-14/
CATEGORIES:Junior
END:VEVENT
BEGIN:VEVENT
DTSTART;TZID=America/New_York:20260526T161500
DTEND;TZID=America/New_York:20260526T183000
DTSTAMP:20260420T005019
CREATED:20260414T214719Z
LAST-MODIFIED:20260420T042801Z
UID:10001415-1779812100-1779820200@ottawarowingclub.com
SUMMARY:Junior Crew
DESCRIPTION:
URL:https://ottawarowingclub.com/event/junior-crew-12/
CATEGORIES:Junior
END:VEVENT
BEGIN:VEVENT
DTSTART;TZID=America/New_York:20260527T161500
DTEND;TZID=America/New_York:20260527T183000
DTSTAMP:20260420T005019
CREATED:20260414T214720Z
LAST-MODIFIED:20260420T042801Z
UID:10001417-1779898500-1779906600@ottawarowingclub.com
SUMMARY:Junior Performance
DESCRIPTION:
URL:https://ottawarowingclub.com/event/junior-performance-15/
CATEGORIES:Junior
END:VEVENT
BEGIN:VEVENT
DTSTART;TZID=America/New_York:20260527T163000
DTEND;TZID=America/New_York:20260527T183000
DTSTAMP:20260420T005019
CREATED:20260414T214720Z
LAST-MODIFIED:20260420T042801Z
UID:10001418-1779899400-1779906600@ottawarowingclub.com
SUMMARY:Junior Development
DESCRIPTION:
URL:https://ottawarowingclub.com/event/junior-development-10/
CATEGORIES:Junior
END:VEVENT
BEGIN:VEVENT
DTSTART;TZID=America/New_York:20260528T161500
DTEND;TZID=America/New_York:20260528T183000
DTSTAMP:20260420T005019
CREATED:20260414T214736Z
LAST-MODIFIED:20260420T042801Z
UID:10001420-1779984900-1779993000@ottawarowingclub.com
SUMMARY:Junior Crew
DESCRIPTION:
URL:https://ottawarowingclub.com/event/junior-crew-13/
CATEGORIES:Junior
END:VEVENT
BEGIN:VEVENT
DTSTART;TZID=America/New_York:20260528T163000
DTEND;TZID=America/New_York:20260528T183000
DTSTAMP:20260420T005019
CREATED:20260414T214721Z
LAST-MODIFIED:20260420T042801Z
UID:10001419-1779985800-1779993000@ottawarowingclub.com
SUMMARY:Junior Development
DESCRIPTION:
URL:https://ottawarowingclub.com/event/junior-development-11/
CATEGORIES:Junior
END:VEVENT
BEGIN:VEVENT
DTSTART;TZID=America/New_York:20260529T161500
DTEND;TZID=America/New_York:20260529T183000
DTSTAMP:20260420T005019
CREATED:20260414T214737Z
LAST-MODIFIED:20260420T042801Z
UID:10001421-1780071300-1780079400@ottawarowingclub.com
SUMMARY:Junior Performance
DESCRIPTION:
URL:https://ottawarowingclub.com/event/junior-performance-16/
CATEGORIES:Junior
END:VEVENT
BEGIN:VEVENT
DTSTART;TZID=America/New_York:20260530T063000
DTEND;TZID=America/New_York:20260530T103000
DTSTAMP:20260420T005019
CREATED:20260414T214737Z
LAST-MODIFIED:20260420T042801Z
UID:10001422-1780122600-1780137000@ottawarowingclub.com
SUMMARY:Junior Performance
DESCRIPTION:
URL:https://ottawarowingclub.com/event/junior-performance-17/
CATEGORIES:Junior
END:VEVENT
BEGIN:VEVENT
DTSTART;TZID=America/New_York:20260530T063000
DTEND;TZID=America/New_York:20260530T103000
DTSTAMP:20260420T005019
CREATED:20260414T214738Z
LAST-MODIFIED:20260420T042815Z
UID:10001423-1780122600-1780137000@ottawarowingclub.com
SUMMARY:Junior Crew
DESCRIPTION:
URL:https://ottawarowingclub.com/event/junior-crew-14/
CATEGORIES:Junior
END:VEVENT
END:VCALENDAR