BEGIN:VCALENDAR
VERSION:2.0
PRODID:-//Ottawa Rowing Club - ECPv6.15.20//NONSGML v1.0//EN
CALSCALE:GREGORIAN
METHOD:PUBLISH
X-ORIGINAL-URL:https://ottawarowingclub.com
X-WR-CALDESC:Events for Ottawa Rowing Club
REFRESH-INTERVAL;VALUE=DURATION:PT1H
X-Robots-Tag:noindex
X-PUBLISHED-TTL:PT1H
BEGIN:VTIMEZONE
TZID:America/New_York
BEGIN:DAYLIGHT
TZOFFSETFROM:-0500
TZOFFSETTO:-0400
TZNAME:EDT
DTSTART:20250309T070000
END:DAYLIGHT
BEGIN:STANDARD
TZOFFSETFROM:-0400
TZOFFSETTO:-0500
TZNAME:EST
DTSTART:20251102T060000
END:STANDARD
BEGIN:DAYLIGHT
TZOFFSETFROM:-0500
TZOFFSETTO:-0400
TZNAME:EDT
DTSTART:20260308T070000
END:DAYLIGHT
BEGIN:STANDARD
TZOFFSETFROM:-0400
TZOFFSETTO:-0500
TZNAME:EST
DTSTART:20261101T060000
END:STANDARD
BEGIN:DAYLIGHT
TZOFFSETFROM:-0500
TZOFFSETTO:-0400
TZNAME:EDT
DTSTART:20270314T070000
END:DAYLIGHT
BEGIN:STANDARD
TZOFFSETFROM:-0400
TZOFFSETTO:-0500
TZNAME:EST
DTSTART:20271107T060000
END:STANDARD
END:VTIMEZONE
BEGIN:VEVENT
DTSTART;TZID=America/New_York:20260330T060000
DTEND;TZID=America/New_York:20260330T070000
DTSTAMP:20260419T082149
CREATED:20260121T150817Z
LAST-MODIFIED:20260330T095636Z
UID:10000728-1774850400-1774854000@ottawarowingclub.com
SUMMARY:S&C
DESCRIPTION:
URL:https://ottawarowingclub.com/event/sc-29/
LOCATION:FRST Fitness\, 1408 Bank St\, Ottawa\, ON K1H 7Y9\, Canada
CATEGORIES:Junior
END:VEVENT
BEGIN:VEVENT
DTSTART;TZID=America/New_York:20260331T060000
DTEND;TZID=America/New_York:20260331T073000
DTSTAMP:20260419T082149
CREATED:20260121T150831Z
LAST-MODIFIED:20260331T102640Z
UID:10000729-1774936800-1774942200@ottawarowingclub.com
SUMMARY:Erg
DESCRIPTION:
URL:https://ottawarowingclub.com/event/erg-20/
LOCATION:200 Lees – Building E\, 200 Lees Ave Building E\, Ottawa\, ON K1S 5S9\, Canada
CATEGORIES:Junior
END:VEVENT
BEGIN:VEVENT
DTSTART;TZID=America/New_York:20260401T060000
DTEND;TZID=America/New_York:20260401T070000
DTSTAMP:20260419T082149
CREATED:20260121T150832Z
LAST-MODIFIED:20260401T092639Z
UID:10000730-1775023200-1775026800@ottawarowingclub.com
SUMMARY:S&C
DESCRIPTION:
URL:https://ottawarowingclub.com/event/sc-30/
LOCATION:FRST Fitness\, 1408 Bank St\, Ottawa\, ON K1H 7Y9\, Canada
CATEGORIES:Junior
END:VEVENT
BEGIN:VEVENT
DTSTART;TZID=America/New_York:20260402T060000
DTEND;TZID=America/New_York:20260402T073000
DTSTAMP:20260419T082149
CREATED:20260121T150832Z
LAST-MODIFIED:20260402T101201Z
UID:10000731-1775109600-1775115000@ottawarowingclub.com
SUMMARY:Erg
DESCRIPTION:
URL:https://ottawarowingclub.com/event/erg-21/
LOCATION:200 Lees – Building E\, 200 Lees Ave Building E\, Ottawa\, ON K1S 5S9\, Canada
CATEGORIES:Junior
END:VEVENT
BEGIN:VEVENT
DTSTART;TZID=America/New_York:20260404T083000
DTEND;TZID=America/New_York:20260404T103000
DTSTAMP:20260419T082149
CREATED:20260121T150832Z
LAST-MODIFIED:20260404T141207Z
UID:10000733-1775291400-1775298600@ottawarowingclub.com
SUMMARY:Stair Run + Erg
DESCRIPTION:
URL:https://ottawarowingclub.com/event/stair-run-erg-10/
LOCATION:200 Lees – Building E\, 200 Lees Ave Building E\, Ottawa\, ON K1S 5S9\, Canada
CATEGORIES:Junior
END:VEVENT
END:VCALENDAR