BEGIN:VCALENDAR
VERSION:2.0
PRODID:-//Ottawa Rowing Club - ECPv6.15.20//NONSGML v1.0//EN
CALSCALE:GREGORIAN
METHOD:PUBLISH
X-ORIGINAL-URL:https://ottawarowingclub.com
X-WR-CALDESC:Events for Ottawa Rowing Club
REFRESH-INTERVAL;VALUE=DURATION:PT1H
X-Robots-Tag:noindex
X-PUBLISHED-TTL:PT1H
BEGIN:VTIMEZONE
TZID:America/New_York
BEGIN:DAYLIGHT
TZOFFSETFROM:-0500
TZOFFSETTO:-0400
TZNAME:EDT
DTSTART:20250309T070000
END:DAYLIGHT
BEGIN:STANDARD
TZOFFSETFROM:-0400
TZOFFSETTO:-0500
TZNAME:EST
DTSTART:20251102T060000
END:STANDARD
BEGIN:DAYLIGHT
TZOFFSETFROM:-0500
TZOFFSETTO:-0400
TZNAME:EDT
DTSTART:20260308T070000
END:DAYLIGHT
BEGIN:STANDARD
TZOFFSETFROM:-0400
TZOFFSETTO:-0500
TZNAME:EST
DTSTART:20261101T060000
END:STANDARD
BEGIN:DAYLIGHT
TZOFFSETFROM:-0500
TZOFFSETTO:-0400
TZNAME:EDT
DTSTART:20270314T070000
END:DAYLIGHT
BEGIN:STANDARD
TZOFFSETFROM:-0400
TZOFFSETTO:-0500
TZNAME:EST
DTSTART:20271107T060000
END:STANDARD
END:VTIMEZONE
BEGIN:VEVENT
DTSTART;TZID=America/New_York:20260323T060000
DTEND;TZID=America/New_York:20260323T070000
DTSTAMP:20260419T165204
CREATED:20260121T150816Z
LAST-MODIFIED:20260323T102647Z
UID:10000722-1774245600-1774249200@ottawarowingclub.com
SUMMARY:S&C
DESCRIPTION:
URL:https://ottawarowingclub.com/event/sc-26/
LOCATION:FRST Fitness\, 1408 Bank St\, Ottawa\, ON K1H 7Y9\, Canada
CATEGORIES:Junior
END:VEVENT
BEGIN:VEVENT
DTSTART;TZID=America/New_York:20260324T060000
DTEND;TZID=America/New_York:20260324T073000
DTSTAMP:20260419T165204
CREATED:20260121T150817Z
LAST-MODIFIED:20260324T105641Z
UID:10000723-1774332000-1774337400@ottawarowingclub.com
SUMMARY:Erg
DESCRIPTION:
URL:https://ottawarowingclub.com/event/erg-18/
LOCATION:200 Lees – Building E\, 200 Lees Ave Building E\, Ottawa\, ON K1S 5S9\, Canada
CATEGORIES:Junior
END:VEVENT
BEGIN:VEVENT
DTSTART;TZID=America/New_York:20260325T060000
DTEND;TZID=America/New_York:20260325T070000
DTSTAMP:20260419T165204
CREATED:20260121T150817Z
LAST-MODIFIED:20260325T092646Z
UID:10000724-1774418400-1774422000@ottawarowingclub.com
SUMMARY:S&C
DESCRIPTION:
URL:https://ottawarowingclub.com/event/sc-27/
LOCATION:FRST Fitness\, 1408 Bank St\, Ottawa\, ON K1H 7Y9\, Canada
CATEGORIES:Junior
END:VEVENT
BEGIN:VEVENT
DTSTART;TZID=America/New_York:20260326T060000
DTEND;TZID=America/New_York:20260326T073000
DTSTAMP:20260419T165204
CREATED:20260121T150817Z
LAST-MODIFIED:20260326T104137Z
UID:10000725-1774504800-1774510200@ottawarowingclub.com
SUMMARY:Erg
DESCRIPTION:
URL:https://ottawarowingclub.com/event/erg-19/
LOCATION:200 Lees – Building E\, 200 Lees Ave Building E\, Ottawa\, ON K1S 5S9\, Canada
CATEGORIES:Junior
END:VEVENT
BEGIN:VEVENT
DTSTART;TZID=America/New_York:20260327T060000
DTEND;TZID=America/New_York:20260327T070000
DTSTAMP:20260419T165204
CREATED:20260121T150817Z
LAST-MODIFIED:20260327T101144Z
UID:10000726-1774591200-1774594800@ottawarowingclub.com
SUMMARY:S&C
DESCRIPTION:
URL:https://ottawarowingclub.com/event/sc-28/
LOCATION:FRST Fitness\, 1408 Bank St\, Ottawa\, ON K1H 7Y9\, Canada
CATEGORIES:Junior
END:VEVENT
BEGIN:VEVENT
DTSTART;TZID=America/New_York:20260328T083000
DTEND;TZID=America/New_York:20260328T103000
DTSTAMP:20260419T165204
CREATED:20260121T150817Z
LAST-MODIFIED:20260328T132636Z
UID:10000727-1774686600-1774693800@ottawarowingclub.com
SUMMARY:Stair Run + Erg
DESCRIPTION:
URL:https://ottawarowingclub.com/event/stair-run-erg-9/
LOCATION:200 Lees – Building E\, 200 Lees Ave Building E\, Ottawa\, ON K1S 5S9\, Canada
CATEGORIES:Junior
END:VEVENT
END:VCALENDAR