BEGIN:VCALENDAR
VERSION:2.0
PRODID:-//Ottawa Rowing Club - ECPv6.15.20//NONSGML v1.0//EN
CALSCALE:GREGORIAN
METHOD:PUBLISH
X-WR-CALNAME:Ottawa Rowing Club
X-ORIGINAL-URL:https://ottawarowingclub.com
X-WR-CALDESC:Events for Ottawa Rowing Club
REFRESH-INTERVAL;VALUE=DURATION:PT1H
X-Robots-Tag:noindex
X-PUBLISHED-TTL:PT1H
BEGIN:VTIMEZONE
TZID:America/New_York
BEGIN:DAYLIGHT
TZOFFSETFROM:-0500
TZOFFSETTO:-0400
TZNAME:EDT
DTSTART:20250309T070000
END:DAYLIGHT
BEGIN:STANDARD
TZOFFSETFROM:-0400
TZOFFSETTO:-0500
TZNAME:EST
DTSTART:20251102T060000
END:STANDARD
BEGIN:DAYLIGHT
TZOFFSETFROM:-0500
TZOFFSETTO:-0400
TZNAME:EDT
DTSTART:20260308T070000
END:DAYLIGHT
BEGIN:STANDARD
TZOFFSETFROM:-0400
TZOFFSETTO:-0500
TZNAME:EST
DTSTART:20261101T060000
END:STANDARD
BEGIN:DAYLIGHT
TZOFFSETFROM:-0500
TZOFFSETTO:-0400
TZNAME:EDT
DTSTART:20270314T070000
END:DAYLIGHT
BEGIN:STANDARD
TZOFFSETFROM:-0400
TZOFFSETTO:-0500
TZNAME:EST
DTSTART:20271107T060000
END:STANDARD
END:VTIMEZONE
BEGIN:VEVENT
DTSTART;TZID=America/New_York:20260302T060000
DTEND;TZID=America/New_York:20260302T070000
DTSTAMP:20260419T130312
CREATED:20260121T150745Z
LAST-MODIFIED:20260302T112638Z
UID:10000704-1772431200-1772434800@ottawarowingclub.com
SUMMARY:S&C
DESCRIPTION:
URL:https://ottawarowingclub.com/event/sc-17/
LOCATION:FRST Fitness\, 1408 Bank St\, Ottawa\, ON K1H 7Y9\, Canada
CATEGORIES:Junior
END:VEVENT
BEGIN:VEVENT
DTSTART;TZID=America/New_York:20260303T060000
DTEND;TZID=America/New_York:20260303T073000
DTSTAMP:20260419T130312
CREATED:20260121T150746Z
LAST-MODIFIED:20260303T121144Z
UID:10000705-1772517600-1772523000@ottawarowingclub.com
SUMMARY:Erg
DESCRIPTION:
URL:https://ottawarowingclub.com/event/erg-12/
LOCATION:200 Lees – Building E\, 200 Lees Ave Building E\, Ottawa\, ON K1S 5S9\, Canada
CATEGORIES:Junior
END:VEVENT
BEGIN:VEVENT
DTSTART;TZID=America/New_York:20260304T060000
DTEND;TZID=America/New_York:20260304T070000
DTSTAMP:20260419T130312
CREATED:20260121T150746Z
LAST-MODIFIED:20260304T114139Z
UID:10000706-1772604000-1772607600@ottawarowingclub.com
SUMMARY:S&C
DESCRIPTION:
URL:https://ottawarowingclub.com/event/sc-18/
LOCATION:FRST Fitness\, 1408 Bank St\, Ottawa\, ON K1H 7Y9\, Canada
CATEGORIES:Junior
END:VEVENT
BEGIN:VEVENT
DTSTART;TZID=America/New_York:20260305T060000
DTEND;TZID=America/New_York:20260305T073000
DTSTAMP:20260419T130312
CREATED:20260121T150746Z
LAST-MODIFIED:20260305T121139Z
UID:10000707-1772690400-1772695800@ottawarowingclub.com
SUMMARY:Erg
DESCRIPTION:
URL:https://ottawarowingclub.com/event/erg-13/
LOCATION:200 Lees – Building E\, 200 Lees Ave Building E\, Ottawa\, ON K1S 5S9\, Canada
CATEGORIES:Junior
END:VEVENT
BEGIN:VEVENT
DTSTART;TZID=America/New_York:20260306T060000
DTEND;TZID=America/New_York:20260306T070000
DTSTAMP:20260419T130312
CREATED:20260121T150746Z
LAST-MODIFIED:20260306T114137Z
UID:10000708-1772776800-1772780400@ottawarowingclub.com
SUMMARY:S&C
DESCRIPTION:
URL:https://ottawarowingclub.com/event/sc-19/
LOCATION:FRST Fitness\, 1408 Bank St\, Ottawa\, ON K1H 7Y9\, Canada
CATEGORIES:Junior
END:VEVENT
BEGIN:VEVENT
DTSTART;TZID=America/New_York:20260307T083000
DTEND;TZID=America/New_York:20260307T103000
DTSTAMP:20260419T130312
CREATED:20260121T150800Z
LAST-MODIFIED:20260307T151142Z
UID:10000709-1772872200-1772879400@ottawarowingclub.com
SUMMARY:Stair Run + Erg
DESCRIPTION:
URL:https://ottawarowingclub.com/event/stair-run-erg-6/
LOCATION:200 Lees – Building E\, 200 Lees Ave Building E\, Ottawa\, ON K1S 5S9\, Canada
CATEGORIES:Junior
END:VEVENT
END:VCALENDAR