BEGIN:VCALENDAR
VERSION:2.0
PRODID:-//Ottawa Rowing Club - ECPv6.15.20//NONSGML v1.0//EN
CALSCALE:GREGORIAN
METHOD:PUBLISH
X-ORIGINAL-URL:https://ottawarowingclub.com
X-WR-CALDESC:Events for Ottawa Rowing Club
REFRESH-INTERVAL;VALUE=DURATION:PT1H
X-Robots-Tag:noindex
X-PUBLISHED-TTL:PT1H
BEGIN:VTIMEZONE
TZID:America/New_York
BEGIN:DAYLIGHT
TZOFFSETFROM:-0500
TZOFFSETTO:-0400
TZNAME:EDT
DTSTART:20250309T070000
END:DAYLIGHT
BEGIN:STANDARD
TZOFFSETFROM:-0400
TZOFFSETTO:-0500
TZNAME:EST
DTSTART:20251102T060000
END:STANDARD
BEGIN:DAYLIGHT
TZOFFSETFROM:-0500
TZOFFSETTO:-0400
TZNAME:EDT
DTSTART:20260308T070000
END:DAYLIGHT
BEGIN:STANDARD
TZOFFSETFROM:-0400
TZOFFSETTO:-0500
TZNAME:EST
DTSTART:20261101T060000
END:STANDARD
BEGIN:DAYLIGHT
TZOFFSETFROM:-0500
TZOFFSETTO:-0400
TZNAME:EDT
DTSTART:20270314T070000
END:DAYLIGHT
BEGIN:STANDARD
TZOFFSETFROM:-0400
TZOFFSETTO:-0500
TZNAME:EST
DTSTART:20271107T060000
END:STANDARD
END:VTIMEZONE
BEGIN:VEVENT
DTSTART;TZID=America/New_York:20260126T060000
DTEND;TZID=America/New_York:20260126T070000
DTSTAMP:20260419T132350
CREATED:20260121T150657Z
LAST-MODIFIED:20260126T112129Z
UID:10000672-1769407200-1769410800@ottawarowingclub.com
SUMMARY:S&C
DESCRIPTION:
URL:https://ottawarowingclub.com/event/sc-2/
LOCATION:FRST Fitness\, 1408 Bank St\, Ottawa\, ON K1H 7Y9\, Canada
CATEGORIES:Junior
END:VEVENT
BEGIN:VEVENT
DTSTART;TZID=America/New_York:20260127T060000
DTEND;TZID=America/New_York:20260127T073000
DTSTAMP:20260419T132350
CREATED:20260121T150657Z
LAST-MODIFIED:20260127T122128Z
UID:10000673-1769493600-1769499000@ottawarowingclub.com
SUMMARY:Erg
DESCRIPTION:
URL:https://ottawarowingclub.com/event/erg-2/
LOCATION:200 Lees – Building E\, 200 Lees Ave Building E\, Ottawa\, ON K1S 5S9\, Canada
CATEGORIES:Junior
END:VEVENT
BEGIN:VEVENT
DTSTART;TZID=America/New_York:20260128T060000
DTEND;TZID=America/New_York:20260128T070000
DTSTAMP:20260419T132350
CREATED:20260121T150657Z
LAST-MODIFIED:20260128T105126Z
UID:10000674-1769580000-1769583600@ottawarowingclub.com
SUMMARY:S&C
DESCRIPTION:
URL:https://ottawarowingclub.com/event/sc-3/
LOCATION:FRST Fitness\, 1408 Bank St\, Ottawa\, ON K1H 7Y9\, Canada
CATEGORIES:Junior
END:VEVENT
BEGIN:VEVENT
DTSTART;TZID=America/New_York:20260129T060000
DTEND;TZID=America/New_York:20260129T073000
DTSTAMP:20260419T132350
CREATED:20260121T150657Z
LAST-MODIFIED:20260129T115135Z
UID:10000675-1769666400-1769671800@ottawarowingclub.com
SUMMARY:Erg
DESCRIPTION:
URL:https://ottawarowingclub.com/event/erg-3/
LOCATION:200 Lees – Building E\, 200 Lees Ave Building E\, Ottawa\, ON K1S 5S9\, Canada
CATEGORIES:Junior
END:VEVENT
BEGIN:VEVENT
DTSTART;TZID=America/New_York:20260130T060000
DTEND;TZID=America/New_York:20260130T070000
DTSTAMP:20260419T132350
CREATED:20260121T150657Z
LAST-MODIFIED:20260130T113626Z
UID:10000676-1769752800-1769756400@ottawarowingclub.com
SUMMARY:S&C
DESCRIPTION:
URL:https://ottawarowingclub.com/event/sc-4/
LOCATION:FRST Fitness\, 1408 Bank St\, Ottawa\, ON K1H 7Y9\, Canada
CATEGORIES:Junior
END:VEVENT
BEGIN:VEVENT
DTSTART;TZID=America/New_York:20260131T083000
DTEND;TZID=America/New_York:20260131T103000
DTSTAMP:20260419T132350
CREATED:20260121T150657Z
LAST-MODIFIED:20260131T144137Z
UID:10000678-1769848200-1769855400@ottawarowingclub.com
SUMMARY:CANCELLED - Stair Run + Erg
DESCRIPTION:
URL:https://ottawarowingclub.com/event/cancelled-stair-run-erg/
LOCATION:200 Lees – Building E\, 200 Lees Ave Building E\, Ottawa\, ON K1S 5S9\, Canada
CATEGORIES:Junior
END:VEVENT
BEGIN:VEVENT
DTSTART;TZID=America/New_York:20260131T093000
DTEND;TZID=America/New_York:20260131T153000
DTSTAMP:20260419T132350
CREATED:20260121T150657Z
LAST-MODIFIED:20260131T194136Z
UID:10000677-1769851800-1769873400@ottawarowingclub.com
SUMMARY:Montreal Mini-Camp
DESCRIPTION:
URL:https://ottawarowingclub.com/event/montreal-mini-camp/
CATEGORIES:Junior
END:VEVENT
END:VCALENDAR