BEGIN:VCALENDAR
VERSION:2.0
PRODID:-//Ottawa Rowing Club - ECPv6.15.20//NONSGML v1.0//EN
CALSCALE:GREGORIAN
METHOD:PUBLISH
X-ORIGINAL-URL:https://ottawarowingclub.com
X-WR-CALDESC:Events for Ottawa Rowing Club
REFRESH-INTERVAL;VALUE=DURATION:PT1H
X-Robots-Tag:noindex
X-PUBLISHED-TTL:PT1H
BEGIN:VTIMEZONE
TZID:America/New_York
BEGIN:DAYLIGHT
TZOFFSETFROM:-0500
TZOFFSETTO:-0400
TZNAME:EDT
DTSTART:20250309T070000
END:DAYLIGHT
BEGIN:STANDARD
TZOFFSETFROM:-0400
TZOFFSETTO:-0500
TZNAME:EST
DTSTART:20251102T060000
END:STANDARD
BEGIN:DAYLIGHT
TZOFFSETFROM:-0500
TZOFFSETTO:-0400
TZNAME:EDT
DTSTART:20260308T070000
END:DAYLIGHT
BEGIN:STANDARD
TZOFFSETFROM:-0400
TZOFFSETTO:-0500
TZNAME:EST
DTSTART:20261101T060000
END:STANDARD
BEGIN:DAYLIGHT
TZOFFSETFROM:-0500
TZOFFSETTO:-0400
TZNAME:EDT
DTSTART:20270314T070000
END:DAYLIGHT
BEGIN:STANDARD
TZOFFSETFROM:-0400
TZOFFSETTO:-0500
TZNAME:EST
DTSTART:20271107T060000
END:STANDARD
END:VTIMEZONE
BEGIN:VEVENT
DTSTART;TZID=America/New_York:20260606T063000
DTEND;TZID=America/New_York:20260606T103000
DTSTAMP:20260419T215955
CREATED:20260414T214754Z
LAST-MODIFIED:20260420T015818Z
UID:10001434-1780727400-1780741800@ottawarowingclub.com
SUMMARY:Junior Performance
DESCRIPTION:
URL:https://ottawarowingclub.com/event/junior-performance-22/
CATEGORIES:Junior
END:VEVENT
BEGIN:VEVENT
DTSTART;TZID=America/New_York:20260608T161500
DTEND;TZID=America/New_York:20260608T183000
DTSTAMP:20260419T215956
CREATED:20260414T214754Z
LAST-MODIFIED:20260420T015818Z
UID:10001436-1780935300-1780943400@ottawarowingclub.com
SUMMARY:Junior Crew
DESCRIPTION:
URL:https://ottawarowingclub.com/event/junior-crew-19/
CATEGORIES:Junior
END:VEVENT
BEGIN:VEVENT
DTSTART;TZID=America/New_York:20260608T161500
DTEND;TZID=America/New_York:20260608T183000
DTSTAMP:20260419T215956
CREATED:20260414T214755Z
LAST-MODIFIED:20260420T015818Z
UID:10001437-1780935300-1780943400@ottawarowingclub.com
SUMMARY:Junior Performance
DESCRIPTION:
URL:https://ottawarowingclub.com/event/junior-performance-23/
CATEGORIES:Junior
END:VEVENT
BEGIN:VEVENT
DTSTART;TZID=America/New_York:20260608T163000
DTEND;TZID=America/New_York:20260608T183000
DTSTAMP:20260419T215956
CREATED:20260414T214755Z
LAST-MODIFIED:20260420T015818Z
UID:10001438-1780936200-1780943400@ottawarowingclub.com
SUMMARY:Junior Development
DESCRIPTION:
URL:https://ottawarowingclub.com/event/junior-development-15/
CATEGORIES:Junior
END:VEVENT
BEGIN:VEVENT
DTSTART;TZID=America/New_York:20260609T161500
DTEND;TZID=America/New_York:20260609T183000
DTSTAMP:20260419T215956
CREATED:20260414T214755Z
LAST-MODIFIED:20260420T015818Z
UID:10001439-1781021700-1781029800@ottawarowingclub.com
SUMMARY:Junior Crew
DESCRIPTION:
URL:https://ottawarowingclub.com/event/junior-crew-20/
CATEGORIES:Junior
END:VEVENT
BEGIN:VEVENT
DTSTART;TZID=America/New_York:20260609T161500
DTEND;TZID=America/New_York:20260609T183000
DTSTAMP:20260419T215956
CREATED:20260414T214810Z
LAST-MODIFIED:20260420T015818Z
UID:10001440-1781021700-1781029800@ottawarowingclub.com
SUMMARY:Junior Performance
DESCRIPTION:
URL:https://ottawarowingclub.com/event/junior-performance-24/
CATEGORIES:Junior
END:VEVENT
BEGIN:VEVENT
DTSTART;TZID=America/New_York:20260610T161500
DTEND;TZID=America/New_York:20260610T183000
DTSTAMP:20260419T215956
CREATED:20260414T214811Z
LAST-MODIFIED:20260420T015818Z
UID:10001442-1781108100-1781116200@ottawarowingclub.com
SUMMARY:Junior Performance
DESCRIPTION:
URL:https://ottawarowingclub.com/event/junior-performance-25/
CATEGORIES:Junior
END:VEVENT
BEGIN:VEVENT
DTSTART;TZID=America/New_York:20260610T163000
DTEND;TZID=America/New_York:20260610T183000
DTSTAMP:20260419T215956
CREATED:20260414T214811Z
LAST-MODIFIED:20260420T015818Z
UID:10001441-1781109000-1781116200@ottawarowingclub.com
SUMMARY:Junior Development
DESCRIPTION:
URL:https://ottawarowingclub.com/event/junior-development-16/
CATEGORIES:Junior
END:VEVENT
BEGIN:VEVENT
DTSTART;TZID=America/New_York:20260611T161500
DTEND;TZID=America/New_York:20260611T183000
DTSTAMP:20260419T215956
CREATED:20260414T214811Z
LAST-MODIFIED:20260420T015831Z
UID:10001444-1781194500-1781202600@ottawarowingclub.com
SUMMARY:Junior Crew
DESCRIPTION:
URL:https://ottawarowingclub.com/event/junior-crew-21/
CATEGORIES:Junior
END:VEVENT
BEGIN:VEVENT
DTSTART;TZID=America/New_York:20260611T163000
DTEND;TZID=America/New_York:20260611T183000
DTSTAMP:20260419T215956
CREATED:20260414T214811Z
LAST-MODIFIED:20260420T015831Z
UID:10001443-1781195400-1781202600@ottawarowingclub.com
SUMMARY:Junior Development
DESCRIPTION:
URL:https://ottawarowingclub.com/event/junior-development-17/
CATEGORIES:Junior
END:VEVENT
BEGIN:VEVENT
DTSTART;TZID=America/New_York:20260612T161500
DTEND;TZID=America/New_York:20260612T183000
DTSTAMP:20260419T215956
CREATED:20260414T214812Z
LAST-MODIFIED:20260420T015831Z
UID:10001445-1781280900-1781289000@ottawarowingclub.com
SUMMARY:Junior Performance
DESCRIPTION:
URL:https://ottawarowingclub.com/event/junior-performance-26/
CATEGORIES:Junior
END:VEVENT
BEGIN:VEVENT
DTSTART;TZID=America/New_York:20260613T063000
DTEND;TZID=America/New_York:20260613T103000
DTSTAMP:20260419T215956
CREATED:20260414T214812Z
LAST-MODIFIED:20260420T015831Z
UID:10001447-1781332200-1781346600@ottawarowingclub.com
SUMMARY:Junior Performance
DESCRIPTION:
URL:https://ottawarowingclub.com/event/junior-performance-27/
CATEGORIES:Junior
END:VEVENT
BEGIN:VEVENT
DTSTART;TZID=America/New_York:20260613T063000
DTEND;TZID=America/New_York:20260613T103000
DTSTAMP:20260419T215956
CREATED:20260414T214812Z
LAST-MODIFIED:20260420T015831Z
UID:10001446-1781332200-1781346600@ottawarowingclub.com
SUMMARY:Junior Crew
DESCRIPTION:
URL:https://ottawarowingclub.com/event/junior-crew-22/
CATEGORIES:Junior
END:VEVENT
BEGIN:VEVENT
DTSTART;TZID=America/New_York:20260615T161500
DTEND;TZID=America/New_York:20260615T183000
DTSTAMP:20260419T215956
CREATED:20260414T214812Z
LAST-MODIFIED:20260420T015831Z
UID:10001449-1781540100-1781548200@ottawarowingclub.com
SUMMARY:Junior Performance
DESCRIPTION:
URL:https://ottawarowingclub.com/event/junior-performance-28/
CATEGORIES:Junior
END:VEVENT
BEGIN:VEVENT
DTSTART;TZID=America/New_York:20260615T161500
DTEND;TZID=America/New_York:20260615T183000
DTSTAMP:20260419T215956
CREATED:20260414T214812Z
LAST-MODIFIED:20260420T015831Z
UID:10001448-1781540100-1781548200@ottawarowingclub.com
SUMMARY:Junior Crew
DESCRIPTION:
URL:https://ottawarowingclub.com/event/junior-crew-23/
CATEGORIES:Junior
END:VEVENT
BEGIN:VEVENT
DTSTART;TZID=America/New_York:20260615T163000
DTEND;TZID=America/New_York:20260615T183000
DTSTAMP:20260419T215956
CREATED:20260414T214832Z
LAST-MODIFIED:20260420T015832Z
UID:10001450-1781541000-1781548200@ottawarowingclub.com
SUMMARY:Junior Development
DESCRIPTION:
URL:https://ottawarowingclub.com/event/junior-development-18/
CATEGORIES:Junior
END:VEVENT
BEGIN:VEVENT
DTSTART;TZID=America/New_York:20260616T161500
DTEND;TZID=America/New_York:20260616T183000
DTSTAMP:20260419T215956
CREATED:20260414T214832Z
LAST-MODIFIED:20260420T015832Z
UID:10001452-1781626500-1781634600@ottawarowingclub.com
SUMMARY:Junior Crew
DESCRIPTION:
URL:https://ottawarowingclub.com/event/junior-crew-24/
CATEGORIES:Junior
END:VEVENT
BEGIN:VEVENT
DTSTART;TZID=America/New_York:20260616T161500
DTEND;TZID=America/New_York:20260616T183000
DTSTAMP:20260419T215956
CREATED:20260414T214832Z
LAST-MODIFIED:20260420T015832Z
UID:10001451-1781626500-1781634600@ottawarowingclub.com
SUMMARY:Junior Performance
DESCRIPTION:
URL:https://ottawarowingclub.com/event/junior-performance-29/
CATEGORIES:Junior
END:VEVENT
BEGIN:VEVENT
DTSTART;TZID=America/New_York:20260617T161500
DTEND;TZID=America/New_York:20260617T183000
DTSTAMP:20260419T215956
CREATED:20260414T214833Z
LAST-MODIFIED:20260420T015844Z
UID:10001454-1781712900-1781721000@ottawarowingclub.com
SUMMARY:Junior Performance
DESCRIPTION:
URL:https://ottawarowingclub.com/event/junior-performance-30/
CATEGORIES:Junior
END:VEVENT
BEGIN:VEVENT
DTSTART;TZID=America/New_York:20260617T163000
DTEND;TZID=America/New_York:20260617T183000
DTSTAMP:20260419T215956
CREATED:20260414T214833Z
LAST-MODIFIED:20260420T015844Z
UID:10001453-1781713800-1781721000@ottawarowingclub.com
SUMMARY:Junior Development
DESCRIPTION:
URL:https://ottawarowingclub.com/event/junior-development-19/
CATEGORIES:Junior
END:VEVENT
BEGIN:VEVENT
DTSTART;TZID=America/New_York:20260618T161500
DTEND;TZID=America/New_York:20260618T183000
DTSTAMP:20260419T215956
CREATED:20260414T214833Z
LAST-MODIFIED:20260420T015845Z
UID:10001455-1781799300-1781807400@ottawarowingclub.com
SUMMARY:Junior Crew
DESCRIPTION:
URL:https://ottawarowingclub.com/event/junior-crew-25/
CATEGORIES:Junior
END:VEVENT
BEGIN:VEVENT
DTSTART;TZID=America/New_York:20260618T163000
DTEND;TZID=America/New_York:20260618T183000
DTSTAMP:20260419T215956
CREATED:20260414T214833Z
LAST-MODIFIED:20260420T015845Z
UID:10001456-1781800200-1781807400@ottawarowingclub.com
SUMMARY:Junior Development
DESCRIPTION:
URL:https://ottawarowingclub.com/event/junior-development-20/
CATEGORIES:Junior
END:VEVENT
BEGIN:VEVENT
DTSTART;TZID=America/New_York:20260619T161500
DTEND;TZID=America/New_York:20260619T183000
DTSTAMP:20260419T215956
CREATED:20260414T214834Z
LAST-MODIFIED:20260420T015845Z
UID:10001457-1781885700-1781893800@ottawarowingclub.com
SUMMARY:Junior Performance
DESCRIPTION:
URL:https://ottawarowingclub.com/event/junior-performance-31/
CATEGORIES:Junior
END:VEVENT
BEGIN:VEVENT
DTSTART;TZID=America/New_York:20260620T063000
DTEND;TZID=America/New_York:20260620T103000
DTSTAMP:20260419T215956
CREATED:20260414T214834Z
LAST-MODIFIED:20260420T015845Z
UID:10001459-1781937000-1781951400@ottawarowingclub.com
SUMMARY:Junior Crew
DESCRIPTION:
URL:https://ottawarowingclub.com/event/junior-crew-26/
CATEGORIES:Junior
END:VEVENT
BEGIN:VEVENT
DTSTART;TZID=America/New_York:20260620T063000
DTEND;TZID=America/New_York:20260620T103000
DTSTAMP:20260419T215956
CREATED:20260414T214834Z
LAST-MODIFIED:20260420T015845Z
UID:10001458-1781937000-1781951400@ottawarowingclub.com
SUMMARY:Junior Performance
DESCRIPTION:
URL:https://ottawarowingclub.com/event/junior-performance-32/
CATEGORIES:Junior
END:VEVENT
BEGIN:VEVENT
DTSTART;TZID=America/New_York:20260622T161500
DTEND;TZID=America/New_York:20260622T183000
DTSTAMP:20260419T215956
CREATED:20260414T214851Z
LAST-MODIFIED:20260420T015845Z
UID:10001461-1782144900-1782153000@ottawarowingclub.com
SUMMARY:Junior Crew
DESCRIPTION:
URL:https://ottawarowingclub.com/event/junior-crew-27/
CATEGORIES:Junior
END:VEVENT
BEGIN:VEVENT
DTSTART;TZID=America/New_York:20260622T161500
DTEND;TZID=America/New_York:20260622T183000
DTSTAMP:20260419T215956
CREATED:20260414T214851Z
LAST-MODIFIED:20260420T015845Z
UID:10001460-1782144900-1782153000@ottawarowingclub.com
SUMMARY:Junior Performance
DESCRIPTION:
URL:https://ottawarowingclub.com/event/junior-performance-33/
CATEGORIES:Junior
END:VEVENT
BEGIN:VEVENT
DTSTART;TZID=America/New_York:20260622T163000
DTEND;TZID=America/New_York:20260622T183000
DTSTAMP:20260419T215956
CREATED:20260414T214852Z
LAST-MODIFIED:20260420T015845Z
UID:10001462-1782145800-1782153000@ottawarowingclub.com
SUMMARY:Junior Development
DESCRIPTION:
URL:https://ottawarowingclub.com/event/junior-development-21/
CATEGORIES:Junior
END:VEVENT
BEGIN:VEVENT
DTSTART;TZID=America/New_York:20260623T161500
DTEND;TZID=America/New_York:20260623T183000
DTSTAMP:20260419T215956
CREATED:20260414T214852Z
LAST-MODIFIED:20260420T015858Z
UID:10001464-1782231300-1782239400@ottawarowingclub.com
SUMMARY:Junior Performance
DESCRIPTION:
URL:https://ottawarowingclub.com/event/junior-performance-34/
CATEGORIES:Junior
END:VEVENT
BEGIN:VEVENT
DTSTART;TZID=America/New_York:20260623T161500
DTEND;TZID=America/New_York:20260623T183000
DTSTAMP:20260419T215956
CREATED:20260414T214852Z
LAST-MODIFIED:20260420T015858Z
UID:10001463-1782231300-1782239400@ottawarowingclub.com
SUMMARY:Junior Crew
DESCRIPTION:
URL:https://ottawarowingclub.com/event/junior-crew-28/
CATEGORIES:Junior
END:VEVENT
END:VCALENDAR