BEGIN:VCALENDAR
VERSION:2.0
PRODID:-//Ottawa Rowing Club - ECPv6.15.20//NONSGML v1.0//EN
CALSCALE:GREGORIAN
METHOD:PUBLISH
X-ORIGINAL-URL:https://ottawarowingclub.com
X-WR-CALDESC:Events for Ottawa Rowing Club
REFRESH-INTERVAL;VALUE=DURATION:PT1H
X-Robots-Tag:noindex
X-PUBLISHED-TTL:PT1H
BEGIN:VTIMEZONE
TZID:America/New_York
BEGIN:DAYLIGHT
TZOFFSETFROM:-0500
TZOFFSETTO:-0400
TZNAME:EDT
DTSTART:20250309T070000
END:DAYLIGHT
BEGIN:STANDARD
TZOFFSETFROM:-0400
TZOFFSETTO:-0500
TZNAME:EST
DTSTART:20251102T060000
END:STANDARD
BEGIN:DAYLIGHT
TZOFFSETFROM:-0500
TZOFFSETTO:-0400
TZNAME:EDT
DTSTART:20260308T070000
END:DAYLIGHT
BEGIN:STANDARD
TZOFFSETFROM:-0400
TZOFFSETTO:-0500
TZNAME:EST
DTSTART:20261101T060000
END:STANDARD
BEGIN:DAYLIGHT
TZOFFSETFROM:-0500
TZOFFSETTO:-0400
TZNAME:EDT
DTSTART:20270314T070000
END:DAYLIGHT
BEGIN:STANDARD
TZOFFSETFROM:-0400
TZOFFSETTO:-0500
TZNAME:EST
DTSTART:20271107T060000
END:STANDARD
END:VTIMEZONE
BEGIN:VEVENT
DTSTART;TZID=America/New_York:20260509T063000
DTEND;TZID=America/New_York:20260509T103000
DTSTAMP:20260419T150500
CREATED:20260414T214630Z
LAST-MODIFIED:20260419T182715Z
UID:10001387-1778308200-1778322600@ottawarowingclub.com
SUMMARY:Junior Performance
DESCRIPTION:
URL:https://ottawarowingclub.com/event/junior-performance-4/
CATEGORIES:Junior
END:VEVENT
BEGIN:VEVENT
DTSTART;TZID=America/New_York:20260509T063000
DTEND;TZID=America/New_York:20260509T103000
DTSTAMP:20260419T150500
CREATED:20260414T214631Z
LAST-MODIFIED:20260419T182715Z
UID:10001389-1778308200-1778322600@ottawarowingclub.com
SUMMARY:Media Day with Nick Kanellos
DESCRIPTION:
URL:https://ottawarowingclub.com/event/media-day-with-nick-kanellos/
CATEGORIES:Junior
END:VEVENT
BEGIN:VEVENT
DTSTART;TZID=America/New_York:20260509T063000
DTEND;TZID=America/New_York:20260509T103000
DTSTAMP:20260419T150500
CREATED:20260414T214631Z
LAST-MODIFIED:20260419T182715Z
UID:10001388-1778308200-1778322600@ottawarowingclub.com
SUMMARY:Junior Crew
DESCRIPTION:
URL:https://ottawarowingclub.com/event/junior-crew-3/
CATEGORIES:Junior
END:VEVENT
BEGIN:VEVENT
DTSTART;TZID=America/New_York:20260511T161500
DTEND;TZID=America/New_York:20260511T183000
DTSTAMP:20260419T150500
CREATED:20260414T214645Z
LAST-MODIFIED:20260419T182716Z
UID:10001391-1778516100-1778524200@ottawarowingclub.com
SUMMARY:Junior Performance
DESCRIPTION:
URL:https://ottawarowingclub.com/event/junior-performance-5/
CATEGORIES:Junior
END:VEVENT
BEGIN:VEVENT
DTSTART;TZID=America/New_York:20260511T161500
DTEND;TZID=America/New_York:20260511T183000
DTSTAMP:20260419T150500
CREATED:20260414T214645Z
LAST-MODIFIED:20260419T182716Z
UID:10001390-1778516100-1778524200@ottawarowingclub.com
SUMMARY:Junior Crew
DESCRIPTION:
URL:https://ottawarowingclub.com/event/junior-crew-4/
CATEGORIES:Junior
END:VEVENT
BEGIN:VEVENT
DTSTART;TZID=America/New_York:20260511T163000
DTEND;TZID=America/New_York:20260511T183000
DTSTAMP:20260419T150500
CREATED:20260414T214645Z
LAST-MODIFIED:20260419T182716Z
UID:10001392-1778517000-1778524200@ottawarowingclub.com
SUMMARY:Junior Development
DESCRIPTION:
URL:https://ottawarowingclub.com/event/junior-development-4/
CATEGORIES:Junior
END:VEVENT
BEGIN:VEVENT
DTSTART;TZID=America/New_York:20260512T161500
DTEND;TZID=America/New_York:20260512T183000
DTSTAMP:20260419T150500
CREATED:20260414T214645Z
LAST-MODIFIED:20260419T182728Z
UID:10001393-1778602500-1778610600@ottawarowingclub.com
SUMMARY:Junior Performance
DESCRIPTION:
URL:https://ottawarowingclub.com/event/junior-performance-6/
CATEGORIES:Junior
END:VEVENT
BEGIN:VEVENT
DTSTART;TZID=America/New_York:20260512T161500
DTEND;TZID=America/New_York:20260512T183000
DTSTAMP:20260419T150500
CREATED:20260414T214646Z
LAST-MODIFIED:20260419T182728Z
UID:10001394-1778602500-1778610600@ottawarowingclub.com
SUMMARY:Junior Crew
DESCRIPTION:
URL:https://ottawarowingclub.com/event/junior-crew-5/
CATEGORIES:Junior
END:VEVENT
BEGIN:VEVENT
DTSTART;TZID=America/New_York:20260513T161500
DTEND;TZID=America/New_York:20260513T183000
DTSTAMP:20260419T150500
CREATED:20260414T214646Z
LAST-MODIFIED:20260419T182728Z
UID:10001396-1778688900-1778697000@ottawarowingclub.com
SUMMARY:Junior Performance
DESCRIPTION:
URL:https://ottawarowingclub.com/event/junior-performance-7/
CATEGORIES:Junior
END:VEVENT
BEGIN:VEVENT
DTSTART;TZID=America/New_York:20260513T163000
DTEND;TZID=America/New_York:20260513T183000
DTSTAMP:20260419T150500
CREATED:20260414T214646Z
LAST-MODIFIED:20260419T182728Z
UID:10001395-1778689800-1778697000@ottawarowingclub.com
SUMMARY:Junior Development
DESCRIPTION:
URL:https://ottawarowingclub.com/event/junior-development-5/
CATEGORIES:Junior
END:VEVENT
BEGIN:VEVENT
DTSTART;TZID=America/New_York:20260514T161500
DTEND;TZID=America/New_York:20260514T183000
DTSTAMP:20260419T150500
CREATED:20260414T214646Z
LAST-MODIFIED:20260419T182728Z
UID:10001397-1778775300-1778783400@ottawarowingclub.com
SUMMARY:Junior Crew
DESCRIPTION:
URL:https://ottawarowingclub.com/event/junior-crew-6/
CATEGORIES:Junior
END:VEVENT
BEGIN:VEVENT
DTSTART;TZID=America/New_York:20260514T161500
DTEND;TZID=America/New_York:20260514T183000
DTSTAMP:20260419T150500
CREATED:20260414T214647Z
LAST-MODIFIED:20260419T182729Z
UID:10001398-1778775300-1778783400@ottawarowingclub.com
SUMMARY:Junior Performance - make up session
DESCRIPTION:
URL:https://ottawarowingclub.com/event/junior-performance-make-up-session/
CATEGORIES:Junior
END:VEVENT
BEGIN:VEVENT
DTSTART;TZID=America/New_York:20260514T163000
DTEND;TZID=America/New_York:20260514T183000
DTSTAMP:20260419T150500
CREATED:20260414T214647Z
LAST-MODIFIED:20260419T182729Z
UID:10001399-1778776200-1778783400@ottawarowingclub.com
SUMMARY:Junior Development
DESCRIPTION:
URL:https://ottawarowingclub.com/event/junior-development-6/
CATEGORIES:Junior
END:VEVENT
BEGIN:VEVENT
DTSTART;TZID=America/New_York:20260515T161500
DTEND;TZID=America/New_York:20260515T183000
DTSTAMP:20260419T150500
CREATED:20260414T214703Z
LAST-MODIFIED:20260419T182729Z
UID:10001400-1778861700-1778869800@ottawarowingclub.com
SUMMARY:RESCHEDULED - Junior Performance
DESCRIPTION:
URL:https://ottawarowingclub.com/event/rescheduled-junior-performance/
CATEGORIES:Junior
END:VEVENT
BEGIN:VEVENT
DTSTART;TZID=America/New_York:20260516T063000
DTEND;TZID=America/New_York:20260516T103000
DTSTAMP:20260419T150500
CREATED:20260414T214703Z
LAST-MODIFIED:20260419T182729Z
UID:10001401-1778913000-1778927400@ottawarowingclub.com
SUMMARY:Junior Crew
DESCRIPTION:
URL:https://ottawarowingclub.com/event/junior-crew-7/
CATEGORIES:Junior
END:VEVENT
BEGIN:VEVENT
DTSTART;TZID=America/New_York:20260516T063000
DTEND;TZID=America/New_York:20260516T103000
DTSTAMP:20260419T150500
CREATED:20260414T214704Z
LAST-MODIFIED:20260419T182729Z
UID:10001402-1778913000-1778927400@ottawarowingclub.com
SUMMARY:Junior Performance
DESCRIPTION:
URL:https://ottawarowingclub.com/event/junior-performance-8/
CATEGORIES:Junior
END:VEVENT
BEGIN:VEVENT
DTSTART;TZID=America/New_York:20260519T161500
DTEND;TZID=America/New_York:20260519T183000
DTSTAMP:20260419T150500
CREATED:20260414T214704Z
LAST-MODIFIED:20260419T182743Z
UID:10001403-1779207300-1779215400@ottawarowingclub.com
SUMMARY:Junior Performance
DESCRIPTION:
URL:https://ottawarowingclub.com/event/junior-performance-9/
CATEGORIES:Junior
END:VEVENT
BEGIN:VEVENT
DTSTART;TZID=America/New_York:20260519T161500
DTEND;TZID=America/New_York:20260519T183000
DTSTAMP:20260419T150500
CREATED:20260414T214704Z
LAST-MODIFIED:20260419T182743Z
UID:10001404-1779207300-1779215400@ottawarowingclub.com
SUMMARY:Junior Crew
DESCRIPTION:
URL:https://ottawarowingclub.com/event/junior-crew-8/
CATEGORIES:Junior
END:VEVENT
BEGIN:VEVENT
DTSTART;TZID=America/New_York:20260520T161500
DTEND;TZID=America/New_York:20260520T183000
DTSTAMP:20260419T150500
CREATED:20260414T214704Z
LAST-MODIFIED:20260419T182744Z
UID:10001405-1779293700-1779301800@ottawarowingclub.com
SUMMARY:Junior Performance
DESCRIPTION:
URL:https://ottawarowingclub.com/event/junior-performance-10/
CATEGORIES:Junior
END:VEVENT
BEGIN:VEVENT
DTSTART;TZID=America/New_York:20260520T163000
DTEND;TZID=America/New_York:20260520T183000
DTSTAMP:20260419T150500
CREATED:20260414T214704Z
LAST-MODIFIED:20260419T182743Z
UID:10001406-1779294600-1779301800@ottawarowingclub.com
SUMMARY:Junior Development
DESCRIPTION:
URL:https://ottawarowingclub.com/event/junior-development-7/
CATEGORIES:Junior
END:VEVENT
BEGIN:VEVENT
DTSTART;TZID=America/New_York:20260521T161500
DTEND;TZID=America/New_York:20260521T183000
DTSTAMP:20260419T150500
CREATED:20260414T214705Z
LAST-MODIFIED:20260419T182744Z
UID:10001407-1779380100-1779388200@ottawarowingclub.com
SUMMARY:Junior Crew
DESCRIPTION:
URL:https://ottawarowingclub.com/event/junior-crew-9/
CATEGORIES:Junior
END:VEVENT
BEGIN:VEVENT
DTSTART;TZID=America/New_York:20260521T163000
DTEND;TZID=America/New_York:20260521T183000
DTSTAMP:20260419T150500
CREATED:20260414T214705Z
LAST-MODIFIED:20260419T182744Z
UID:10001408-1779381000-1779388200@ottawarowingclub.com
SUMMARY:Junior Development
DESCRIPTION:
URL:https://ottawarowingclub.com/event/junior-development-8/
CATEGORIES:Junior
END:VEVENT
BEGIN:VEVENT
DTSTART;TZID=America/New_York:20260522T161500
DTEND;TZID=America/New_York:20260522T183000
DTSTAMP:20260419T150500
CREATED:20260414T214705Z
LAST-MODIFIED:20260419T182744Z
UID:10001409-1779466500-1779474600@ottawarowingclub.com
SUMMARY:Junior Performance
DESCRIPTION:
URL:https://ottawarowingclub.com/event/junior-performance-11/
CATEGORIES:Junior
END:VEVENT
BEGIN:VEVENT
DTSTART;TZID=America/New_York:20260523T063000
DTEND;TZID=America/New_York:20260523T103000
DTSTAMP:20260419T150500
CREATED:20260414T214718Z
LAST-MODIFIED:20260419T182744Z
UID:10001411-1779517800-1779532200@ottawarowingclub.com
SUMMARY:Junior Performance
DESCRIPTION:
URL:https://ottawarowingclub.com/event/junior-performance-12/
CATEGORIES:Junior
END:VEVENT
BEGIN:VEVENT
DTSTART;TZID=America/New_York:20260523T063000
DTEND;TZID=America/New_York:20260523T103000
DTSTAMP:20260419T150500
CREATED:20260414T214718Z
LAST-MODIFIED:20260419T182744Z
UID:10001410-1779517800-1779532200@ottawarowingclub.com
SUMMARY:Junior Crew
DESCRIPTION:
URL:https://ottawarowingclub.com/event/junior-crew-10/
CATEGORIES:Junior
END:VEVENT
BEGIN:VEVENT
DTSTART;TZID=America/New_York:20260525T161500
DTEND;TZID=America/New_York:20260525T183000
DTSTAMP:20260419T150500
CREATED:20260414T214718Z
LAST-MODIFIED:20260419T182744Z
UID:10001413-1779725700-1779733800@ottawarowingclub.com
SUMMARY:Junior Crew
DESCRIPTION:
URL:https://ottawarowingclub.com/event/junior-crew-11/
CATEGORIES:Junior
END:VEVENT
BEGIN:VEVENT
DTSTART;TZID=America/New_York:20260525T161500
DTEND;TZID=America/New_York:20260525T183000
DTSTAMP:20260419T150500
CREATED:20260414T214718Z
LAST-MODIFIED:20260419T182757Z
UID:10001412-1779725700-1779733800@ottawarowingclub.com
SUMMARY:Junior Performance
DESCRIPTION:
URL:https://ottawarowingclub.com/event/junior-performance-13/
CATEGORIES:Junior
END:VEVENT
BEGIN:VEVENT
DTSTART;TZID=America/New_York:20260525T163000
DTEND;TZID=America/New_York:20260525T183000
DTSTAMP:20260419T150500
CREATED:20260414T214719Z
LAST-MODIFIED:20260419T182757Z
UID:10001414-1779726600-1779733800@ottawarowingclub.com
SUMMARY:Junior Development
DESCRIPTION:
URL:https://ottawarowingclub.com/event/junior-development-9/
CATEGORIES:Junior
END:VEVENT
BEGIN:VEVENT
DTSTART;TZID=America/New_York:20260526T161500
DTEND;TZID=America/New_York:20260526T183000
DTSTAMP:20260419T150500
CREATED:20260414T214719Z
LAST-MODIFIED:20260419T182757Z
UID:10001416-1779812100-1779820200@ottawarowingclub.com
SUMMARY:Junior Performance
DESCRIPTION:
URL:https://ottawarowingclub.com/event/junior-performance-14/
CATEGORIES:Junior
END:VEVENT
BEGIN:VEVENT
DTSTART;TZID=America/New_York:20260526T161500
DTEND;TZID=America/New_York:20260526T183000
DTSTAMP:20260419T150500
CREATED:20260414T214719Z
LAST-MODIFIED:20260419T182757Z
UID:10001415-1779812100-1779820200@ottawarowingclub.com
SUMMARY:Junior Crew
DESCRIPTION:
URL:https://ottawarowingclub.com/event/junior-crew-12/
CATEGORIES:Junior
END:VEVENT
END:VCALENDAR