BEGIN:VCALENDAR
VERSION:2.0
PRODID:-//Ottawa Rowing Club - ECPv6.15.20//NONSGML v1.0//EN
CALSCALE:GREGORIAN
METHOD:PUBLISH
X-ORIGINAL-URL:https://ottawarowingclub.com
X-WR-CALDESC:Events for Ottawa Rowing Club
REFRESH-INTERVAL;VALUE=DURATION:PT1H
X-Robots-Tag:noindex
X-PUBLISHED-TTL:PT1H
BEGIN:VTIMEZONE
TZID:America/New_York
BEGIN:DAYLIGHT
TZOFFSETFROM:-0500
TZOFFSETTO:-0400
TZNAME:EDT
DTSTART:20250309T070000
END:DAYLIGHT
BEGIN:STANDARD
TZOFFSETFROM:-0400
TZOFFSETTO:-0500
TZNAME:EST
DTSTART:20251102T060000
END:STANDARD
BEGIN:DAYLIGHT
TZOFFSETFROM:-0500
TZOFFSETTO:-0400
TZNAME:EDT
DTSTART:20260308T070000
END:DAYLIGHT
BEGIN:STANDARD
TZOFFSETFROM:-0400
TZOFFSETTO:-0500
TZNAME:EST
DTSTART:20261101T060000
END:STANDARD
BEGIN:DAYLIGHT
TZOFFSETFROM:-0500
TZOFFSETTO:-0400
TZNAME:EDT
DTSTART:20270314T070000
END:DAYLIGHT
BEGIN:STANDARD
TZOFFSETFROM:-0400
TZOFFSETTO:-0500
TZNAME:EST
DTSTART:20271107T060000
END:STANDARD
END:VTIMEZONE
BEGIN:VEVENT
DTSTART;TZID=America/New_York:20260706T054500
DTEND;TZID=America/New_York:20260706T074500
DTSTAMP:20260420T052340
CREATED:20260414T214923Z
LAST-MODIFIED:20260420T081432Z
UID:10001484-1783316700-1783323900@ottawarowingclub.com
SUMMARY:Junior Performance
DESCRIPTION:
URL:https://ottawarowingclub.com/event/junior-performance-42/
CATEGORIES:Junior
END:VEVENT
BEGIN:VEVENT
DTSTART;TZID=America/New_York:20260706T054500
DTEND;TZID=America/New_York:20260706T074500
DTSTAMP:20260420T052340
CREATED:20260414T214923Z
LAST-MODIFIED:20260420T081432Z
UID:10001483-1783316700-1783323900@ottawarowingclub.com
SUMMARY:Junior Crew
DESCRIPTION:
URL:https://ottawarowingclub.com/event/junior-crew-35/
CATEGORIES:Junior
END:VEVENT
BEGIN:VEVENT
DTSTART;TZID=America/New_York:20260706T083000
DTEND;TZID=America/New_York:20260706T103000
DTSTAMP:20260420T052340
CREATED:20260414T214923Z
LAST-MODIFIED:20260420T081432Z
UID:10001485-1783326600-1783333800@ottawarowingclub.com
SUMMARY:Junior Development
DESCRIPTION:
URL:https://ottawarowingclub.com/event/junior-development-27/
CATEGORIES:Junior
END:VEVENT
BEGIN:VEVENT
DTSTART;TZID=America/New_York:20260707T054500
DTEND;TZID=America/New_York:20260707T074500
DTSTAMP:20260420T052340
CREATED:20260414T214924Z
LAST-MODIFIED:20260420T081432Z
UID:10001487-1783403100-1783410300@ottawarowingclub.com
SUMMARY:Junior Performance
DESCRIPTION:
URL:https://ottawarowingclub.com/event/junior-performance-43/
CATEGORIES:Junior
END:VEVENT
BEGIN:VEVENT
DTSTART;TZID=America/New_York:20260707T054500
DTEND;TZID=America/New_York:20260707T074500
DTSTAMP:20260420T052340
CREATED:20260414T214924Z
LAST-MODIFIED:20260420T081432Z
UID:10001486-1783403100-1783410300@ottawarowingclub.com
SUMMARY:Junior Crew
DESCRIPTION:
URL:https://ottawarowingclub.com/event/junior-crew-36/
CATEGORIES:Junior
END:VEVENT
BEGIN:VEVENT
DTSTART;TZID=America/New_York:20260708T054500
DTEND;TZID=America/New_York:20260708T074500
DTSTAMP:20260420T052340
CREATED:20260414T214924Z
LAST-MODIFIED:20260420T081432Z
UID:10001488-1783489500-1783496700@ottawarowingclub.com
SUMMARY:Junior Performance
DESCRIPTION:
URL:https://ottawarowingclub.com/event/junior-performance-44/
CATEGORIES:Junior
END:VEVENT
BEGIN:VEVENT
DTSTART;TZID=America/New_York:20260708T083000
DTEND;TZID=America/New_York:20260708T103000
DTSTAMP:20260420T052340
CREATED:20260414T214924Z
LAST-MODIFIED:20260420T081432Z
UID:10001489-1783499400-1783506600@ottawarowingclub.com
SUMMARY:Junior Development
DESCRIPTION:
URL:https://ottawarowingclub.com/event/junior-development-28/
CATEGORIES:Junior
END:VEVENT
BEGIN:VEVENT
DTSTART;TZID=America/New_York:20260709T054500
DTEND;TZID=America/New_York:20260709T074500
DTSTAMP:20260420T052340
CREATED:20260414T214940Z
LAST-MODIFIED:20260420T081432Z
UID:10001490-1783575900-1783583100@ottawarowingclub.com
SUMMARY:Junior Crew
DESCRIPTION:
URL:https://ottawarowingclub.com/event/junior-crew-37/
CATEGORIES:Junior
END:VEVENT
BEGIN:VEVENT
DTSTART;TZID=America/New_York:20260709T083000
DTEND;TZID=America/New_York:20260709T103000
DTSTAMP:20260420T052340
CREATED:20260414T214941Z
LAST-MODIFIED:20260420T081432Z
UID:10001491-1783585800-1783593000@ottawarowingclub.com
SUMMARY:Junior Development
DESCRIPTION:
URL:https://ottawarowingclub.com/event/junior-development-29/
CATEGORIES:Junior
END:VEVENT
BEGIN:VEVENT
DTSTART;TZID=America/New_York:20260710T054500
DTEND;TZID=America/New_York:20260710T074500
DTSTAMP:20260420T052340
CREATED:20260414T214941Z
LAST-MODIFIED:20260420T081433Z
UID:10001492-1783662300-1783669500@ottawarowingclub.com
SUMMARY:Junior Performance
DESCRIPTION:
URL:https://ottawarowingclub.com/event/junior-performance-45/
CATEGORIES:Junior
END:VEVENT
BEGIN:VEVENT
DTSTART;TZID=America/New_York:20260711T063000
DTEND;TZID=America/New_York:20260711T103000
DTSTAMP:20260420T052340
CREATED:20260414T214941Z
LAST-MODIFIED:20260420T081445Z
UID:10001493-1783751400-1783765800@ottawarowingclub.com
SUMMARY:Junior Crew
DESCRIPTION:
URL:https://ottawarowingclub.com/event/junior-crew-38/
CATEGORIES:Junior
END:VEVENT
BEGIN:VEVENT
DTSTART;TZID=America/New_York:20260711T063000
DTEND;TZID=America/New_York:20260711T103000
DTSTAMP:20260420T052340
CREATED:20260414T214942Z
LAST-MODIFIED:20260420T081445Z
UID:10001494-1783751400-1783765800@ottawarowingclub.com
SUMMARY:Junior Performance
DESCRIPTION:
URL:https://ottawarowingclub.com/event/junior-performance-46/
CATEGORIES:Junior
END:VEVENT
BEGIN:VEVENT
DTSTART;TZID=America/New_York:20260713T054500
DTEND;TZID=America/New_York:20260713T074500
DTSTAMP:20260420T052340
CREATED:20260414T214943Z
LAST-MODIFIED:20260420T081445Z
UID:10001496-1783921500-1783928700@ottawarowingclub.com
SUMMARY:Junior Performance
DESCRIPTION:
URL:https://ottawarowingclub.com/event/junior-performance-47/
CATEGORIES:Junior
END:VEVENT
BEGIN:VEVENT
DTSTART;TZID=America/New_York:20260713T054500
DTEND;TZID=America/New_York:20260713T074500
DTSTAMP:20260420T052340
CREATED:20260414T214943Z
LAST-MODIFIED:20260420T081445Z
UID:10001495-1783921500-1783928700@ottawarowingclub.com
SUMMARY:Junior Crew
DESCRIPTION:
URL:https://ottawarowingclub.com/event/junior-crew-39/
CATEGORIES:Junior
END:VEVENT
BEGIN:VEVENT
DTSTART;TZID=America/New_York:20260713T083000
DTEND;TZID=America/New_York:20260713T103000
DTSTAMP:20260420T052340
CREATED:20260414T214943Z
LAST-MODIFIED:20260420T081446Z
UID:10001497-1783931400-1783938600@ottawarowingclub.com
SUMMARY:Junior Development
DESCRIPTION:
URL:https://ottawarowingclub.com/event/junior-development-30/
CATEGORIES:Junior
END:VEVENT
BEGIN:VEVENT
DTSTART;TZID=America/New_York:20260714T054500
DTEND;TZID=America/New_York:20260714T074500
DTSTAMP:20260420T052340
CREATED:20260414T214943Z
LAST-MODIFIED:20260420T081446Z
UID:10001498-1784007900-1784015100@ottawarowingclub.com
SUMMARY:Junior Performance
DESCRIPTION:
URL:https://ottawarowingclub.com/event/junior-performance-48/
CATEGORIES:Junior
END:VEVENT
BEGIN:VEVENT
DTSTART;TZID=America/New_York:20260714T054500
DTEND;TZID=America/New_York:20260714T074500
DTSTAMP:20260420T052340
CREATED:20260414T214944Z
LAST-MODIFIED:20260420T081446Z
UID:10001499-1784007900-1784015100@ottawarowingclub.com
SUMMARY:Junior Crew
DESCRIPTION:
URL:https://ottawarowingclub.com/event/junior-crew-40/
CATEGORIES:Junior
END:VEVENT
BEGIN:VEVENT
DTSTART;TZID=America/New_York:20260715T054500
DTEND;TZID=America/New_York:20260715T074500
DTSTAMP:20260420T052340
CREATED:20260414T214958Z
LAST-MODIFIED:20260420T081446Z
UID:10001500-1784094300-1784101500@ottawarowingclub.com
SUMMARY:Junior Performance
DESCRIPTION:
URL:https://ottawarowingclub.com/event/junior-performance-49/
CATEGORIES:Junior
END:VEVENT
BEGIN:VEVENT
DTSTART;TZID=America/New_York:20260715T083000
DTEND;TZID=America/New_York:20260715T103000
DTSTAMP:20260420T052340
CREATED:20260414T214959Z
LAST-MODIFIED:20260420T081446Z
UID:10001501-1784104200-1784111400@ottawarowingclub.com
SUMMARY:Junior Development
DESCRIPTION:
URL:https://ottawarowingclub.com/event/junior-development-31/
CATEGORIES:Junior
END:VEVENT
BEGIN:VEVENT
DTSTART;TZID=America/New_York:20260716T054500
DTEND;TZID=America/New_York:20260716T074500
DTSTAMP:20260420T052340
CREATED:20260414T214959Z
LAST-MODIFIED:20260420T081446Z
UID:10001502-1784180700-1784187900@ottawarowingclub.com
SUMMARY:Junior Crew
DESCRIPTION:
URL:https://ottawarowingclub.com/event/junior-crew-41/
CATEGORIES:Junior
END:VEVENT
BEGIN:VEVENT
DTSTART;TZID=America/New_York:20260716T083000
DTEND;TZID=America/New_York:20260716T103000
DTSTAMP:20260420T052340
CREATED:20260414T214959Z
LAST-MODIFIED:20260420T081459Z
UID:10001503-1784190600-1784197800@ottawarowingclub.com
SUMMARY:Junior Development
DESCRIPTION:
URL:https://ottawarowingclub.com/event/junior-development-32/
CATEGORIES:Junior
END:VEVENT
BEGIN:VEVENT
DTSTART;TZID=America/New_York:20260717T054500
DTEND;TZID=America/New_York:20260717T074500
DTSTAMP:20260420T052340
CREATED:20260414T214959Z
LAST-MODIFIED:20260420T081459Z
UID:10001504-1784267100-1784274300@ottawarowingclub.com
SUMMARY:Junior Performance
DESCRIPTION:
URL:https://ottawarowingclub.com/event/junior-performance-50/
CATEGORIES:Junior
END:VEVENT
BEGIN:VEVENT
DTSTART;TZID=America/New_York:20260718T063000
DTEND;TZID=America/New_York:20260718T103000
DTSTAMP:20260420T052340
CREATED:20260414T215000Z
LAST-MODIFIED:20260420T081459Z
UID:10001506-1784356200-1784370600@ottawarowingclub.com
SUMMARY:Junior Performance
DESCRIPTION:
URL:https://ottawarowingclub.com/event/junior-performance-51/
CATEGORIES:Junior
END:VEVENT
BEGIN:VEVENT
DTSTART;TZID=America/New_York:20260718T063000
DTEND;TZID=America/New_York:20260718T103000
DTSTAMP:20260420T052340
CREATED:20260414T215000Z
LAST-MODIFIED:20260420T081459Z
UID:10001505-1784356200-1784370600@ottawarowingclub.com
SUMMARY:Junior Crew
DESCRIPTION:
URL:https://ottawarowingclub.com/event/junior-crew-42/
CATEGORIES:Junior
END:VEVENT
BEGIN:VEVENT
DTSTART;TZID=America/New_York:20260720T054500
DTEND;TZID=America/New_York:20260720T074500
DTSTAMP:20260420T052340
CREATED:20260414T215000Z
LAST-MODIFIED:20260420T081459Z
UID:10001508-1784526300-1784533500@ottawarowingclub.com
SUMMARY:Junior Performance
DESCRIPTION:
URL:https://ottawarowingclub.com/event/junior-performance-52/
CATEGORIES:Junior
END:VEVENT
BEGIN:VEVENT
DTSTART;TZID=America/New_York:20260720T054500
DTEND;TZID=America/New_York:20260720T074500
DTSTAMP:20260420T052340
CREATED:20260414T215000Z
LAST-MODIFIED:20260420T081459Z
UID:10001507-1784526300-1784533500@ottawarowingclub.com
SUMMARY:Junior Crew
DESCRIPTION:
URL:https://ottawarowingclub.com/event/junior-crew-43/
CATEGORIES:Junior
END:VEVENT
BEGIN:VEVENT
DTSTART;TZID=America/New_York:20260720T083000
DTEND;TZID=America/New_York:20260720T103000
DTSTAMP:20260420T052340
CREATED:20260414T215000Z
LAST-MODIFIED:20260420T081459Z
UID:10001509-1784536200-1784543400@ottawarowingclub.com
SUMMARY:Junior Development
DESCRIPTION:
URL:https://ottawarowingclub.com/event/junior-development-33/
CATEGORIES:Junior
END:VEVENT
BEGIN:VEVENT
DTSTART;TZID=America/New_York:20260721T054500
DTEND;TZID=America/New_York:20260721T074500
DTSTAMP:20260420T052340
CREATED:20260414T215017Z
LAST-MODIFIED:20260420T081500Z
UID:10001510-1784612700-1784619900@ottawarowingclub.com
SUMMARY:Junior Performance
DESCRIPTION:
URL:https://ottawarowingclub.com/event/junior-performance-53/
CATEGORIES:Junior
END:VEVENT
BEGIN:VEVENT
DTSTART;TZID=America/New_York:20260721T054500
DTEND;TZID=America/New_York:20260721T074500
DTSTAMP:20260420T052340
CREATED:20260414T215018Z
LAST-MODIFIED:20260420T081500Z
UID:10001511-1784612700-1784619900@ottawarowingclub.com
SUMMARY:Junior Crew
DESCRIPTION:
URL:https://ottawarowingclub.com/event/junior-crew-44/
CATEGORIES:Junior
END:VEVENT
BEGIN:VEVENT
DTSTART;TZID=America/New_York:20260722T054500
DTEND;TZID=America/New_York:20260722T074500
DTSTAMP:20260420T052340
CREATED:20260414T215018Z
LAST-MODIFIED:20260420T081500Z
UID:10001512-1784699100-1784706300@ottawarowingclub.com
SUMMARY:Junior Performance
DESCRIPTION:
URL:https://ottawarowingclub.com/event/junior-performance-54/
CATEGORIES:Junior
END:VEVENT
END:VCALENDAR