BEGIN:VCALENDAR
VERSION:2.0
PRODID:-//Ottawa Rowing Club - ECPv6.15.20//NONSGML v1.0//EN
CALSCALE:GREGORIAN
METHOD:PUBLISH
X-WR-CALNAME:Ottawa Rowing Club
X-ORIGINAL-URL:https://ottawarowingclub.com
X-WR-CALDESC:Events for Ottawa Rowing Club
REFRESH-INTERVAL;VALUE=DURATION:PT1H
X-Robots-Tag:noindex
X-PUBLISHED-TTL:PT1H
BEGIN:VTIMEZONE
TZID:America/New_York
BEGIN:DAYLIGHT
TZOFFSETFROM:-0500
TZOFFSETTO:-0400
TZNAME:EDT
DTSTART:20250309T070000
END:DAYLIGHT
BEGIN:STANDARD
TZOFFSETFROM:-0400
TZOFFSETTO:-0500
TZNAME:EST
DTSTART:20251102T060000
END:STANDARD
BEGIN:DAYLIGHT
TZOFFSETFROM:-0500
TZOFFSETTO:-0400
TZNAME:EDT
DTSTART:20260308T070000
END:DAYLIGHT
BEGIN:STANDARD
TZOFFSETFROM:-0400
TZOFFSETTO:-0500
TZNAME:EST
DTSTART:20261101T060000
END:STANDARD
BEGIN:DAYLIGHT
TZOFFSETFROM:-0500
TZOFFSETTO:-0400
TZNAME:EDT
DTSTART:20270314T070000
END:DAYLIGHT
BEGIN:STANDARD
TZOFFSETFROM:-0400
TZOFFSETTO:-0500
TZNAME:EST
DTSTART:20271107T060000
END:STANDARD
END:VTIMEZONE
BEGIN:VEVENT
DTSTART;TZID=America/New_York:20260730T180000
DTEND;TZID=America/New_York:20260730T200000
DTSTAMP:20260419T220355
CREATED:20260206T133714Z
LAST-MODIFIED:20260419T224227Z
UID:10001101-1785434400-1785441600@ottawarowingclub.com
SUMMARY:Club
DESCRIPTION:
URL:https://ottawarowingclub.com/event/club-25/
CATEGORIES:Club Rowing
END:VEVENT
BEGIN:VEVENT
DTSTART;TZID=America/New_York:20260802T080000
DTEND;TZID=America/New_York:20260802T100000
DTSTAMP:20260419T220355
CREATED:20260206T133714Z
LAST-MODIFIED:20260419T224227Z
UID:10001102-1785657600-1785664800@ottawarowingclub.com
SUMMARY:Club
DESCRIPTION:
URL:https://ottawarowingclub.com/event/club-26/
CATEGORIES:Club Rowing
END:VEVENT
BEGIN:VEVENT
DTSTART;TZID=America/New_York:20260804T180000
DTEND;TZID=America/New_York:20260804T200000
DTSTAMP:20260419T220355
CREATED:20260206T133714Z
LAST-MODIFIED:20260419T224227Z
UID:10001103-1785866400-1785873600@ottawarowingclub.com
SUMMARY:Club
DESCRIPTION:
URL:https://ottawarowingclub.com/event/club-27/
CATEGORIES:Club Rowing
END:VEVENT
BEGIN:VEVENT
DTSTART;TZID=America/New_York:20260806T180000
DTEND;TZID=America/New_York:20260806T200000
DTSTAMP:20260419T220355
CREATED:20260206T133714Z
LAST-MODIFIED:20260419T224227Z
UID:10001104-1786039200-1786046400@ottawarowingclub.com
SUMMARY:Club
DESCRIPTION:
URL:https://ottawarowingclub.com/event/club-28/
CATEGORIES:Club Rowing
END:VEVENT
BEGIN:VEVENT
DTSTART;TZID=America/New_York:20260809T080000
DTEND;TZID=America/New_York:20260809T100000
DTSTAMP:20260419T220355
CREATED:20260206T133729Z
LAST-MODIFIED:20260419T224240Z
UID:10001105-1786262400-1786269600@ottawarowingclub.com
SUMMARY:Club
DESCRIPTION:
URL:https://ottawarowingclub.com/event/club-29/
CATEGORIES:Club Rowing
END:VEVENT
BEGIN:VEVENT
DTSTART;TZID=America/New_York:20260811T180000
DTEND;TZID=America/New_York:20260811T200000
DTSTAMP:20260419T220355
CREATED:20260206T133729Z
LAST-MODIFIED:20260419T224240Z
UID:10001106-1786471200-1786478400@ottawarowingclub.com
SUMMARY:Club
DESCRIPTION:
URL:https://ottawarowingclub.com/event/club-30/
CATEGORIES:Club Rowing
END:VEVENT
BEGIN:VEVENT
DTSTART;TZID=America/New_York:20260813T180000
DTEND;TZID=America/New_York:20260813T200000
DTSTAMP:20260419T220355
CREATED:20260206T133729Z
LAST-MODIFIED:20260419T224240Z
UID:10001107-1786644000-1786651200@ottawarowingclub.com
SUMMARY:Club
DESCRIPTION:
URL:https://ottawarowingclub.com/event/club-31/
CATEGORIES:Club Rowing
END:VEVENT
BEGIN:VEVENT
DTSTART;TZID=America/New_York:20260816T080000
DTEND;TZID=America/New_York:20260816T100000
DTSTAMP:20260419T220355
CREATED:20260206T133729Z
LAST-MODIFIED:20260419T224240Z
UID:10001108-1786867200-1786874400@ottawarowingclub.com
SUMMARY:Club
DESCRIPTION:
URL:https://ottawarowingclub.com/event/club-32/
CATEGORIES:Club Rowing
END:VEVENT
BEGIN:VEVENT
DTSTART;TZID=America/New_York:20260818T180000
DTEND;TZID=America/New_York:20260818T200000
DTSTAMP:20260419T220355
CREATED:20260206T133729Z
LAST-MODIFIED:20260419T224240Z
UID:10001109-1787076000-1787083200@ottawarowingclub.com
SUMMARY:Club
DESCRIPTION:
URL:https://ottawarowingclub.com/event/club-33/
CATEGORIES:Club Rowing
END:VEVENT
BEGIN:VEVENT
DTSTART;TZID=America/New_York:20260820T180000
DTEND;TZID=America/New_York:20260820T200000
DTSTAMP:20260419T220355
CREATED:20260206T133729Z
LAST-MODIFIED:20260419T224240Z
UID:10001110-1787248800-1787256000@ottawarowingclub.com
SUMMARY:Club
DESCRIPTION:
URL:https://ottawarowingclub.com/event/club-34/
CATEGORIES:Club Rowing
END:VEVENT
BEGIN:VEVENT
DTSTART;TZID=America/New_York:20260823T080000
DTEND;TZID=America/New_York:20260823T100000
DTSTAMP:20260419T220355
CREATED:20260206T133729Z
LAST-MODIFIED:20260419T224240Z
UID:10001111-1787472000-1787479200@ottawarowingclub.com
SUMMARY:Club
DESCRIPTION:
URL:https://ottawarowingclub.com/event/club-35/
CATEGORIES:Club Rowing
END:VEVENT
BEGIN:VEVENT
DTSTART;TZID=America/New_York:20260825T180000
DTEND;TZID=America/New_York:20260825T200000
DTSTAMP:20260419T220355
CREATED:20260206T133730Z
LAST-MODIFIED:20260419T224240Z
UID:10001112-1787680800-1787688000@ottawarowingclub.com
SUMMARY:Club + Development
DESCRIPTION:
URL:https://ottawarowingclub.com/event/club-development-13/
CATEGORIES:Club Rowing
END:VEVENT
BEGIN:VEVENT
DTSTART;TZID=America/New_York:20260827T180000
DTEND;TZID=America/New_York:20260827T200000
DTSTAMP:20260419T220355
CREATED:20260206T133730Z
LAST-MODIFIED:20260419T224240Z
UID:10001113-1787853600-1787860800@ottawarowingclub.com
SUMMARY:Club + Development
DESCRIPTION:
URL:https://ottawarowingclub.com/event/club-development-14/
CATEGORIES:Club Rowing
END:VEVENT
BEGIN:VEVENT
DTSTART;TZID=America/New_York:20260830T080000
DTEND;TZID=America/New_York:20260830T100000
DTSTAMP:20260419T220355
CREATED:20260206T133730Z
LAST-MODIFIED:20260419T224241Z
UID:10001114-1788076800-1788084000@ottawarowingclub.com
SUMMARY:Club
DESCRIPTION:
URL:https://ottawarowingclub.com/event/club-36/
CATEGORIES:Club Rowing
END:VEVENT
BEGIN:VEVENT
DTSTART;TZID=America/New_York:20260901T180000
DTEND;TZID=America/New_York:20260901T200000
DTSTAMP:20260419T220355
CREATED:20260206T133743Z
LAST-MODIFIED:20260419T224254Z
UID:10001115-1788285600-1788292800@ottawarowingclub.com
SUMMARY:Club + Development
DESCRIPTION:
URL:https://ottawarowingclub.com/event/club-development-15/
CATEGORIES:Club Rowing
END:VEVENT
BEGIN:VEVENT
DTSTART;TZID=America/New_York:20260903T180000
DTEND;TZID=America/New_York:20260903T200000
DTSTAMP:20260419T220355
CREATED:20260206T133743Z
LAST-MODIFIED:20260419T224254Z
UID:10001116-1788458400-1788465600@ottawarowingclub.com
SUMMARY:Club + Development
DESCRIPTION:
URL:https://ottawarowingclub.com/event/club-development-16/
CATEGORIES:Club Rowing
END:VEVENT
BEGIN:VEVENT
DTSTART;TZID=America/New_York:20260906T080000
DTEND;TZID=America/New_York:20260906T100000
DTSTAMP:20260419T220355
CREATED:20260206T133743Z
LAST-MODIFIED:20260419T224254Z
UID:10001117-1788681600-1788688800@ottawarowingclub.com
SUMMARY:Club
DESCRIPTION:
URL:https://ottawarowingclub.com/event/club-37/
CATEGORIES:Club Rowing
END:VEVENT
BEGIN:VEVENT
DTSTART;TZID=America/New_York:20260908T180000
DTEND;TZID=America/New_York:20260908T200000
DTSTAMP:20260419T220355
CREATED:20260206T133744Z
LAST-MODIFIED:20260419T224254Z
UID:10001118-1788890400-1788897600@ottawarowingclub.com
SUMMARY:Club + Development
DESCRIPTION:
URL:https://ottawarowingclub.com/event/club-development-17/
CATEGORIES:Club Rowing
END:VEVENT
BEGIN:VEVENT
DTSTART;TZID=America/New_York:20260910T180000
DTEND;TZID=America/New_York:20260910T200000
DTSTAMP:20260419T220355
CREATED:20260206T133744Z
LAST-MODIFIED:20260419T224254Z
UID:10001119-1789063200-1789070400@ottawarowingclub.com
SUMMARY:Club + Development
DESCRIPTION:
URL:https://ottawarowingclub.com/event/club-development-18/
CATEGORIES:Club Rowing
END:VEVENT
BEGIN:VEVENT
DTSTART;TZID=America/New_York:20260913T080000
DTEND;TZID=America/New_York:20260913T100000
DTSTAMP:20260419T220355
CREATED:20260206T133744Z
LAST-MODIFIED:20260419T224254Z
UID:10001120-1789286400-1789293600@ottawarowingclub.com
SUMMARY:Club
DESCRIPTION:
URL:https://ottawarowingclub.com/event/club-38/
CATEGORIES:Club Rowing
END:VEVENT
BEGIN:VEVENT
DTSTART;TZID=America/New_York:20260915T180000
DTEND;TZID=America/New_York:20260915T200000
DTSTAMP:20260419T220355
CREATED:20260206T133744Z
LAST-MODIFIED:20260419T224255Z
UID:10001121-1789495200-1789502400@ottawarowingclub.com
SUMMARY:Club + Development
DESCRIPTION:
URL:https://ottawarowingclub.com/event/club-development-19/
CATEGORIES:Club Rowing
END:VEVENT
BEGIN:VEVENT
DTSTART;TZID=America/New_York:20260917T180000
DTEND;TZID=America/New_York:20260917T200000
DTSTAMP:20260419T220355
CREATED:20260206T133744Z
LAST-MODIFIED:20260419T224255Z
UID:10001122-1789668000-1789675200@ottawarowingclub.com
SUMMARY:Club + Development
DESCRIPTION:
URL:https://ottawarowingclub.com/event/club-development-20/
CATEGORIES:Club Rowing
END:VEVENT
BEGIN:VEVENT
DTSTART;TZID=America/New_York:20260920T080000
DTEND;TZID=America/New_York:20260920T100000
DTSTAMP:20260419T220355
CREATED:20260206T133744Z
LAST-MODIFIED:20260419T224255Z
UID:10001123-1789891200-1789898400@ottawarowingclub.com
SUMMARY:Club
DESCRIPTION:
URL:https://ottawarowingclub.com/event/club-39/
CATEGORIES:Club Rowing
END:VEVENT
BEGIN:VEVENT
DTSTART;TZID=America/New_York:20260922T180000
DTEND;TZID=America/New_York:20260922T200000
DTSTAMP:20260419T220355
CREATED:20260206T133744Z
LAST-MODIFIED:20260419T224255Z
UID:10001124-1790100000-1790107200@ottawarowingclub.com
SUMMARY:Club + Development
DESCRIPTION:
URL:https://ottawarowingclub.com/event/club-development-21/
CATEGORIES:Club Rowing
END:VEVENT
BEGIN:VEVENT
DTSTART;TZID=America/New_York:20260924T180000
DTEND;TZID=America/New_York:20260924T200000
DTSTAMP:20260419T220355
CREATED:20260206T133758Z
LAST-MODIFIED:20260419T224307Z
UID:10001125-1790272800-1790280000@ottawarowingclub.com
SUMMARY:Club + Development
DESCRIPTION:
URL:https://ottawarowingclub.com/event/club-development-22/
CATEGORIES:Club Rowing
END:VEVENT
BEGIN:VEVENT
DTSTART;TZID=America/New_York:20260927T080000
DTEND;TZID=America/New_York:20260927T100000
DTSTAMP:20260419T220355
CREATED:20260206T133758Z
LAST-MODIFIED:20260419T224307Z
UID:10001126-1790496000-1790503200@ottawarowingclub.com
SUMMARY:Club
DESCRIPTION:
URL:https://ottawarowingclub.com/event/club-40/
CATEGORIES:Club Rowing
END:VEVENT
BEGIN:VEVENT
DTSTART;TZID=America/New_York:20260929T180000
DTEND;TZID=America/New_York:20260929T200000
DTSTAMP:20260419T220355
CREATED:20260206T133758Z
LAST-MODIFIED:20260419T224307Z
UID:10001127-1790704800-1790712000@ottawarowingclub.com
SUMMARY:Club + Development
DESCRIPTION:
URL:https://ottawarowingclub.com/event/club-development-23/
CATEGORIES:Club Rowing
END:VEVENT
BEGIN:VEVENT
DTSTART;TZID=America/New_York:20261001T180000
DTEND;TZID=America/New_York:20261001T200000
DTSTAMP:20260419T220355
CREATED:20260206T133758Z
LAST-MODIFIED:20260419T224307Z
UID:10001128-1790877600-1790884800@ottawarowingclub.com
SUMMARY:Club + Development
DESCRIPTION:
URL:https://ottawarowingclub.com/event/club-development-24/
CATEGORIES:Club Rowing
END:VEVENT
BEGIN:VEVENT
DTSTART;TZID=America/New_York:20261004T080000
DTEND;TZID=America/New_York:20261004T100000
DTSTAMP:20260419T220355
CREATED:20260206T133758Z
LAST-MODIFIED:20260419T224307Z
UID:10001129-1791100800-1791108000@ottawarowingclub.com
SUMMARY:Club
DESCRIPTION:
URL:https://ottawarowingclub.com/event/club-41/
CATEGORIES:Club Rowing
END:VEVENT
BEGIN:VEVENT
DTSTART;TZID=America/New_York:20261006T180000
DTEND;TZID=America/New_York:20261006T200000
DTSTAMP:20260419T220355
CREATED:20260206T133759Z
LAST-MODIFIED:20260419T224308Z
UID:10001130-1791309600-1791316800@ottawarowingclub.com
SUMMARY:Club
DESCRIPTION:
URL:https://ottawarowingclub.com/event/club-42/
CATEGORIES:Club Rowing
END:VEVENT
END:VCALENDAR