BEGIN:VCALENDAR
VERSION:2.0
PRODID:-//Ottawa Rowing Club - ECPv6.15.20//NONSGML v1.0//EN
CALSCALE:GREGORIAN
METHOD:PUBLISH
X-WR-CALNAME:Ottawa Rowing Club
X-ORIGINAL-URL:https://ottawarowingclub.com
X-WR-CALDESC:Events for Ottawa Rowing Club
REFRESH-INTERVAL;VALUE=DURATION:PT1H
X-Robots-Tag:noindex
X-PUBLISHED-TTL:PT1H
BEGIN:VTIMEZONE
TZID:America/New_York
BEGIN:DAYLIGHT
TZOFFSETFROM:-0500
TZOFFSETTO:-0400
TZNAME:EDT
DTSTART:20250309T070000
END:DAYLIGHT
BEGIN:STANDARD
TZOFFSETFROM:-0400
TZOFFSETTO:-0500
TZNAME:EST
DTSTART:20251102T060000
END:STANDARD
BEGIN:DAYLIGHT
TZOFFSETFROM:-0500
TZOFFSETTO:-0400
TZNAME:EDT
DTSTART:20260308T070000
END:DAYLIGHT
BEGIN:STANDARD
TZOFFSETFROM:-0400
TZOFFSETTO:-0500
TZNAME:EST
DTSTART:20261101T060000
END:STANDARD
BEGIN:DAYLIGHT
TZOFFSETFROM:-0500
TZOFFSETTO:-0400
TZNAME:EDT
DTSTART:20270314T070000
END:DAYLIGHT
BEGIN:STANDARD
TZOFFSETFROM:-0400
TZOFFSETTO:-0500
TZNAME:EST
DTSTART:20271107T060000
END:STANDARD
END:VTIMEZONE
BEGIN:VEVENT
DTSTART;TZID=America/New_York:20260505T180000
DTEND;TZID=America/New_York:20260505T200000
DTSTAMP:20260420T010246
CREATED:20260206T133626Z
LAST-MODIFIED:20260419T224145Z
UID:10001065-1778004000-1778011200@ottawarowingclub.com
SUMMARY:Club + Development
DESCRIPTION:
URL:https://ottawarowingclub.com/event/club-development/
CATEGORIES:Club Rowing
END:VEVENT
BEGIN:VEVENT
DTSTART;TZID=America/New_York:20260507T180000
DTEND;TZID=America/New_York:20260507T200000
DTSTAMP:20260420T010246
CREATED:20260206T133626Z
LAST-MODIFIED:20260419T224145Z
UID:10001066-1778176800-1778184000@ottawarowingclub.com
SUMMARY:Club + Development
DESCRIPTION:
URL:https://ottawarowingclub.com/event/club-development-2/
CATEGORIES:Club Rowing
END:VEVENT
BEGIN:VEVENT
DTSTART;TZID=America/New_York:20260510T080000
DTEND;TZID=America/New_York:20260510T100000
DTSTAMP:20260420T010246
CREATED:20260206T133627Z
LAST-MODIFIED:20260419T224145Z
UID:10001067-1778400000-1778407200@ottawarowingclub.com
SUMMARY:Club
DESCRIPTION:
URL:https://ottawarowingclub.com/event/club/
CATEGORIES:Club Rowing
END:VEVENT
BEGIN:VEVENT
DTSTART;TZID=America/New_York:20260512T180000
DTEND;TZID=America/New_York:20260512T200000
DTSTAMP:20260420T010246
CREATED:20260206T133627Z
LAST-MODIFIED:20260419T224145Z
UID:10001068-1778608800-1778616000@ottawarowingclub.com
SUMMARY:Club + Development
DESCRIPTION:
URL:https://ottawarowingclub.com/event/club-development-3/
CATEGORIES:Club Rowing
END:VEVENT
BEGIN:VEVENT
DTSTART;TZID=America/New_York:20260514T180000
DTEND;TZID=America/New_York:20260514T200000
DTSTAMP:20260420T010246
CREATED:20260206T133627Z
LAST-MODIFIED:20260419T224145Z
UID:10001069-1778781600-1778788800@ottawarowingclub.com
SUMMARY:Club + Development
DESCRIPTION:
URL:https://ottawarowingclub.com/event/club-development-4/
CATEGORIES:Club Rowing
END:VEVENT
BEGIN:VEVENT
DTSTART;TZID=America/New_York:20260517T080000
DTEND;TZID=America/New_York:20260517T100000
DTSTAMP:20260420T010246
CREATED:20260206T133627Z
LAST-MODIFIED:20260419T224145Z
UID:10001070-1779004800-1779012000@ottawarowingclub.com
SUMMARY:Club
DESCRIPTION:
URL:https://ottawarowingclub.com/event/club-2/
CATEGORIES:Club Rowing
END:VEVENT
BEGIN:VEVENT
DTSTART;TZID=America/New_York:20260519T180000
DTEND;TZID=America/New_York:20260519T200000
DTSTAMP:20260420T010246
CREATED:20260206T133627Z
LAST-MODIFIED:20260419T224145Z
UID:10001071-1779213600-1779220800@ottawarowingclub.com
SUMMARY:Club + Development
DESCRIPTION:
URL:https://ottawarowingclub.com/event/club-development-5/
CATEGORIES:Club Rowing
END:VEVENT
BEGIN:VEVENT
DTSTART;TZID=America/New_York:20260521T180000
DTEND;TZID=America/New_York:20260521T200000
DTSTAMP:20260420T010246
CREATED:20260206T133627Z
LAST-MODIFIED:20260419T224145Z
UID:10001072-1779386400-1779393600@ottawarowingclub.com
SUMMARY:Club + Development
DESCRIPTION:
URL:https://ottawarowingclub.com/event/club-development-6/
CATEGORIES:Club Rowing
END:VEVENT
BEGIN:VEVENT
DTSTART;TZID=America/New_York:20260524T080000
DTEND;TZID=America/New_York:20260524T100000
DTSTAMP:20260420T010246
CREATED:20260206T133627Z
LAST-MODIFIED:20260419T224145Z
UID:10001073-1779609600-1779616800@ottawarowingclub.com
SUMMARY:Club
DESCRIPTION:
URL:https://ottawarowingclub.com/event/club-3/
CATEGORIES:Club Rowing
END:VEVENT
BEGIN:VEVENT
DTSTART;TZID=America/New_York:20260526T180000
DTEND;TZID=America/New_York:20260526T200000
DTSTAMP:20260420T010246
CREATED:20260206T133627Z
LAST-MODIFIED:20260419T224145Z
UID:10001074-1779818400-1779825600@ottawarowingclub.com
SUMMARY:Club + Development
DESCRIPTION:
URL:https://ottawarowingclub.com/event/club-development-7/
CATEGORIES:Club Rowing
END:VEVENT
BEGIN:VEVENT
DTSTART;TZID=America/New_York:20260528T180000
DTEND;TZID=America/New_York:20260528T200000
DTSTAMP:20260420T010246
CREATED:20260206T133642Z
LAST-MODIFIED:20260419T224158Z
UID:10001075-1779991200-1779998400@ottawarowingclub.com
SUMMARY:Club + Development
DESCRIPTION:
URL:https://ottawarowingclub.com/event/club-development-8/
CATEGORIES:Club Rowing
END:VEVENT
BEGIN:VEVENT
DTSTART;TZID=America/New_York:20260531T080000
DTEND;TZID=America/New_York:20260531T100000
DTSTAMP:20260420T010246
CREATED:20260206T133642Z
LAST-MODIFIED:20260419T224158Z
UID:10001076-1780214400-1780221600@ottawarowingclub.com
SUMMARY:Club
DESCRIPTION:
URL:https://ottawarowingclub.com/event/club-4/
CATEGORIES:Club Rowing
END:VEVENT
END:VCALENDAR