BEGIN:VCALENDAR
VERSION:2.0
PRODID:-//Ottawa Rowing Club - ECPv6.15.20//NONSGML v1.0//EN
CALSCALE:GREGORIAN
METHOD:PUBLISH
X-ORIGINAL-URL:https://ottawarowingclub.com
X-WR-CALDESC:Events for Ottawa Rowing Club
REFRESH-INTERVAL;VALUE=DURATION:PT1H
X-Robots-Tag:noindex
X-PUBLISHED-TTL:PT1H
BEGIN:VTIMEZONE
TZID:America/New_York
BEGIN:DAYLIGHT
TZOFFSETFROM:-0500
TZOFFSETTO:-0400
TZNAME:EDT
DTSTART:20250309T070000
END:DAYLIGHT
BEGIN:STANDARD
TZOFFSETFROM:-0400
TZOFFSETTO:-0500
TZNAME:EST
DTSTART:20251102T060000
END:STANDARD
BEGIN:DAYLIGHT
TZOFFSETFROM:-0500
TZOFFSETTO:-0400
TZNAME:EDT
DTSTART:20260308T070000
END:DAYLIGHT
BEGIN:STANDARD
TZOFFSETFROM:-0400
TZOFFSETTO:-0500
TZNAME:EST
DTSTART:20261101T060000
END:STANDARD
BEGIN:DAYLIGHT
TZOFFSETFROM:-0500
TZOFFSETTO:-0400
TZNAME:EDT
DTSTART:20270314T070000
END:DAYLIGHT
BEGIN:STANDARD
TZOFFSETFROM:-0400
TZOFFSETTO:-0500
TZNAME:EST
DTSTART:20271107T060000
END:STANDARD
END:VTIMEZONE
BEGIN:VEVENT
DTSTART;TZID=America/New_York:20260623T180000
DTEND;TZID=America/New_York:20260623T203000
DTSTAMP:20260420T032959
CREATED:20260115T203155Z
LAST-MODIFIED:20260417T184156Z
UID:10000324-1782237600-1782246600@ottawarowingclub.com
SUMMARY:Adult Rowing League - Tuesday Crew Practice
DESCRIPTION:
URL:https://ottawarowingclub.com/event/adult-rowing-league-tuesday-crew-practice-6/
CATEGORIES:Adult Rowing League
END:VEVENT
BEGIN:VEVENT
DTSTART;TZID=America/New_York:20260624T180000
DTEND;TZID=America/New_York:20260624T203000
DTSTAMP:20260420T032959
CREATED:20260115T203156Z
LAST-MODIFIED:20260417T184156Z
UID:10000325-1782324000-1782333000@ottawarowingclub.com
SUMMARY:Adult Rowing League - Wednesday Crew Practice
DESCRIPTION:
URL:https://ottawarowingclub.com/event/adult-rowing-league-wednesday-crew-practice-6/
CATEGORIES:Adult Rowing League
END:VEVENT
BEGIN:VEVENT
DTSTART;TZID=America/New_York:20260625T180000
DTEND;TZID=America/New_York:20260625T203000
DTSTAMP:20260420T032959
CREATED:20260115T203156Z
LAST-MODIFIED:20260417T184157Z
UID:10000326-1782410400-1782419400@ottawarowingclub.com
SUMMARY:Adult Rowing League - Thursday Crew Practice
DESCRIPTION:
URL:https://ottawarowingclub.com/event/adult-rowing-league-thursday-crew-practice-6/
CATEGORIES:Adult Rowing League
END:VEVENT
BEGIN:VEVENT
DTSTART;TZID=America/New_York:20260702T180000
DTEND;TZID=America/New_York:20260702T210000
DTSTAMP:20260420T032959
CREATED:20260115T203156Z
LAST-MODIFIED:20260417T184157Z
UID:10000327-1783015200-1783026000@ottawarowingclub.com
SUMMARY:Adult Rowing League Race Night
DESCRIPTION:
URL:https://ottawarowingclub.com/event/adult-rowing-league-race-night/
CATEGORIES:Adult Rowing League
END:VEVENT
BEGIN:VEVENT
DTSTART;TZID=America/New_York:20260709T180000
DTEND;TZID=America/New_York:20260709T210000
DTSTAMP:20260420T032959
CREATED:20260115T203156Z
LAST-MODIFIED:20260417T184157Z
UID:10000328-1783620000-1783630800@ottawarowingclub.com
SUMMARY:Adult Rowing League Race Night
DESCRIPTION:
URL:https://ottawarowingclub.com/event/adult-rowing-league-race-night-2/
CATEGORIES:Adult Rowing League
END:VEVENT
BEGIN:VEVENT
DTSTART;TZID=America/New_York:20260716T180000
DTEND;TZID=America/New_York:20260716T210000
DTSTAMP:20260420T032959
CREATED:20260115T203209Z
LAST-MODIFIED:20260417T184157Z
UID:10000329-1784224800-1784235600@ottawarowingclub.com
SUMMARY:Adult Rowing League Race Night
DESCRIPTION:
URL:https://ottawarowingclub.com/event/adult-rowing-league-race-night-3/
CATEGORIES:Adult Rowing League
END:VEVENT
BEGIN:VEVENT
DTSTART;TZID=America/New_York:20260723T180000
DTEND;TZID=America/New_York:20260723T210000
DTSTAMP:20260420T032959
CREATED:20260115T203209Z
LAST-MODIFIED:20260417T184157Z
UID:10000330-1784829600-1784840400@ottawarowingclub.com
SUMMARY:Adult Rowing League Race Night
DESCRIPTION:
URL:https://ottawarowingclub.com/event/adult-rowing-league-race-night-4/
CATEGORIES:Adult Rowing League
END:VEVENT
END:VCALENDAR