BEGIN:VCALENDAR
VERSION:2.0
PRODID:-//Ottawa Rowing Club - ECPv6.15.20//NONSGML v1.0//EN
CALSCALE:GREGORIAN
METHOD:PUBLISH
X-ORIGINAL-URL:https://ottawarowingclub.com
X-WR-CALDESC:Events for Ottawa Rowing Club
REFRESH-INTERVAL;VALUE=DURATION:PT1H
X-Robots-Tag:noindex
X-PUBLISHED-TTL:PT1H
BEGIN:VTIMEZONE
TZID:America/New_York
BEGIN:DAYLIGHT
TZOFFSETFROM:-0500
TZOFFSETTO:-0400
TZNAME:EDT
DTSTART:20250309T070000
END:DAYLIGHT
BEGIN:STANDARD
TZOFFSETFROM:-0400
TZOFFSETTO:-0500
TZNAME:EST
DTSTART:20251102T060000
END:STANDARD
BEGIN:DAYLIGHT
TZOFFSETFROM:-0500
TZOFFSETTO:-0400
TZNAME:EDT
DTSTART:20260308T070000
END:DAYLIGHT
BEGIN:STANDARD
TZOFFSETFROM:-0400
TZOFFSETTO:-0500
TZNAME:EST
DTSTART:20261101T060000
END:STANDARD
BEGIN:DAYLIGHT
TZOFFSETFROM:-0500
TZOFFSETTO:-0400
TZNAME:EDT
DTSTART:20270314T070000
END:DAYLIGHT
BEGIN:STANDARD
TZOFFSETFROM:-0400
TZOFFSETTO:-0500
TZNAME:EST
DTSTART:20271107T060000
END:STANDARD
END:VTIMEZONE
BEGIN:VEVENT
DTSTART;TZID=America/New_York:20260616T180000
DTEND;TZID=America/New_York:20260616T200000
DTSTAMP:20260420T013241
CREATED:20260206T133515Z
LAST-MODIFIED:20260420T044138Z
UID:10001041-1781632800-1781640000@ottawarowingclub.com
SUMMARY:Adult Learn to Row Session 1
DESCRIPTION:Session 1 – Day 1
URL:https://ottawarowingclub.com/event/adult-learn-to-row-session-1/
CATEGORIES:Adult Learn to Row
END:VEVENT
BEGIN:VEVENT
DTSTART;TZID=America/New_York:20260618T180000
DTEND;TZID=America/New_York:20260618T200000
DTSTAMP:20260420T013241
CREATED:20260206T133515Z
LAST-MODIFIED:20260420T044138Z
UID:10001042-1781805600-1781812800@ottawarowingclub.com
SUMMARY:Adult Learn to Row Session 1
DESCRIPTION:Session 1 – Day 2
URL:https://ottawarowingclub.com/event/adult-learn-to-row-session-1-2/
CATEGORIES:Adult Learn to Row
END:VEVENT
BEGIN:VEVENT
DTSTART;TZID=America/New_York:20260619T180000
DTEND;TZID=America/New_York:20260619T200000
DTSTAMP:20260420T013241
CREATED:20260206T133515Z
LAST-MODIFIED:20260420T044138Z
UID:10001043-1781892000-1781899200@ottawarowingclub.com
SUMMARY:Adult Learn to Row Session 1
DESCRIPTION:Session 1 – Day 3
URL:https://ottawarowingclub.com/event/adult-learn-to-row-session-1-3/
CATEGORIES:Adult Learn to Row
END:VEVENT
END:VCALENDAR